BEGIN:VCALENDAR
VERSION:2.0
PRODID:-//Saint Mark&#039;s Episcopal Cathedral - ECPv6.2.9//NONSGML v1.0//EN
CALSCALE:GREGORIAN
METHOD:PUBLISH
X-ORIGINAL-URL:https://saintmarks.org
X-WR-CALDESC:Events for Saint Mark&#039;s Episcopal Cathedral
REFRESH-INTERVAL;VALUE=DURATION:PT1H
X-Robots-Tag:noindex
X-PUBLISHED-TTL:PT1H
BEGIN:VTIMEZONE
TZID:America/Los_Angeles
BEGIN:DAYLIGHT
TZOFFSETFROM:-0800
TZOFFSETTO:-0700
TZNAME:PDT
DTSTART:20240310T100000
END:DAYLIGHT
BEGIN:STANDARD
TZOFFSETFROM:-0700
TZOFFSETTO:-0800
TZNAME:PST
DTSTART:20241103T090000
END:STANDARD
END:VTIMEZONE
BEGIN:VEVENT
DTSTART;TZID=America/Los_Angeles:20240204T080000
DTEND;TZID=America/Los_Angeles:20240204T090000
DTSTAMP:20240108T220257
CREATED:20231231T015722Z
LAST-MODIFIED:20231231T015827Z
UID:10057620-1707033600-1707037200@saintmarks.org
SUMMARY:Holy Eucharist (8)
DESCRIPTION:A spoken service of Holy Eucharist in Thomsen Chapel\, with sermon and hymns.
URL:https://saintmarks.org/calendar/holy-eucharist-8-2/2024-02-04/
LOCATION:Thomsen Chapel
END:VEVENT
BEGIN:VEVENT
DTSTART;TZID=America/Los_Angeles:20240204T090000
DTEND;TZID=America/Los_Angeles:20240204T100000
DTSTAMP:20240108T220257
CREATED:20210602T232903Z
LAST-MODIFIED:20220930T012826Z
UID:10019049-1707037200-1707040800@saintmarks.org
SUMMARY:Holy Eucharist (9)
DESCRIPTION:Liturgy with sermon and hymns. Music is offered by Saint Mark’s Singers or children’s choirs. \nChildren’s Chapel is offered during the 9 a.m. service. After the Gospel is proclaimed\, children pre-school through 2nd grade are invited to Thomsen Chapel for Bible stories\, singing\, and prayer. Parents are welcome to join their children. They return at the Peace. \nLocation: Cathedral Nave \nThis service is not livestreamed.
URL:https://saintmarks.org/calendar/9-a-m-holy-eucharist/2024-02-04/
LOCATION:Cathedral Nave
END:VEVENT
BEGIN:VEVENT
DTSTART;TZID=America/Los_Angeles:20240204T100000
DTEND;TZID=America/Los_Angeles:20240204T110000
DTSTAMP:20240108T220257
CREATED:20230923T220630Z
LAST-MODIFIED:20240104T231228Z
UID:10027459-1707040800-1707044400@saintmarks.org
SUMMARY:Godly Play
DESCRIPTION:For ages 3 and up. \nOn the first and thirds Sundays of the month\, between the 9 and 11 a.m. services\, gather in the classroom on the 2nd floor of the St Nicholas Building for storytelling\, wondering\, and listening\, using the Montessori-based Godly Play curriculum. \nNote: no meeting on January 7\, 2024
URL:https://saintmarks.org/calendar/godly-play-2/2024-02-04/
LOCATION:St. Nicholas Bldg.\, 2nd floor
END:VEVENT
BEGIN:VEVENT
DTSTART;TZID=America/Los_Angeles:20240204T110000
DTEND;TZID=America/Los_Angeles:20240204T120000
DTSTAMP:20240108T220257
CREATED:20201110T162207Z
LAST-MODIFIED:20211107T053351Z
UID:10021635-1707044400-1707048000@saintmarks.org
SUMMARY:Holy Eucharist (11)
DESCRIPTION:Liturgy and music reflecting the breadth and depth of the Episcopal tradition\, with Scripture\, sermon\, hymns\, and choral anthems. \nWorship in person or online at saintmarks.org/livestream — also streams simultaneously at facebook.com/SaintMarksSeattle  and at youtube.com/c/SaintMarksEpiscopalCathedralSeattle/
URL:https://saintmarks.org/calendar/11-a-m-holy-eucharist-livestream/2024-02-04/
END:VEVENT
BEGIN:VEVENT
DTSTART;TZID=America/Los_Angeles:20240204T123000
DTEND;TZID=America/Los_Angeles:20240204T133000
DTSTAMP:20240108T220257
CREATED:20210101T054943Z
LAST-MODIFIED:20231118T014716Z
UID:10027849-1707049800-1707053400@saintmarks.org
SUMMARY:Newcomers' Coffee Hour with Clergy
DESCRIPTION:IMMEDIATELY FOLLOING THE CONCLUSION OF THE 11 A.M. SERVICE \nFor many years\, a Newcomers’ Coffee with Clergy has been offered on the first Sunday of each month\, for guests\, newcomers\, and anyone with questions about this community and its liturgies. Gather in the back of the nave immediately following the 11 a.m. Sunday service on the first Sunday of the month.* \n*Note: There will be no newcomers’ coffee in December 2023. The next offering will be January 7\, 2024. \nEmail newcomers@saintmarks.org if you cannot attend in person\, or with any other questions.
URL:https://saintmarks.org/calendar/1215-p-m-newcomers-coffee-hour-with-clergy/2024-02-04/
LOCATION:Leffler Living Room
END:VEVENT
BEGIN:VEVENT
DTSTART;TZID=America/Los_Angeles:20240204T123000
DTEND;TZID=America/Los_Angeles:20240204T143000
DTSTAMP:20240108T220257
CREATED:20230602T214909Z
LAST-MODIFIED:20231231T043705Z
UID:10023997-1707049800-1707057000@saintmarks.org
SUMMARY:Annual Parish Meeting
DESCRIPTION:All cathedral parish communicants in good standing are encouraged to attend the Annual Parish Meeting at which we will elect new vestry members\, delegates to Diocesan Convention\, and vote to amend the by-laws to confirm to recent changes to the Washington Non-Profit Corporation Act. We will also celebrate our common life\, and Dean Thomason will share Pro Christo Awards and a Cathedral Cross to individuals. \nMore information TBA
URL:https://saintmarks.org/calendar/annual-parish-meeting-3/
LOCATION:Bloedel Hall
END:VEVENT
BEGIN:VEVENT
DTSTART;TZID=America/Los_Angeles:20240204T163000
DTEND;TZID=America/Los_Angeles:20240204T173000
DTSTAMP:20240108T220257
CREATED:20230914T070146Z
LAST-MODIFIED:20230914T070316Z
UID:10027420-1707064200-1707067800@saintmarks.org
SUMMARY:Choral Evensong
DESCRIPTION:FIRST SUNDAY OF THE MONTH\, OCTOBER–JUNE\, 4:30 P.M.\, in person in the cathedral nave\, and livestreamed \n\n\n\nThe ancient practice of singing evening prayers is a longstanding practice in many Christian traditions. In English cathedrals\, this practice developed\, through the centuries\, into a special sung service\, and today Choral Evensong is a treasure among Christian liturgies and a jewel of the Anglican choral tradition. \nThe Saint Mark’s Evensong Choir\, an intergenerational choir of children\, teenagers\, and adults\, offers this beautiful service once a month. All are welcome. \n\n\n\nLearn more at: saintmarks.org/evensong \n\nEvensong Services\, 2023–24\n\nOCTOBER 1\, 2023 – The Feast of Saint Michael and All Angels (transferred)\nNOVEMBER 5\, 2023 – The Feast of All Saints (transferred)\n\n[On December 3\, 2023\, Evensong is replaced by the annual “O” Antiphons Advent liturgy]\n\nJANUARY 7\, 2024 – The First Sunday after the Epiphany\nFEBRUARY 4\, 2024 – The Presentation of Christ in the Temple (transferred)\nMARCH 3 – The Third Sunday in Lent\nAPRIL 2 – The Second Sunday of Easter\nMAY 7 – The Sixth Sunday of Easter\nJUNE 4 – Second Sunday after Pentecost (special Evensong offered by the Compline Choir)
URL:https://saintmarks.org/calendar/choral-evensong-20/2024-02-04/
END:VEVENT
BEGIN:VEVENT
DTSTART;TZID=America/Los_Angeles:20240204T173000
DTEND;TZID=America/Los_Angeles:20240204T190000
DTSTAMP:20240108T220257
CREATED:20230923T022246Z
LAST-MODIFIED:20231231T051051Z
UID:10058595-1707067800-1707073200@saintmarks.org
SUMMARY:Queer Conversations
DESCRIPTION:FOLLOWING EVENSONG ON THE FIRST SUNDAY OF THE MONTH\, 5:30 P.M.\, Cathedral House Room 210 \nJoin the Queer in Christ ministry after Choral Evensong for “Queer Conversations”. We will meet following the conclusion of Evensong in Leffler Living Room\, for refreshment\, fellowship\, and a discussion on a variety of topics. \n\n\n\n\n\n\n\n\nOCTOBER 1\, 2023: We will be joined by Communications Director Gregory Bloch\, who will lead us in a fascinating conversation about the queer history of Saint Mark’s.\nNOVEMBER 5\, 2023: We will discuss the saints in our tradition that have been embraced by the queer community (including Vida Dutton Scudder\, Marina the Monk\, Perpetua and Felicity\, and Simeon Bachos)\, as well as those holy people who have been saints to us in our own lives.\nDECEMBER 3\, 2023: no meeting due to the “O” Antiphons Liturgy\nJANUARY 7\, 2024: We will be joined by Canon Daugherty\, and Rachel and Russ Crosbie as co-facilitators of the conversation\, discussing how queer people can find meaning in religious expression while also honoring their gender\, gender identity\, and orientation\, and how the church’s theology affirms and nurtures this integration.\nFEBRUARY 4: Michael Garrett (MS\, CCM)\, a health equity and case/care management consultant\, who will lead a conversation about LGBTQ+ healthcare\nMARCH 3: The Reverend Linzi Stahlecker will lead a conversation about grief.
URL:https://saintmarks.org/calendar/queer-conversations/2024-02-04/
LOCATION:Cathedral House Room 210
END:VEVENT
BEGIN:VEVENT
DTSTART;TZID=America/Los_Angeles:20240204T190000
DTEND;TZID=America/Los_Angeles:20240204T200000
DTSTAMP:20240108T220257
CREATED:20230611T042556Z
LAST-MODIFIED:20231118T041505Z
UID:10027866-1707073200-1707076800@saintmarks.org
SUMMARY:Contemplative Eucharist
DESCRIPTION:This evening Eucharist offers periods of silence for reflection\, simple meditative music\, and lots of candlelight. \nAnointing and healing blessings are offered after the service. Learn more here.
URL:https://saintmarks.org/calendar/contemplative-eucharist-101/2024-02-04/
LOCATION:Thomsen Chapel
END:VEVENT
BEGIN:VEVENT
DTSTART;TZID=America/Los_Angeles:20240204T213000
DTEND;TZID=America/Los_Angeles:20240204T220000
DTSTAMP:20240108T220257
CREATED:20231231T020240Z
LAST-MODIFIED:20231231T020436Z
UID:10057672-1707082200-1707084000@saintmarks.org
SUMMARY:The Office of Compline
DESCRIPTION:A beloved Seattle institution since 1956\, the all-male Compline Choir sings the last monastic office of the day every Sunday at 9:30 p.m. \nThe service is broadcast live each week on KING 98.1 FM\, or streaming at king.org. \nThe service is livestreamed on the cathedral’s livestream page\, or on complinechoir.org\, or on Facebook: facebook.com/SaintMarksSeattle or facebook.com/complinechoir or on YouTube: youtube.com/c/SaintMarksEpiscopalCathedralSeattle \nVideo of recent services may be seen on the Compline page.  \nThe service is also available as a podcast. To hear each week’s service on-demand\, search for “Saint Mark’s Compline” wherever you get you podcasts\, or visit complinepodcast.org. \nLearn more on the Compline page of this website\, or at  complinechoir.org.
URL:https://saintmarks.org/calendar/the-office-of-compline/2024-02-04/
LOCATION:Cathedral Nave
END:VEVENT
END:VCALENDAR