BEGIN:VCALENDAR
VERSION:2.0
PRODID:-//Saint Mark&#039;s Episcopal Cathedral - ECPv6.2.9//NONSGML v1.0//EN
CALSCALE:GREGORIAN
METHOD:PUBLISH
X-ORIGINAL-URL:https://saintmarks.org
X-WR-CALDESC:Events for Saint Mark&#039;s Episcopal Cathedral
REFRESH-INTERVAL;VALUE=DURATION:PT1H
X-Robots-Tag:noindex
X-PUBLISHED-TTL:PT1H
BEGIN:VTIMEZONE
TZID:America/Los_Angeles
BEGIN:DAYLIGHT
TZOFFSETFROM:-0800
TZOFFSETTO:-0700
TZNAME:PDT
DTSTART:20240310T100000
END:DAYLIGHT
BEGIN:STANDARD
TZOFFSETFROM:-0700
TZOFFSETTO:-0800
TZNAME:PST
DTSTART:20241103T090000
END:STANDARD
END:VTIMEZONE
BEGIN:VEVENT
DTSTART;TZID=America/Los_Angeles:20240225T080000
DTEND;TZID=America/Los_Angeles:20240225T090000
DTSTAMP:20240108T220338
CREATED:20231231T015722Z
LAST-MODIFIED:20231231T015827Z
UID:10057623-1708848000-1708851600@saintmarks.org
SUMMARY:Holy Eucharist (8)
DESCRIPTION:A spoken service of Holy Eucharist in Thomsen Chapel\, with sermon and hymns.
URL:https://saintmarks.org/calendar/holy-eucharist-8-2/2024-02-25/
LOCATION:Thomsen Chapel
END:VEVENT
BEGIN:VEVENT
DTSTART;TZID=America/Los_Angeles:20240225T090000
DTEND;TZID=America/Los_Angeles:20240225T100000
DTSTAMP:20240108T220338
CREATED:20210602T232903Z
LAST-MODIFIED:20220930T012826Z
UID:10019052-1708851600-1708855200@saintmarks.org
SUMMARY:Holy Eucharist (9)
DESCRIPTION:Liturgy with sermon and hymns. Music is offered by Saint Mark’s Singers or children’s choirs. \nChildren’s Chapel is offered during the 9 a.m. service. After the Gospel is proclaimed\, children pre-school through 2nd grade are invited to Thomsen Chapel for Bible stories\, singing\, and prayer. Parents are welcome to join their children. They return at the Peace. \nLocation: Cathedral Nave \nThis service is not livestreamed.
URL:https://saintmarks.org/calendar/9-a-m-holy-eucharist/2024-02-25/
LOCATION:Cathedral Nave
END:VEVENT
BEGIN:VEVENT
DTSTART;TZID=America/Los_Angeles:20240225T110000
DTEND;TZID=America/Los_Angeles:20240225T120000
DTSTAMP:20240108T220338
CREATED:20201110T162207Z
LAST-MODIFIED:20211107T053351Z
UID:10021638-1708858800-1708862400@saintmarks.org
SUMMARY:Holy Eucharist (11)
DESCRIPTION:Liturgy and music reflecting the breadth and depth of the Episcopal tradition\, with Scripture\, sermon\, hymns\, and choral anthems. \nWorship in person or online at saintmarks.org/livestream — also streams simultaneously at facebook.com/SaintMarksSeattle  and at youtube.com/c/SaintMarksEpiscopalCathedralSeattle/
URL:https://saintmarks.org/calendar/11-a-m-holy-eucharist-livestream/2024-02-25/
END:VEVENT
BEGIN:VEVENT
DTSTART;TZID=America/Los_Angeles:20240225T150000
DTEND;TZID=America/Los_Angeles:20240225T170000
DTSTAMP:20240108T220338
CREATED:20230726T214840Z
LAST-MODIFIED:20231005T213244Z
UID:10025938-1708873200-1708880400@saintmarks.org
SUMMARY:Hallock at 100
DESCRIPTION:SATURDAY\, FEBRUARY 24\, 2024\, 7:30 P.M. \nSUNDAY\, FEBRUARY 25\, 2024\, 3 P.M. \n(TWO IDENTICAL PERFORMANCES) \n\nThese concerts\, featuring The Compline Choir\, the Byrd Ensemble\, acclaimed countertenor José Luis Muñoz\, and a parley of instruments\, will launch the centenary year of Peter Hallock’s birth. Programs will include music spanning the Renaissance to the present day\, along with a selection of Hallock’s own compositions\, and a song cycle for countertenor. \n  \nTickets available here. \nMore information about the Peter R. Hallock Institute here.
URL:https://saintmarks.org/calendar/hallock-at-100/
LOCATION:Cathedral Nave
END:VEVENT
BEGIN:VEVENT
DTSTART;TZID=America/Los_Angeles:20240225T190000
DTEND;TZID=America/Los_Angeles:20240225T200000
DTSTAMP:20240108T220338
CREATED:20230611T042556Z
LAST-MODIFIED:20231118T041505Z
UID:10027869-1708887600-1708891200@saintmarks.org
SUMMARY:Contemplative Eucharist
DESCRIPTION:This evening Eucharist offers periods of silence for reflection\, simple meditative music\, and lots of candlelight. \nAnointing and healing blessings are offered after the service. Learn more here.
URL:https://saintmarks.org/calendar/contemplative-eucharist-101/2024-02-25/
LOCATION:Thomsen Chapel
END:VEVENT
BEGIN:VEVENT
DTSTART;TZID=America/Los_Angeles:20240225T213000
DTEND;TZID=America/Los_Angeles:20240225T220000
DTSTAMP:20240108T220338
CREATED:20231231T020240Z
LAST-MODIFIED:20231231T020436Z
UID:10057675-1708896600-1708898400@saintmarks.org
SUMMARY:The Office of Compline
DESCRIPTION:A beloved Seattle institution since 1956\, the all-male Compline Choir sings the last monastic office of the day every Sunday at 9:30 p.m. \nThe service is broadcast live each week on KING 98.1 FM\, or streaming at king.org. \nThe service is livestreamed on the cathedral’s livestream page\, or on complinechoir.org\, or on Facebook: facebook.com/SaintMarksSeattle or facebook.com/complinechoir or on YouTube: youtube.com/c/SaintMarksEpiscopalCathedralSeattle \nVideo of recent services may be seen on the Compline page.  \nThe service is also available as a podcast. To hear each week’s service on-demand\, search for “Saint Mark’s Compline” wherever you get you podcasts\, or visit complinepodcast.org. \nLearn more on the Compline page of this website\, or at  complinechoir.org.
URL:https://saintmarks.org/calendar/the-office-of-compline/2024-02-25/
LOCATION:Cathedral Nave
END:VEVENT
END:VCALENDAR