BEGIN:VCALENDAR
VERSION:2.0
PRODID:-//Saint Mark&#039;s Episcopal Cathedral - ECPv6.2.9//NONSGML v1.0//EN
CALSCALE:GREGORIAN
METHOD:PUBLISH
X-WR-CALNAME:Saint Mark&#039;s Episcopal Cathedral
X-ORIGINAL-URL:https://saintmarks.org
X-WR-CALDESC:Events for Saint Mark&#039;s Episcopal Cathedral
REFRESH-INTERVAL;VALUE=DURATION:PT1H
X-Robots-Tag:noindex
X-PUBLISHED-TTL:PT1H
BEGIN:VTIMEZONE
TZID:America/Los_Angeles
BEGIN:DAYLIGHT
TZOFFSETFROM:-0800
TZOFFSETTO:-0700
TZNAME:PDT
DTSTART:20240310T100000
END:DAYLIGHT
BEGIN:STANDARD
TZOFFSETFROM:-0700
TZOFFSETTO:-0800
TZNAME:PST
DTSTART:20241103T090000
END:STANDARD
END:VTIMEZONE
BEGIN:VEVENT
DTSTART;TZID=America/Los_Angeles:20240227T083000
DTEND;TZID=America/Los_Angeles:20240227T090000
DTSTAMP:20240108T220245
CREATED:20231231T020742Z
LAST-MODIFIED:20231231T020853Z
UID:10057761-1709022600-1709024400@saintmarks.org
SUMMARY:Morning Prayer Online
DESCRIPTION:MONDAY–FRIDAY\, 8:30 A.M.\, ONLINE ONLY VIA ZOOM \nDaily Morning Prayer is offered by St. Paul’s\, Seattle\, weekdays at 8:30 a.m. Members of the cathedral community are encouraged to participate. Learn more here. \nMorning Prayer may be cancelled on holidays or for other reasons. Check St. Paul’s calendar for the most accurate information. \nJoin Morning Prayer using this Zoom link.
URL:https://saintmarks.org/calendar/morning-prayer-online-2/2024-02-27/
LOCATION:Online via Zoom
END:VEVENT
BEGIN:VEVENT
DTSTART;TZID=America/Los_Angeles:20240227T120000
DTEND;TZID=America/Los_Angeles:20240227T133000
DTSTAMP:20240108T220245
CREATED:20231231T022926Z
LAST-MODIFIED:20231231T023039Z
UID:10058252-1709035200-1709040600@saintmarks.org
SUMMARY:Tuesday Noon Bible Study (online)
DESCRIPTION:EVERY TUESDAY\, 12–1:30 P.M.\, online via Zoom only \n \nThis group provides a weekly conversation around the scripture readings for the following Sunday. Each week a discussion is facilitated by rotating guest leaders\, and lively conversation ensues as people share their thoughts about the lessons. The group meets from 12–1:30 p.m. for study and prayer over the lectionary\, led by a rotating member of the cathedral staff and clergy. (Join early at 11:30 for social time and chat.) \nContact biblestudy@saintmarks.org for more information and to get the Zoom link to join online.
URL:https://saintmarks.org/calendar/tuesday-noon-bible-study-online/2024-02-27/
LOCATION:Online via Zoom
END:VEVENT
BEGIN:VEVENT
DTSTART;TZID=America/Los_Angeles:20240227T180000
DTEND;TZID=America/Los_Angeles:20240227T183000
DTSTAMP:20240108T220245
CREATED:20231231T022223Z
LAST-MODIFIED:20231231T022322Z
UID:10058023-1709056800-1709058600@saintmarks.org
SUMMARY:Evening Prayer Online
DESCRIPTION:MONDAY THROUGH FRIDAY\, 6 P.M. \nLay readers from Seattle-area congregations including the cathedral lead a spoken service of daily prayer following the form of the Book of Common Prayer 1979\, every weekday evening at 6 p.m. The service lasts approximately 30 minutes. Learn more here. \nJoin online using this Zoom link.
URL:https://saintmarks.org/calendar/evening-prayer-online-3/2024-02-27/
LOCATION:Online via Zoom
END:VEVENT
BEGIN:VEVENT
DTSTART;TZID=America/Los_Angeles:20240227T190000
DTEND;TZID=America/Los_Angeles:20240227T200000
DTSTAMP:20240108T220246
CREATED:20230901T224843Z
LAST-MODIFIED:20240104T002433Z
UID:10027308-1709060400-1709064000@saintmarks.org
SUMMARY:Contemplative Prayer
DESCRIPTION:MOST TUESDAYS\, 7–8 P.M.\, in the cathedral nave \nNOTE: Contemplative Prayer is cancelled on December 19 & 26. \nCentering Prayer gatherings have relaunched as Contemplative Prayer. The gatherings will still begin with a period of silent meditation\, followed by discussions on a variety of contemplative practices including Centering Prayer \nThis time of meditative prayer is open to anyone who yearns for a time to simply sit in the presence of the Divine—whether you sit regularly and miss doing it with others\, are curious\, or think you can’t do it\, come\, sit together and talk about it. There is no doing it right or wrong; there is only doing it. Read more here. These sessions will be led by Phil Fox Rose\, who was introduced to centering prayer by Cynthia Bourgeault in the early 90s and has been practicing and sharing it ever since. Email Phil with questions: phil@philfoxrose.com \nNote: Contemplative Prayer is always suspended on the Tuesdays when a Taizé service is offered\, and occasionally for other events in the nave. 
URL:https://saintmarks.org/calendar/contemplative-prayer/2024-02-27/
LOCATION:Cathedral Nave
END:VEVENT
BEGIN:VEVENT
DTSTART;TZID=America/Los_Angeles:20240227T190000
DTEND;TZID=America/Los_Angeles:20240227T200000
DTSTAMP:20240108T220246
CREATED:20231231T030046Z
LAST-MODIFIED:20231231T030242Z
UID:10058409-1709060400-1709064000@saintmarks.org
SUMMARY:*Alcoholics Anonymous (Knuckleheads)
DESCRIPTION:Knuckleheads (CLOSED)\nMeeting information \nMen only. In-person and online. \nTuesday\, 7:00 pm to 8:00 pm \n\nIn-person\nOnline\nClosed\nMen\nOne Hour\n\nMore information here. \nClosed meetings are for A.A. members only\, or for those who have a drinking problem and “have a desire to stop drinking.” \nThis meeting is being held in person and on zoom.
URL:https://saintmarks.org/calendar/alcoholics-anonymous-knuckleheads/2024-02-27/
LOCATION:Bloedel Hall
END:VEVENT
END:VCALENDAR