BEGIN:VCALENDAR
VERSION:2.0
PRODID:-//Saint Mark&#039;s Episcopal Cathedral - ECPv6.2.9//NONSGML v1.0//EN
CALSCALE:GREGORIAN
METHOD:PUBLISH
X-ORIGINAL-URL:https://saintmarks.org
X-WR-CALDESC:Events for Saint Mark&#039;s Episcopal Cathedral
REFRESH-INTERVAL;VALUE=DURATION:PT1H
X-Robots-Tag:noindex
X-PUBLISHED-TTL:PT1H
BEGIN:VTIMEZONE
TZID:America/Los_Angeles
BEGIN:DAYLIGHT
TZOFFSETFROM:-0800
TZOFFSETTO:-0700
TZNAME:PDT
DTSTART:20240310T100000
END:DAYLIGHT
BEGIN:STANDARD
TZOFFSETFROM:-0700
TZOFFSETTO:-0800
TZNAME:PST
DTSTART:20241103T090000
END:STANDARD
END:VTIMEZONE
BEGIN:VEVENT
DTSTART;TZID=America/Los_Angeles:20240202T193000
DTEND;TZID=America/Los_Angeles:20240202T213000
DTSTAMP:20240108T235341
CREATED:20230724T211222Z
LAST-MODIFIED:20230806T184335Z
UID:10025934-1706902200-1706909400@saintmarks.org
SUMMARY:James Kealey Organ Concert
DESCRIPTION:FRIDAY\, FEBRUARY 2\, 2024\, 7:30 P.M. \nFlentrop Organ Concert\nJames Kealey\, organ\nOrganist James Kealey will return to play the Flentrop Organ\, the instrument on which he competed in the final round and won the American Guild of Organists’ National Young Artists Competition in Organ Performance in July 2022 \n  \nTickets available here.
URL:https://saintmarks.org/calendar/james-kealey-organ-concert/
LOCATION:Cathedral Nave
CATEGORIES:Music
END:VEVENT
END:VCALENDAR