BEGIN:VCALENDAR
VERSION:2.0
PRODID:-//Saint Mark&#039;s Episcopal Cathedral - ECPv6.15.20//NONSGML v1.0//EN
CALSCALE:GREGORIAN
METHOD:PUBLISH
X-WR-CALNAME:Saint Mark&#039;s Episcopal Cathedral
X-ORIGINAL-URL:https://saintmarks.org
X-WR-CALDESC:Events for Saint Mark&#039;s Episcopal Cathedral
REFRESH-INTERVAL;VALUE=DURATION:PT1H
X-Robots-Tag:noindex
X-PUBLISHED-TTL:PT1H
BEGIN:VTIMEZONE
TZID:America/Los_Angeles
BEGIN:DAYLIGHT
TZOFFSETFROM:-0800
TZOFFSETTO:-0700
TZNAME:PDT
DTSTART:20240310T100000
END:DAYLIGHT
BEGIN:STANDARD
TZOFFSETFROM:-0700
TZOFFSETTO:-0800
TZNAME:PST
DTSTART:20241103T090000
END:STANDARD
BEGIN:DAYLIGHT
TZOFFSETFROM:-0800
TZOFFSETTO:-0700
TZNAME:PDT
DTSTART:20250309T100000
END:DAYLIGHT
BEGIN:STANDARD
TZOFFSETFROM:-0700
TZOFFSETTO:-0800
TZNAME:PST
DTSTART:20251102T090000
END:STANDARD
BEGIN:DAYLIGHT
TZOFFSETFROM:-0800
TZOFFSETTO:-0700
TZNAME:PDT
DTSTART:20260308T100000
END:DAYLIGHT
BEGIN:STANDARD
TZOFFSETFROM:-0700
TZOFFSETTO:-0800
TZNAME:PST
DTSTART:20261101T090000
END:STANDARD
END:VTIMEZONE
BEGIN:VEVENT
DTSTART;TZID=America/Los_Angeles:20250402T173000
DTEND;TZID=America/Los_Angeles:20250402T180000
DTSTAMP:20260421T030317
CREATED:20250228T031602Z
LAST-MODIFIED:20250228T031602Z
UID:10063168-1743615000-1743616800@saintmarks.org
SUMMARY:In-person Evening Prayer
DESCRIPTION:In-Person Morning and Evening Prayer\, Tuesdays and Wednesdays in Lent\nTUESDAYS IN LENT (March 11–April 15)\, 8:15–8:45 A.M.\, in Thomsen Chapel \nWEDNESDAYS IN LENT (March 12–April 9)\, 5:30–6 P.M.\, in McCaw Chapel (behind the altar in the cathedral nave) \nHosted by 20s/30s Group—All are welcome \nDuring Lent\, the 20s/30s Group invites all who are interested in deepening their experience of the Daily Office by joining them for morning or evening prayer together in person. Gather in Thomsen Chapel on Tuesdays at 8:15 a.m. for Morning Prayer and Wednesdays at 5:30 p.m. for Evening Prayer in McCaw Chapel. Questions? Email julia7cooper@gmail.com
URL:https://saintmarks.org/calendar/in-person-evening-prayer/2025-04-02/
LOCATION:McCaw Chapel (in the cathedral nave)
END:VEVENT
BEGIN:VEVENT
DTSTART;TZID=America/Los_Angeles:20250402T180000
DTEND;TZID=America/Los_Angeles:20250402T183000
DTSTAMP:20260421T030317
CREATED:20241114T174742Z
LAST-MODIFIED:20260311T131025Z
UID:10061514-1743616800-1743618600@saintmarks.org
SUMMARY:Evening Prayer Online
DESCRIPTION:MONDAY THROUGH FRIDAY\, 6 P.M. \nLay readers from Seattle-area congregations including the cathedral lead a spoken service of daily prayer following the form of the Book of Common Prayer 1979\, every weekday evening at 6 p.m. The service lasts approximately 30 minutes. Learn more here. \nJoin online using this Zoom link. \n\n\n\nEvening Prayer is always cancelled when the cathedral office is closed for holidays or other reasons\, or when a special liturgy is being offered in the nave on a weekday evening.
URL:https://saintmarks.org/calendar/evening-prayer-online/2025-04-02/
LOCATION:Online via Zoom
END:VEVENT
END:VCALENDAR