BEGIN:VCALENDAR
VERSION:2.0
PRODID:-//Saint Mark&#039;s Episcopal Cathedral - ECPv6.15.20//NONSGML v1.0//EN
CALSCALE:GREGORIAN
METHOD:PUBLISH
X-WR-CALNAME:Saint Mark&#039;s Episcopal Cathedral
X-ORIGINAL-URL:https://saintmarks.org
X-WR-CALDESC:Events for Saint Mark&#039;s Episcopal Cathedral
REFRESH-INTERVAL;VALUE=DURATION:PT1H
X-Robots-Tag:noindex
X-PUBLISHED-TTL:PT1H
BEGIN:VTIMEZONE
TZID:America/Los_Angeles
BEGIN:DAYLIGHT
TZOFFSETFROM:-0800
TZOFFSETTO:-0700
TZNAME:PDT
DTSTART:20240310T100000
END:DAYLIGHT
BEGIN:STANDARD
TZOFFSETFROM:-0700
TZOFFSETTO:-0800
TZNAME:PST
DTSTART:20241103T090000
END:STANDARD
BEGIN:DAYLIGHT
TZOFFSETFROM:-0800
TZOFFSETTO:-0700
TZNAME:PDT
DTSTART:20250309T100000
END:DAYLIGHT
BEGIN:STANDARD
TZOFFSETFROM:-0700
TZOFFSETTO:-0800
TZNAME:PST
DTSTART:20251102T090000
END:STANDARD
BEGIN:DAYLIGHT
TZOFFSETFROM:-0800
TZOFFSETTO:-0700
TZNAME:PDT
DTSTART:20260308T100000
END:DAYLIGHT
BEGIN:STANDARD
TZOFFSETFROM:-0700
TZOFFSETTO:-0800
TZNAME:PST
DTSTART:20261101T090000
END:STANDARD
END:VTIMEZONE
BEGIN:VEVENT
DTSTART;TZID=America/Los_Angeles:20250403T073000
DTEND;TZID=America/Los_Angeles:20250403T083000
DTSTAMP:20260421T013411
CREATED:20241114T181226Z
LAST-MODIFIED:20251012T020324Z
UID:10062963-1743665400-1743669000@saintmarks.org
SUMMARY:Thursday Morning Chapel Eucharist
DESCRIPTION:1st\, 3rd\, & 5th THURSDAYS OF THE MONTH:\nTHE HOLY EUCHARIST\, IN-PERSON IN THOMSEN CHAPEL \nStarting in January 2025\, the Thursday Morning Chapel Eucharist will move to 7:30 a.m. \nOn the 2nd & 4th Thursdays of the month\, the Thursday Morning congregation now meets with Daily Morning Prayer at 7:30 a.m.. \n \nAt 7:30 a.m. on the first\, third\, and fifth Thursdays of the month\, an in-person service of Holy Eucharist offered in Thomsen Chapel. Fellowship and a community breakfast follow the service. \nUPDATE: The regular Thursday morning attendees have decided that their online service on the second and fourth Sundays of the month should merge with the online Daily Morning Prayer Group. On those Thursdays when there is not an in-person Eucharist\, gather online at 7:30 (rather than 7) using the normal Daily Office link. There will still be time available for checking in and chatting following the liturgy. All are welcome! \n 
URL:https://saintmarks.org/calendar/thursday-morning-chapel-eucharist-5/2025-04-03/
LOCATION:Thomsen Chapel
END:VEVENT
BEGIN:VEVENT
DTSTART;TZID=America/Los_Angeles:20250403T180000
DTEND;TZID=America/Los_Angeles:20250403T183000
DTSTAMP:20260421T013411
CREATED:20241114T174742Z
LAST-MODIFIED:20260311T131025Z
UID:10061515-1743703200-1743705000@saintmarks.org
SUMMARY:Evening Prayer Online
DESCRIPTION:MONDAY THROUGH FRIDAY\, 6 P.M. \nLay readers from Seattle-area congregations including the cathedral lead a spoken service of daily prayer following the form of the Book of Common Prayer 1979\, every weekday evening at 6 p.m. The service lasts approximately 30 minutes. Learn more here. \nJoin online using this Zoom link. \n\n\n\nEvening Prayer is always cancelled when the cathedral office is closed for holidays or other reasons\, or when a special liturgy is being offered in the nave on a weekday evening.
URL:https://saintmarks.org/calendar/evening-prayer-online/2025-04-03/
LOCATION:Online via Zoom
END:VEVENT
BEGIN:VEVENT
DTSTART;TZID=America/Los_Angeles:20250403T190000
DTEND;TZID=America/Los_Angeles:20250403T203000
DTSTAMP:20260421T013411
CREATED:20240730T155510Z
LAST-MODIFIED:20250331T190729Z
UID:10060258-1743706800-1743712200@saintmarks.org
SUMMARY:Pádraig Ó Tuama: The Better Angels of Our Nature
DESCRIPTION:THURSDAY\, APRIL 3\, 2025\, 7–8:30 P.M.\, in person in the cathedral nave and livestreamed \nUPDATE: Due to the number of registrations\, this event will be offered in the cathedral nave rather than Bloedel Hall. A livestream will be available to registrants as announced previously.  \n\n\n\nUPDATED DESCRIPTION: We live in fraught times when violence seems to be the common denominator in a calculus based in mistrust and misanthropic othering. An eye for an eye leaves the whole world blind… Drawing on inspiration from his work with language and religion\, conflict and peacemaking\, this truth-teller of our time will draw us into an orbit of soulful wisdom and poetic grace. \nFee: $15 (for in-person and livestream participation). \nRegister using this link. \nAdvance registration is now closed. You can present and pay at the door on Thursday still.
URL:https://saintmarks.org/calendar/padraig-o-tuama-poetry-and-place/
LOCATION:Cathedral Nave
CATEGORIES:The Wisdom School
END:VEVENT
END:VCALENDAR