BEGIN:VCALENDAR
VERSION:2.0
PRODID:-//Saint Mark&#039;s Episcopal Cathedral - ECPv6.15.20//NONSGML v1.0//EN
CALSCALE:GREGORIAN
METHOD:PUBLISH
X-WR-CALNAME:Saint Mark&#039;s Episcopal Cathedral
X-ORIGINAL-URL:https://saintmarks.org
X-WR-CALDESC:Events for Saint Mark&#039;s Episcopal Cathedral
REFRESH-INTERVAL;VALUE=DURATION:PT1H
X-Robots-Tag:noindex
X-PUBLISHED-TTL:PT1H
BEGIN:VTIMEZONE
TZID:America/Los_Angeles
BEGIN:DAYLIGHT
TZOFFSETFROM:-0800
TZOFFSETTO:-0700
TZNAME:PDT
DTSTART:20250309T100000
END:DAYLIGHT
BEGIN:STANDARD
TZOFFSETFROM:-0700
TZOFFSETTO:-0800
TZNAME:PST
DTSTART:20251102T090000
END:STANDARD
BEGIN:DAYLIGHT
TZOFFSETFROM:-0800
TZOFFSETTO:-0700
TZNAME:PDT
DTSTART:20260308T100000
END:DAYLIGHT
BEGIN:STANDARD
TZOFFSETFROM:-0700
TZOFFSETTO:-0800
TZNAME:PST
DTSTART:20261101T090000
END:STANDARD
BEGIN:DAYLIGHT
TZOFFSETFROM:-0800
TZOFFSETTO:-0700
TZNAME:PDT
DTSTART:20270314T100000
END:DAYLIGHT
BEGIN:STANDARD
TZOFFSETFROM:-0700
TZOFFSETTO:-0800
TZNAME:PST
DTSTART:20271107T090000
END:STANDARD
END:VTIMEZONE
BEGIN:VEVENT
DTSTART;VALUE=DATE:20260329
DTEND;VALUE=DATE:20260406
DTSTAMP:20260422T044025
CREATED:20260311T130225Z
LAST-MODIFIED:20260311T130225Z
UID:10065246-1774760400-1775365199@saintmarks.org
SUMMARY:HOLY WEEK
DESCRIPTION:More information at saintmarks.org/worship/lent-holy-week-easter-at-saint-marks-2026/
URL:https://saintmarks.org/calendar/holy-week-3/
END:VEVENT
BEGIN:VEVENT
DTSTART;VALUE=DATE:20260402
DTEND;VALUE=DATE:20260406
DTSTAMP:20260422T044026
CREATED:20260311T130316Z
LAST-MODIFIED:20260311T130316Z
UID:10065247-1775106000-1775365199@saintmarks.org
SUMMARY:TRIDUUM: THE SACRED THREE DAYS
DESCRIPTION:April 2: Maundy Thursday \n7 p.m.  •  Maundy Thursday Liturgy  \nApril 3: Good Friday \n11 a.m.  •  Stations of the Cross Liturgy  \n12 p.m. •  Good Friday Liturgy  \n7 p.m.  •  Good Friday Liturgy  \nApril 4: Holy Saturday  \n12 p.m.  •  Holy Saturday Liturgy \n8:30 p.m.  •  The Great Vigil of Easter 
URL:https://saintmarks.org/calendar/triduum-the-sacred-three-days-2/
END:VEVENT
BEGIN:VEVENT
DTSTART;TZID=America/Los_Angeles:20260402T073000
DTEND;TZID=America/Los_Angeles:20260402T080000
DTSTAMP:20260422T044026
CREATED:20250626T212619Z
LAST-MODIFIED:20250626T212648Z
UID:10063890-1775115000-1775116800@saintmarks.org
SUMMARY:Morning Prayer Online
DESCRIPTION:Daily Morning Prayer\n \nMONDAY–FRIDAY\, 7:30-8 A.M.\, via Zoom\n \nCome just as you are to Morning Prayer on weekday mornings\, on Zoom\, following the form of the Book of Common Prayer 1979. All are welcome\, whether you’re still in your pj’s\, joining from your workplace\, or listening on the move. No former experience with the Daily Office is necessary. \nJoin Morning Prayer using this Zoom link.
URL:https://saintmarks.org/calendar/morning-prayer-online/2026-04-02/
LOCATION:Online via Zoom
END:VEVENT
BEGIN:VEVENT
DTSTART;TZID=America/Los_Angeles:20260402T073000
DTEND;TZID=America/Los_Angeles:20260402T083000
DTSTAMP:20260422T044026
CREATED:20241114T181226Z
LAST-MODIFIED:20251012T020324Z
UID:10064422-1775115000-1775118600@saintmarks.org
SUMMARY:Thursday Morning Chapel Eucharist
DESCRIPTION:1st\, 3rd\, & 5th THURSDAYS OF THE MONTH:\nTHE HOLY EUCHARIST\, IN-PERSON IN THOMSEN CHAPEL \nStarting in January 2025\, the Thursday Morning Chapel Eucharist will move to 7:30 a.m. \nOn the 2nd & 4th Thursdays of the month\, the Thursday Morning congregation now meets with Daily Morning Prayer at 7:30 a.m.. \n \nAt 7:30 a.m. on the first\, third\, and fifth Thursdays of the month\, an in-person service of Holy Eucharist offered in Thomsen Chapel. Fellowship and a community breakfast follow the service. \nUPDATE: The regular Thursday morning attendees have decided that their online service on the second and fourth Sundays of the month should merge with the online Daily Morning Prayer Group. On those Thursdays when there is not an in-person Eucharist\, gather online at 7:30 (rather than 7) using the normal Daily Office link. There will still be time available for checking in and chatting following the liturgy. All are welcome! \n 
URL:https://saintmarks.org/calendar/thursday-morning-chapel-eucharist-5/2026-04-02/
LOCATION:Thomsen Chapel
END:VEVENT
BEGIN:VEVENT
DTSTART;TZID=America/Los_Angeles:20260402T190000
DTEND;TZID=America/Los_Angeles:20260402T210000
DTSTAMP:20260422T044026
CREATED:20260311T131838Z
LAST-MODIFIED:20260311T131838Z
UID:10065256-1775156400-1775163600@saintmarks.org
SUMMARY:Maundy Thursday Liturgy
DESCRIPTION:THURSDAY\, APRIL 2\, 7 P.M.\, in the cathedral nave and livestreamed \nIn person in the cathedral nave and livestreamed. We remember the Last Supper and Jesus’ final teachings to his friends. Liturgy of The Word; Washing of Feet; Holy Eucharist. The service concludes with the Stripping of the Altar.
URL:https://saintmarks.org/calendar/maundy-thursday-liturgy/
LOCATION:Cathedral Nave
END:VEVENT
BEGIN:VEVENT
DTSTART;TZID=America/Los_Angeles:20260402T210000
DTEND;TZID=America/Los_Angeles:20260403T090000
DTSTAMP:20260422T044026
CREATED:20260311T130432Z
LAST-MODIFIED:20260312T125516Z
UID:10065248-1775163600-1775206800@saintmarks.org
SUMMARY:Vigil at the Altar of Repose
DESCRIPTION:Begins at the conclusion the Maundy Thursday Service\, ends Friday morning  \nBread and wine consecrated at the Maundy Thursday liturgy are left on the altar in McCaw until sunrise on Friday\, and all are invited to spend an hour or more in prayer\, inspired by Jesus’ words in the Garden of Gethsemane\, “could you not stay awake with me one hour?”  \nSIGN UP FOR A PRAYER SLOT by March 29
URL:https://saintmarks.org/calendar/vigil-at-the-altar-of-repose-2/
END:VEVENT
END:VCALENDAR