BEGIN:VCALENDAR
VERSION:2.0
PRODID:-//Saint Mark&#039;s Episcopal Cathedral - ECPv6.15.20//NONSGML v1.0//EN
CALSCALE:GREGORIAN
METHOD:PUBLISH
X-WR-CALNAME:Saint Mark&#039;s Episcopal Cathedral
X-ORIGINAL-URL:https://saintmarks.org
X-WR-CALDESC:Events for Saint Mark&#039;s Episcopal Cathedral
REFRESH-INTERVAL;VALUE=DURATION:PT1H
X-Robots-Tag:noindex
X-PUBLISHED-TTL:PT1H
BEGIN:VTIMEZONE
TZID:America/Los_Angeles
BEGIN:DAYLIGHT
TZOFFSETFROM:-0800
TZOFFSETTO:-0700
TZNAME:PDT
DTSTART:20250309T100000
END:DAYLIGHT
BEGIN:STANDARD
TZOFFSETFROM:-0700
TZOFFSETTO:-0800
TZNAME:PST
DTSTART:20251102T090000
END:STANDARD
BEGIN:DAYLIGHT
TZOFFSETFROM:-0800
TZOFFSETTO:-0700
TZNAME:PDT
DTSTART:20260308T100000
END:DAYLIGHT
BEGIN:STANDARD
TZOFFSETFROM:-0700
TZOFFSETTO:-0800
TZNAME:PST
DTSTART:20261101T090000
END:STANDARD
BEGIN:DAYLIGHT
TZOFFSETFROM:-0800
TZOFFSETTO:-0700
TZNAME:PDT
DTSTART:20270314T100000
END:DAYLIGHT
BEGIN:STANDARD
TZOFFSETFROM:-0700
TZOFFSETTO:-0800
TZNAME:PST
DTSTART:20271107T090000
END:STANDARD
END:VTIMEZONE
BEGIN:VEVENT
DTSTART;TZID=America/Los_Angeles:20260412T080000
DTEND;TZID=America/Los_Angeles:20260412T090000
DTSTAMP:20260422T043800
CREATED:20231231T015722Z
LAST-MODIFIED:20250520T192821Z
UID:10063585-1775980800-1775984400@saintmarks.org
SUMMARY:Holy Eucharist (8)
DESCRIPTION:A spoken service of Holy Eucharist in Thomsen Chapel\, with sermon and hymns.
URL:https://saintmarks.org/calendar/holy-eucharist-8-2/2026-04-12/
LOCATION:Thomsen Chapel
END:VEVENT
BEGIN:VEVENT
DTSTART;TZID=America/Los_Angeles:20260412T090000
DTEND;TZID=America/Los_Angeles:20260412T100000
DTSTAMP:20260422T043800
CREATED:20210602T232903Z
LAST-MODIFIED:20250409T051755Z
UID:10058769-1775984400-1775988000@saintmarks.org
SUMMARY:Holy Eucharist (9)
DESCRIPTION:Liturgy with sermon and hymns. Music is offered by Saint Mark’s Singers or children’s choirs. \nChildren’s Chapel is offered during the 9 a.m. service. After the Gospel is proclaimed\, children pre-school through 2nd grade are invited to Thomsen Chapel for Bible stories\, singing\, and prayer. Parents are welcome to join their children. They return at the Peace. \nLocation: Cathedral Nave \nThis service is not livestreamed.
URL:https://saintmarks.org/calendar/9-a-m-holy-eucharist/2026-04-12/
LOCATION:Cathedral Nave
END:VEVENT
BEGIN:VEVENT
DTSTART;TZID=America/Los_Angeles:20260412T100000
DTEND;TZID=America/Los_Angeles:20260412T110000
DTSTAMP:20260422T043800
CREATED:20250912T072557Z
LAST-MODIFIED:20251114T190438Z
UID:10064334-1775988000-1775991600@saintmarks.org
SUMMARY:Godly Play
DESCRIPTION:FIRST AND THIRD SUNDAY OF THE MONTH\, SEPTEMBER–JUNE (except in November 2025 and April 2026\, when it will meet on the second and third Sundays)\, 10–11 A.M.\, in the Godly Play classrooms on the 2nd floor of the St. Nicholas Bldg.  \nBetween services on Sunday mornings\, we create space for children from preschool through elementary school (age 3 up to 5th grade) to deeply experience the texts and stories of the Bible that make us Christian people and form our faith\, and also to grow in community with each other and caring adults. Using steadfastly non-digital modalities\, we tell the stories and then make space for the children to make the stories their own for life by using the materials or art to expand\, retell\, and experience the stories in their own ways. For example\, it’s magical to watch children self-organize to collectively create a “crucifixion and Easter scape” by finding and arranging materials from the room to arrange in a box of sand to exemplify all of Holy Week! We use the Godly Play curriculum. Class sessions are held generally on the 1st and 3rd Sundays of each month during the school year. \nLearn more and find a complete schedule and registration link here. \n\nParents and Toddlers Room\nWhenever Godly Play is being offered on Sunday morning on the second floor of the St Nicholas Bldg\, the Parents and Toddlers Room is open and available at the same time on the first floor. This is for kids under three\, and parents must remain with their children. A room host (with Safe Church training) is on hand to welcome you and your little one\, along with age appropriate toys and books\, a carpet for crawlers\, and a table and chairs. Please contact Canon Barrie for more information or to help support this ministry: wbarrie@saintmarks.org
URL:https://saintmarks.org/calendar/godly-play-2/2026-04-12/
LOCATION:St. Nicholas Bldg.\, 2nd floor
END:VEVENT
BEGIN:VEVENT
DTSTART;TZID=America/Los_Angeles:20260412T110000
DTEND;TZID=America/Los_Angeles:20260412T120000
DTSTAMP:20260422T043800
CREATED:20201110T162207Z
LAST-MODIFIED:20250409T051809Z
UID:10058964-1775991600-1775995200@saintmarks.org
SUMMARY:Holy Eucharist (11)
DESCRIPTION:Liturgy and music reflecting the breadth and depth of the Episcopal tradition\, with Scripture\, sermon\, hymns\, and choral anthems. \nWorship in person or online at saintmarks.org/livestream — also streams simultaneously at facebook.com/SaintMarksSeattle  and at youtube.com/c/SaintMarksEpiscopalCathedralSeattle/
URL:https://saintmarks.org/calendar/11-a-m-holy-eucharist-livestream/2026-04-12/
END:VEVENT
BEGIN:VEVENT
DTSTART;TZID=America/Los_Angeles:20260412T190000
DTEND;TZID=America/Los_Angeles:20260412T200000
DTSTAMP:20260422T043800
CREATED:20250520T192720Z
LAST-MODIFIED:20250520T192720Z
UID:10063562-1776020400-1776024000@saintmarks.org
SUMMARY:Contemplative Eucharist
DESCRIPTION:EVERY SUNDAY\, 7 P.M. (SEPTEMBER–JUNE)\, Thomsen Chapel  \n \nThis evening Eucharist offers periods of silence for reflection\, simple meditative music\, and lots of candlelight. \nAnointing and healing blessings are offered after the service. Learn more here. \nNOTE: in 2025 Contemplative Eucharist is cancelled on November 30 due to the O Antiphons liturgy in the nave at that time. On December 21\, the Contemplative Eucharist will be a special service offered especially for those for whom the Holiday season is a difficult or painful time.
URL:https://saintmarks.org/calendar/contemplative-eucharist/2026-04-12/
LOCATION:Thomsen Chapel
END:VEVENT
BEGIN:VEVENT
DTSTART;TZID=America/Los_Angeles:20260412T213000
DTEND;TZID=America/Los_Angeles:20260412T220000
DTSTAMP:20260422T043800
CREATED:20260106T141848Z
LAST-MODIFIED:20260106T142015Z
UID:10065046-1776029400-1776031200@saintmarks.org
SUMMARY:The Office of Compline
DESCRIPTION:EVERY SUNDAY\, 9:30 P.M. in the cathedral nave\, livestreamed\, and broadcast on Classical KING \nA beloved Seattle institution since 1956\, the all-male Compline Choir sings the last monastic office of the day every Sunday at 9:30 p.m. \nThe service is broadcast live each week on KING 98.1 FM\, or streaming at king.org. \nThe service is also available as a podcast. To hear each week’s service on-demand\, search for “Saint Mark’s Compline” wherever you get you podcasts\, or visit complinepodcast.org. \nLearn more on the Compline page of this website\, or at  complinechoir.org.
URL:https://saintmarks.org/calendar/the-office-of-compline-5/2026-04-12/
LOCATION:Cathedral Nave
CATEGORIES:Music,Worship
END:VEVENT
END:VCALENDAR