BEGIN:VCALENDAR
VERSION:2.0
PRODID:-//Saint Mark&#039;s Episcopal Cathedral - ECPv6.15.20//NONSGML v1.0//EN
CALSCALE:GREGORIAN
METHOD:PUBLISH
X-WR-CALNAME:Saint Mark&#039;s Episcopal Cathedral
X-ORIGINAL-URL:https://saintmarks.org
X-WR-CALDESC:Events for Saint Mark&#039;s Episcopal Cathedral
REFRESH-INTERVAL;VALUE=DURATION:PT1H
X-Robots-Tag:noindex
X-PUBLISHED-TTL:PT1H
BEGIN:VTIMEZONE
TZID:America/Los_Angeles
BEGIN:DAYLIGHT
TZOFFSETFROM:-0800
TZOFFSETTO:-0700
TZNAME:PDT
DTSTART:20250309T100000
END:DAYLIGHT
BEGIN:STANDARD
TZOFFSETFROM:-0700
TZOFFSETTO:-0800
TZNAME:PST
DTSTART:20251102T090000
END:STANDARD
BEGIN:DAYLIGHT
TZOFFSETFROM:-0800
TZOFFSETTO:-0700
TZNAME:PDT
DTSTART:20260308T100000
END:DAYLIGHT
BEGIN:STANDARD
TZOFFSETFROM:-0700
TZOFFSETTO:-0800
TZNAME:PST
DTSTART:20261101T090000
END:STANDARD
BEGIN:DAYLIGHT
TZOFFSETFROM:-0800
TZOFFSETTO:-0700
TZNAME:PDT
DTSTART:20270314T100000
END:DAYLIGHT
BEGIN:STANDARD
TZOFFSETFROM:-0700
TZOFFSETTO:-0800
TZNAME:PST
DTSTART:20271107T090000
END:STANDARD
END:VTIMEZONE
BEGIN:VEVENT
DTSTART;TZID=America/Los_Angeles:20260419T080000
DTEND;TZID=America/Los_Angeles:20260419T090000
DTSTAMP:20260421T013424
CREATED:20231231T015722Z
LAST-MODIFIED:20250520T192821Z
UID:10063586-1776585600-1776589200@saintmarks.org
SUMMARY:Holy Eucharist (8)
DESCRIPTION:A spoken service of Holy Eucharist in Thomsen Chapel\, with sermon and hymns.
URL:https://saintmarks.org/calendar/holy-eucharist-8-2/2026-04-19/
LOCATION:Thomsen Chapel
END:VEVENT
BEGIN:VEVENT
DTSTART;TZID=America/Los_Angeles:20260419T090000
DTEND;TZID=America/Los_Angeles:20260419T100000
DTSTAMP:20260421T013424
CREATED:20210602T232903Z
LAST-MODIFIED:20250409T051755Z
UID:10058770-1776589200-1776592800@saintmarks.org
SUMMARY:Holy Eucharist (9)
DESCRIPTION:Liturgy with sermon and hymns. Music is offered by Saint Mark’s Singers or children’s choirs. \nChildren’s Chapel is offered during the 9 a.m. service. After the Gospel is proclaimed\, children pre-school through 2nd grade are invited to Thomsen Chapel for Bible stories\, singing\, and prayer. Parents are welcome to join their children. They return at the Peace. \nLocation: Cathedral Nave \nThis service is not livestreamed.
URL:https://saintmarks.org/calendar/9-a-m-holy-eucharist/2026-04-19/
LOCATION:Cathedral Nave
END:VEVENT
BEGIN:VEVENT
DTSTART;TZID=America/Los_Angeles:20260419T100000
DTEND;TZID=America/Los_Angeles:20260419T110000
DTSTAMP:20260421T013424
CREATED:20250912T072557Z
LAST-MODIFIED:20251114T190438Z
UID:10064335-1776592800-1776596400@saintmarks.org
SUMMARY:Godly Play
DESCRIPTION:FIRST AND THIRD SUNDAY OF THE MONTH\, SEPTEMBER–JUNE (except in November 2025 and April 2026\, when it will meet on the second and third Sundays)\, 10–11 A.M.\, in the Godly Play classrooms on the 2nd floor of the St. Nicholas Bldg.  \nBetween services on Sunday mornings\, we create space for children from preschool through elementary school (age 3 up to 5th grade) to deeply experience the texts and stories of the Bible that make us Christian people and form our faith\, and also to grow in community with each other and caring adults. Using steadfastly non-digital modalities\, we tell the stories and then make space for the children to make the stories their own for life by using the materials or art to expand\, retell\, and experience the stories in their own ways. For example\, it’s magical to watch children self-organize to collectively create a “crucifixion and Easter scape” by finding and arranging materials from the room to arrange in a box of sand to exemplify all of Holy Week! We use the Godly Play curriculum. Class sessions are held generally on the 1st and 3rd Sundays of each month during the school year. \nLearn more and find a complete schedule and registration link here. \n\nParents and Toddlers Room\nWhenever Godly Play is being offered on Sunday morning on the second floor of the St Nicholas Bldg\, the Parents and Toddlers Room is open and available at the same time on the first floor. This is for kids under three\, and parents must remain with their children. A room host (with Safe Church training) is on hand to welcome you and your little one\, along with age appropriate toys and books\, a carpet for crawlers\, and a table and chairs. Please contact Canon Barrie for more information or to help support this ministry: wbarrie@saintmarks.org
URL:https://saintmarks.org/calendar/godly-play-2/2026-04-19/
LOCATION:St. Nicholas Bldg.\, 2nd floor
END:VEVENT
BEGIN:VEVENT
DTSTART;TZID=America/Los_Angeles:20260419T101000
DTEND;TZID=America/Los_Angeles:20260419T105000
DTSTAMP:20260421T013424
CREATED:20250123T232550Z
LAST-MODIFIED:20260114T140617Z
UID:10065093-1776593400-1776595800@saintmarks.org
SUMMARY:Middle School Donuts & Discussion
DESCRIPTION:THIRD SUNDAY OF THE MONTH\, 10:10 A.M.\, Leffler House Living Room \n(Meets on the fifth Sunday in May 2026) \nSaint Mark’s youth 6th through 8th grade\, come to Leffler House between the 9 and 11 a.m. services for donuts and discussion. Email Rebekah Gilmore with questions: rgilmore@saintmarks.org
URL:https://saintmarks.org/calendar/middle-school-donuts-discussion-3/2026-04-19/
LOCATION:Leffler Living Room
END:VEVENT
BEGIN:VEVENT
DTSTART;TZID=America/Los_Angeles:20260419T110000
DTEND;TZID=America/Los_Angeles:20260419T120000
DTSTAMP:20260421T013424
CREATED:20201110T162207Z
LAST-MODIFIED:20250409T051809Z
UID:10058965-1776596400-1776600000@saintmarks.org
SUMMARY:Holy Eucharist (11)
DESCRIPTION:Liturgy and music reflecting the breadth and depth of the Episcopal tradition\, with Scripture\, sermon\, hymns\, and choral anthems. \nWorship in person or online at saintmarks.org/livestream — also streams simultaneously at facebook.com/SaintMarksSeattle  and at youtube.com/c/SaintMarksEpiscopalCathedralSeattle/
URL:https://saintmarks.org/calendar/11-a-m-holy-eucharist-livestream/2026-04-19/
END:VEVENT
BEGIN:VEVENT
DTSTART;TZID=America/Los_Angeles:20260419T123000
DTEND;TZID=America/Los_Angeles:20260419T140000
DTSTAMP:20260421T013424
CREATED:20250904T190657Z
LAST-MODIFIED:20260212T141213Z
UID:10064228-1776601800-1776607200@saintmarks.org
SUMMARY:Third Acters Potluck
DESCRIPTION:THIRD SUNDAY OF THE MONTH\, 12:30 P.M.\, in Leffler House \nThe monthly Third Acter Potluck—for anyone age 60 and above—is an opportunity to join in community with one another\, exchange stories\, give and receive support\, and know joy! Bring a dish or snack to share if you can. \nQuestions? Contact Elizabeth Clark-Stern (ecstern@yahoo.com) or Kathy Minsch (kminsch@gmail.com)
URL:https://saintmarks.org/calendar/third-acters-potluck-2-2-2/2026-04-19/
LOCATION:Leffler House 2nd Floor Retreat Rooms
END:VEVENT
BEGIN:VEVENT
DTSTART;TZID=America/Los_Angeles:20260419T150000
DTEND;TZID=America/Los_Angeles:20260419T163000
DTSTAMP:20260421T013424
CREATED:20260304T135847Z
LAST-MODIFIED:20260304T135915Z
UID:10065237-1776610800-1776616200@saintmarks.org
SUMMARY:Middle School Bowling
DESCRIPTION:T​he St. Mark’s Middle School youth (6th-8th grade) are going bowling together on Sunday\, April 19. This is a schedule change. Sign up and come join us!\n\nSunday\, April 19  3:00 – 4:30PM\n\n*Meet at west Seattle Bowl (4505 39th Ave SW\, Seattle\, WA 98116)\nPlease RSVP here.\nCost: $15 cash or Venmo @SaintMarksCathedralSeattle to cover lane and shoe rental and note “Middle School Bowling”.
URL:https://saintmarks.org/calendar/middle-school-bowling/
LOCATION:West Seattle Bowl\, 4505 39th Ave SW\, Seattle\, WA\, 98116
CATEGORIES:Youth
END:VEVENT
BEGIN:VEVENT
DTSTART;TZID=America/Los_Angeles:20260419T190000
DTEND;TZID=America/Los_Angeles:20260419T200000
DTSTAMP:20260421T013424
CREATED:20250520T192720Z
LAST-MODIFIED:20250520T192720Z
UID:10063563-1776625200-1776628800@saintmarks.org
SUMMARY:Contemplative Eucharist
DESCRIPTION:EVERY SUNDAY\, 7 P.M. (SEPTEMBER–JUNE)\, Thomsen Chapel  \n \nThis evening Eucharist offers periods of silence for reflection\, simple meditative music\, and lots of candlelight. \nAnointing and healing blessings are offered after the service. Learn more here. \nNOTE: in 2025 Contemplative Eucharist is cancelled on November 30 due to the O Antiphons liturgy in the nave at that time. On December 21\, the Contemplative Eucharist will be a special service offered especially for those for whom the Holiday season is a difficult or painful time.
URL:https://saintmarks.org/calendar/contemplative-eucharist/2026-04-19/
LOCATION:Thomsen Chapel
END:VEVENT
BEGIN:VEVENT
DTSTART;TZID=America/Los_Angeles:20260419T190000
DTEND;TZID=America/Los_Angeles:20260419T200000
DTSTAMP:20260421T013424
CREATED:20260416T125939Z
LAST-MODIFIED:20260416T125939Z
UID:10065336-1776625200-1776628800@saintmarks.org
SUMMARY:Radix Opening Plenary: Prophetic Voices in Scripture
DESCRIPTION:OPENING PLENARY: SUNDAY\, APRIL 19\, 2026\, 7 P.M.\, via Zoom\, no registration required \nWhile the deadline for registering to participate in a Radix 16 small group has passed\, all are warmly invited to join the Radix Planning Team for a plenary conversation on Sunday\, April 19 from 7-8 pm on Zoom only as we discuss the theme\, Prophetic Voices in Scripture\, and its relevance for us now. \nIn the introduction to his 2025 book\, The Tears of Things: Prophetic Wisdom for an Age of Outrage\, Franciscan priest Richard Rohr describes the biblical prophets this way: “Besides being truth tellers\, they were radical change agents\, messengers of divine revelation\, teachers of a moral alternative\, and deconstructors of every prevailing order. Both Isaiah 21 and Ezekiel 3 describe a prophet as a ‘sentry’ or a ‘watcher\,’ whose job is to hold Israel maddeningly honest\, and to stop them from relying on arms\, money\, lies\, and power to keep themselves safe and in control.” \nThe role of the prophet then and now is not to engage a political side but to hold society accountable to those who are most vulnerable\, to lament how we have failed God and each other\, and to point to a better way forward. \nThe prophet Micah speaking to the people of Israel in a time of false prophets\, corrupt leaders\, and a misled people reminds us that we already know what God wants most. \n“He has told you\, human one\, what is good and what the Lord requires from you: to do justice\, embrace faithful love\, and walk humbly with your God.” Micah 6:8 (CEB) \nWe welcome your engagement with us on this timely topic! \n🔗 Plenary Zoom link (open to all)
URL:https://saintmarks.org/calendar/radix-opening-plenary-prophetic-voices-in-scripture/
LOCATION:Online via Zoom
CATEGORIES:Radix Project
END:VEVENT
BEGIN:VEVENT
DTSTART;TZID=America/Los_Angeles:20260419T213000
DTEND;TZID=America/Los_Angeles:20260419T220000
DTSTAMP:20260421T013424
CREATED:20260106T141848Z
LAST-MODIFIED:20260106T142015Z
UID:10065047-1776634200-1776636000@saintmarks.org
SUMMARY:The Office of Compline
DESCRIPTION:EVERY SUNDAY\, 9:30 P.M. in the cathedral nave\, livestreamed\, and broadcast on Classical KING \nA beloved Seattle institution since 1956\, the all-male Compline Choir sings the last monastic office of the day every Sunday at 9:30 p.m. \nThe service is broadcast live each week on KING 98.1 FM\, or streaming at king.org. \nThe service is also available as a podcast. To hear each week’s service on-demand\, search for “Saint Mark’s Compline” wherever you get you podcasts\, or visit complinepodcast.org. \nLearn more on the Compline page of this website\, or at  complinechoir.org.
URL:https://saintmarks.org/calendar/the-office-of-compline-5/2026-04-19/
LOCATION:Cathedral Nave
CATEGORIES:Music,Worship
END:VEVENT
BEGIN:VEVENT
DTSTART;TZID=America/Los_Angeles:20260419T221000
DTEND;TZID=America/Los_Angeles:20260419T223000
DTSTAMP:20260421T013424
CREATED:20240906T222857Z
LAST-MODIFIED:20250612T194631Z
UID:10060487-1776636600-1776637800@saintmarks.org
SUMMARY:Organ by Night (10:10 p.m)
DESCRIPTION:THIRD SUNDAY OF EACH MONTH\, 10:10 P.M. (immediately following Compline)\, in the cathedral nave and in the organ loft \nThe tradition of informal mini-concerts on the Flentrop following Compline have introduced generations of Seattleites to the power and beauty of a real pipe organ. All are welcome to listen in the nave\, or join the organist in the loft to see what playing an instrument of this size is really like. (The radio program The Organ Loft\, which airs on KING-FM immediately following Compline each week\, was inspired by this tradition.) A Q&A in the loft usually follows the performance. \nFind a list of past and upcoming recitalists here. \nThe new iteration of this offering\, called Organ by Night\, will be offered once a month\, on the third Sunday of each month.
URL:https://saintmarks.org/calendar/organ-by-night-new/2026-04-19/
LOCATION:Cathedral Nave
CATEGORIES:Music
END:VEVENT
END:VCALENDAR