BEGIN:VCALENDAR
VERSION:2.0
PRODID:-//Saint Mark&#039;s Episcopal Cathedral - ECPv6.15.20//NONSGML v1.0//EN
CALSCALE:GREGORIAN
METHOD:PUBLISH
X-ORIGINAL-URL:https://saintmarks.org
X-WR-CALDESC:Events for Saint Mark&#039;s Episcopal Cathedral
REFRESH-INTERVAL;VALUE=DURATION:PT1H
X-Robots-Tag:noindex
X-PUBLISHED-TTL:PT1H
BEGIN:VTIMEZONE
TZID:America/Los_Angeles
BEGIN:DAYLIGHT
TZOFFSETFROM:-0800
TZOFFSETTO:-0700
TZNAME:PDT
DTSTART:20250309T100000
END:DAYLIGHT
BEGIN:STANDARD
TZOFFSETFROM:-0700
TZOFFSETTO:-0800
TZNAME:PST
DTSTART:20251102T090000
END:STANDARD
BEGIN:DAYLIGHT
TZOFFSETFROM:-0800
TZOFFSETTO:-0700
TZNAME:PDT
DTSTART:20260308T100000
END:DAYLIGHT
BEGIN:STANDARD
TZOFFSETFROM:-0700
TZOFFSETTO:-0800
TZNAME:PST
DTSTART:20261101T090000
END:STANDARD
BEGIN:DAYLIGHT
TZOFFSETFROM:-0800
TZOFFSETTO:-0700
TZNAME:PDT
DTSTART:20270314T100000
END:DAYLIGHT
BEGIN:STANDARD
TZOFFSETFROM:-0700
TZOFFSETTO:-0800
TZNAME:PST
DTSTART:20271107T090000
END:STANDARD
END:VTIMEZONE
BEGIN:VEVENT
DTSTART;TZID=America/Los_Angeles:20260502T090000
DTEND;TZID=America/Los_Angeles:20260502T120000
DTSTAMP:20260422T045157
CREATED:20250828T134821Z
LAST-MODIFIED:20260223T140413Z
UID:10064160-1777712400-1777723200@saintmarks.org
SUMMARY:Wisdom School—Write Around the Corner
DESCRIPTION:SATURDAY\, MAY 2\, 2026\, 9 A.M.-12 P.M.\nin person in Bloedel Hall and online via Zoom\n \nREGISTRATION REQUIRED  \nFacilitated by The Rev. Mary Lindberg \n \nHow do we write our way into the unknown during times of change in our lives? How can writing alone and with others give us clues about what lies beyond our thresholds\, and empower us to take steps forward in faith? This writing workshop offers us the chance to discover wisdom\, imagination\, and connections to others through the written word. Pastor Mary Lindberg believes in the power of the pen as a spiritual tool. She serves as a Spiritual Director and leads writing groups\, particularly with underserved groups\, using the supportive Amherst Writers and Artists (AWA) method. Mary has published books for adults and children. \nRegistration required  for in-person or online participation (register to receive Zoom link). Fee: $29 (includes sales tax now required by the state).
URL:https://saintmarks.org/calendar/write-around-the-corner/
LOCATION:Bloedel Hall
CATEGORIES:The Wisdom School
END:VEVENT
BEGIN:VEVENT
DTSTART;TZID=America/Los_Angeles:20260502T093000
DTEND;TZID=America/Los_Angeles:20260502T120000
DTSTAMP:20260422T045157
CREATED:20231231T024047Z
LAST-MODIFIED:20251215T140834Z
UID:10064592-1777714200-1777723200@saintmarks.org
SUMMARY:*Clear Mountain Buddhist Monastery: Meditation\, Teaching & Social
DESCRIPTION:SATURDAYS\, 9:30 A.M. – 12 P.M\, Skinner Auditorium \nThe meeting is occasionally moved to Bloedel Hall. \nThose unable to attend in-person are also welcome to tune in via Zoom or YouTube livestream. \nSaint Mark’s Cathedral cathedral is the host this meeting of the Clear Mountain Buddhist Monastery community. \nJoin for a morning of meditation\, teaching\, and spiritual conversation over coffee! Each Saturday from 9:30 a.m.–11:30 a.m.\, local practitioners gather together in the Saint Mark’s Cathedral Skinner Auditorium (located in the St Nicholas School Building\, just north of the cathedral building\, 1501 10th Ave E.) for a community meditation\, teaching\, and coffee social. \nGatherings begin with a guided sit from 9:30–10 a.m. designed to accommodate and empower a wide variety of practices\, from Buddhist meditation to centering prayer. The morning continues with a Dhamma teaching and Q&A from 10–11 followed by a chance\, for those who want\, to discuss life and practice over coffee from 11–noon. If they wish\, visitors may also bring a small food offering for the monastic meal. \nMore information about this meeting can be found here.
URL:https://saintmarks.org/calendar/clear-mountain-buddhist-monastery-meditation-teaching-social/2026-05-02/
LOCATION:Skinner Auditorium\, 1501 10th Ave E\, Seattle\, WA\, 98102\, United States
ORGANIZER;CN="Clear Mountain Monastery":MAILTO:info@clearmountainmonastery.org
END:VEVENT
END:VCALENDAR