BEGIN:VCALENDAR
VERSION:2.0
PRODID:-//Saint Mark&#039;s Episcopal Cathedral - ECPv6.15.20//NONSGML v1.0//EN
CALSCALE:GREGORIAN
METHOD:PUBLISH
X-ORIGINAL-URL:https://saintmarks.org
X-WR-CALDESC:Events for Saint Mark&#039;s Episcopal Cathedral
REFRESH-INTERVAL;VALUE=DURATION:PT1H
X-Robots-Tag:noindex
X-PUBLISHED-TTL:PT1H
BEGIN:VTIMEZONE
TZID:America/Los_Angeles
BEGIN:DAYLIGHT
TZOFFSETFROM:-0800
TZOFFSETTO:-0700
TZNAME:PDT
DTSTART:20240310T100000
END:DAYLIGHT
BEGIN:STANDARD
TZOFFSETFROM:-0700
TZOFFSETTO:-0800
TZNAME:PST
DTSTART:20241103T090000
END:STANDARD
BEGIN:DAYLIGHT
TZOFFSETFROM:-0800
TZOFFSETTO:-0700
TZNAME:PDT
DTSTART:20250309T100000
END:DAYLIGHT
BEGIN:STANDARD
TZOFFSETFROM:-0700
TZOFFSETTO:-0800
TZNAME:PST
DTSTART:20251102T090000
END:STANDARD
BEGIN:DAYLIGHT
TZOFFSETFROM:-0800
TZOFFSETTO:-0700
TZNAME:PDT
DTSTART:20260308T100000
END:DAYLIGHT
BEGIN:STANDARD
TZOFFSETFROM:-0700
TZOFFSETTO:-0800
TZNAME:PST
DTSTART:20261101T090000
END:STANDARD
BEGIN:DAYLIGHT
TZOFFSETFROM:-0800
TZOFFSETTO:-0700
TZNAME:PDT
DTSTART:20270314T100000
END:DAYLIGHT
BEGIN:STANDARD
TZOFFSETFROM:-0700
TZOFFSETTO:-0800
TZNAME:PST
DTSTART:20271107T090000
END:STANDARD
END:VTIMEZONE
BEGIN:VEVENT
DTSTART;TZID=America/Los_Angeles:20260405T123000
DTEND;TZID=America/Los_Angeles:20260405T140000
DTSTAMP:20260421T014031
CREATED:20260325T132315Z
LAST-MODIFIED:20260325T132315Z
UID:10065325-1775392200-1775397600@saintmarks.org
SUMMARY:20s/30s Easter Brunch
DESCRIPTION:Continue the festivities of Easter by gathering for brunch and conversation after the 11 a.m. service. Several brunch items will be provided\, and you are welcome to bring additional baked goods or sides! \nQuestions? Email Julia (julia7cooper@gmail.com)
URL:https://saintmarks.org/calendar/20s-30s-easter-brunch-2/
LOCATION:Leffler Living Room
CATEGORIES:Community Life
END:VEVENT
BEGIN:VEVENT
DTSTART;TZID=America/Los_Angeles:20260401T203000
DTEND;TZID=America/Los_Angeles:20260401T220000
DTSTAMP:20260421T014031
CREATED:20260325T131222Z
LAST-MODIFIED:20260326T133355Z
UID:10065324-1775075400-1775080800@saintmarks.org
SUMMARY:20s/30s Tea After Tenebrae
DESCRIPTION:WEDNESDAY\, APRIL 1\, 8:30 P.M.\, Bloedel Hall \n20s/30s are welcome to join a time of reflection after the Tenebrae service. In the dimness of Holy Week\, we’ll hold space for both shadows and light – grief and hope – through guided reflection and conversation. Whether you feel full of questions or simply need a place to rest\, come as you are to linger and be in the mystery of this holy season. You are welcome to bring a baked good to share. Questions? Email Kellie: Kellie9511@gmail.com.
URL:https://saintmarks.org/calendar/20s-30s-tea-after-tenebrae/
LOCATION:Bloedel Hall
CATEGORIES:Community Life
END:VEVENT
BEGIN:VEVENT
DTSTART;TZID=America/Los_Angeles:20260217T183000
DTEND;TZID=America/Los_Angeles:20260217T191500
DTSTAMP:20260421T014031
CREATED:20260120T143956Z
LAST-MODIFIED:20260122T235755Z
UID:10065105-1771353000-1771355700@saintmarks.org
SUMMARY:Shrove Tuesday Pancake Supper with Closing of the Doors
DESCRIPTION:TUESDAY\, FEBRUARY 17\, 6–7:15 P.M.\, in the cathedral nave. Suggested donation: $6/child; $8/adult; $25/max. family. Registration requested. \n \nIt’s time to party in the nave for Shrove Tuesday (a.k.a. Mardi Gras) before the start of Lent—load up pancakes with chocolate chips and whipped cream\, chat it up with other cathedral parishioners\, and listen to live music. We have crafts and games for the kids and kids-at-heart. Chef Marc Aubertin and the youth will be preparing our meal. In addition to pancakes\, sausage\, fruit\, and toppings\, Vestry members will provide jambalaya and gumbo. \nThe celebration in the nave will conclude with a brief liturgy to “bury the Alleluias” and close the great doors until Easter. \nPlease RSVP in advance to assist in planning: \n\n Fill out my Wufoo form!
URL:https://saintmarks.org/calendar/shrove-tuesday-pancake-supper-with-closing-of-the-doors-2/
CATEGORIES:Community Life
END:VEVENT
BEGIN:VEVENT
DTSTART;TZID=America/Los_Angeles:20260111T123000
DTEND;TZID=America/Los_Angeles:20260111T140000
DTSTAMP:20260421T014031
CREATED:20260106T142552Z
LAST-MODIFIED:20260108T220802Z
UID:10065084-1768134600-1768140000@saintmarks.org
SUMMARY:Joint Ministry Potluck: Beekeeping Ministry & QuiC
DESCRIPTION:SUNDAY\, January 11\, 12:30 P.M. (following the 11:00 a.m. service)\, in Bloedel Hall.\nRSVP to queerinchrist@saintmarks.org requested. \nQueer in Christ ministry will join the Beekeeping Ministry for a Potluck in Bloedel Hall on January 11 to listen to a podcast featuring the late environmentalist and “deep ecology” scholar Joanna Macy\, followed by a discussion. This facilitated cross-ministry conversation will draw insights from the podcast to reflect on the life and death cycle of bees as a powerful framework and guide for human relationships. The discussion will highlight how working with bees is a labor of love\, full of both joy and grief as it relates to the impact of the climate crisis. Joanna’s pioneering work gives us a framework to sit with\, honor\, and ultimately transform our feelings of grief\, anger\, and overwhelm from the injustices caused by climate change into empowered\, inspired action. This gathering is open anyone interested engaging with the honeybee on any level\, including holding them in prayer. \nRSVP appreciated\, please bring something to share. \n\n\nNYTimes Obituary for Joanna\nFor the Wild Conversation with Ayanna Young and Joanna\nJoanna Macy on why we need the Great Turning 
URL:https://saintmarks.org/calendar/joint-ministry-potluck-beekeeping-ministry-quic/
LOCATION:Bloedel Hall
CATEGORIES:Community,Community Life
END:VEVENT
BEGIN:VEVENT
DTSTART;TZID=America/Los_Angeles:20251019T150000
DTEND;TZID=America/Los_Angeles:20251019T170000
DTSTAMP:20260421T014031
CREATED:20250917T132045Z
LAST-MODIFIED:20250917T132045Z
UID:10064352-1760886000-1760893200@saintmarks.org
SUMMARY:Intergenerational Hike to the Oxbow Loop Trail
DESCRIPTION:SUNDAY\, OCTOBER 19\, 3 P.M.\, at Oxbow Loop Trailhead\n \nEnjoy an easy\, scenic 2-mile out-and-back on a well-surfaced\, mostly level trail (<60 ft gain) with access to the Snoqualmie River—perfect for young children and anyone who prefers an unhurried pace. Dogs on leash are welcome. Rain or shine! \n\nTrail info: WTA’s Oxbow Loop page.\nOptional early supper in North Bend afterward at a casual restaurant.\nWant more challenge? Hike the nearby Pratt Balcony trail earlier in the afternoon and meet the group at 3 p.m.\n\nRSVP: Canon Wendy Claire Barrie — wbarrie@saintmarks.org
URL:https://saintmarks.org/calendar/intergenerational-hike-to-the-oxbow-loop-trail/
CATEGORIES:Community Life
END:VEVENT
BEGIN:VEVENT
DTSTART;TZID=America/Los_Angeles:20250925T163000
DTEND;TZID=America/Los_Angeles:20250925T173000
DTSTAMP:20260421T014031
CREATED:20250916T134031Z
LAST-MODIFIED:20250919T044318Z
UID:10064348-1758817800-1758821400@saintmarks.org
SUMMARY:Alternative Gift Market Planning Meeting
DESCRIPTION:THURSDAY\, SEPTEMBER 25\, 4:30 P.M.\, via Zoom \nMany hands–and heads–make light work\, and this work benefits so many! Let’s begin planning this year’s Alternative Gift Market\, which will be on Sunday\, November 23 in Bloedel Hall following both the 9 a.m. and 11 a.m. services. This year\, we’re going for simplicity and sustainability. \nPlease bring your ideas to a Zoom brainstorming chat on Thursday September 25\, 4:30–5:30 p.m\, or email Canon Barrie: wbarrie@saintmarks.org \nZoom link
URL:https://saintmarks.org/calendar/alternative-gift-market-planning-meeting-2/
LOCATION:Online via Zoom
CATEGORIES:Community Life
END:VEVENT
BEGIN:VEVENT
DTSTART;TZID=America/Los_Angeles:20250824T190000
DTEND;TZID=America/Los_Angeles:20250824T210000
DTSTAMP:20260421T014031
CREATED:20250715T134711Z
LAST-MODIFIED:20250813T133544Z
UID:10064100-1756062000-1756069200@saintmarks.org
SUMMARY:20s/30s Garden Dinner
DESCRIPTION:SUNDAY\, AUGUST 24\, 7 PM in Leffler House\nJoin 20s/30s members for a garden harvest dinner. We will have some dishes prepared from Leffler garden vegetables\, and you are welcome to bring additional main or side dishes (homegrown food is especially welcome!). \nDuring dinner\, we will also spend some time visioning for the coming year of our 20s/30s ministry. \nPlease RSVP to julia7cooper@gmail.com or fill out this form. \nFollowing dinner\, there is an opportunity to attend Women’s Compline at 9:30pm in the Cathedral nave.
URL:https://saintmarks.org/calendar/20s-30s-garden-dinner/
LOCATION:Leffler Living Room
CATEGORIES:Community Life
END:VEVENT
BEGIN:VEVENT
DTSTART;TZID=America/Los_Angeles:20250713T123000
DTEND;TZID=America/Los_Angeles:20250713T140000
DTSTAMP:20260421T014031
CREATED:20250625T131046Z
LAST-MODIFIED:20250625T131046Z
UID:10063689-1752409800-1752415200@saintmarks.org
SUMMARY:20s/30s Garden Brunch
DESCRIPTION:SUNDAY\, JULY 13\, 12:30 P.M. in the Leffler Garden \nJoin 20s/30s members for lunch in the Leffler garden following the 11am service. Bread and some basic sandwich fillings will be provided\, and you are welcome to bring additional sandwich supplies or other sides/drinks. With questions\, contact Julia Cooper (julia7cooper@gmail.com).
URL:https://saintmarks.org/calendar/20s-30s-garden-brunch/
LOCATION:Leffler Garden
CATEGORIES:Community Life
END:VEVENT
BEGIN:VEVENT
DTSTART;TZID=America/Los_Angeles:20250420T123000
DTEND;TZID=America/Los_Angeles:20250420T140000
DTSTAMP:20260421T014031
CREATED:20250409T133614Z
LAST-MODIFIED:20250409T133614Z
UID:10063225-1745152200-1745157600@saintmarks.org
SUMMARY:20s/30s Easter Brunch
DESCRIPTION:Continue the festivities of Easter by gathering for brunch and conversation after the 11 a.m. service. Several brunch items will be provided\, and you are welcome to bring additional baked goods or sides! \nQuestions? Email Julia (julia7cooper@gmail.com)
URL:https://saintmarks.org/calendar/20s-30s-easter-brunch/
LOCATION:St. Nicholas Bldg.\, 2nd floor
CATEGORIES:Community Life
END:VEVENT
END:VCALENDAR