BEGIN:VCALENDAR
VERSION:2.0
PRODID:-//Saint Mark&#039;s Episcopal Cathedral - ECPv6.15.20//NONSGML v1.0//EN
CALSCALE:GREGORIAN
METHOD:PUBLISH
X-WR-CALNAME:Saint Mark&#039;s Episcopal Cathedral
X-ORIGINAL-URL:https://saintmarks.org
X-WR-CALDESC:Events for Saint Mark&#039;s Episcopal Cathedral
REFRESH-INTERVAL;VALUE=DURATION:PT1H
X-Robots-Tag:noindex
X-PUBLISHED-TTL:PT1H
BEGIN:VTIMEZONE
TZID:America/Los_Angeles
BEGIN:DAYLIGHT
TZOFFSETFROM:-0800
TZOFFSETTO:-0700
TZNAME:PDT
DTSTART:20250309T100000
END:DAYLIGHT
BEGIN:STANDARD
TZOFFSETFROM:-0700
TZOFFSETTO:-0800
TZNAME:PST
DTSTART:20251102T090000
END:STANDARD
BEGIN:DAYLIGHT
TZOFFSETFROM:-0800
TZOFFSETTO:-0700
TZNAME:PDT
DTSTART:20260308T100000
END:DAYLIGHT
BEGIN:STANDARD
TZOFFSETFROM:-0700
TZOFFSETTO:-0800
TZNAME:PST
DTSTART:20261101T090000
END:STANDARD
BEGIN:DAYLIGHT
TZOFFSETFROM:-0800
TZOFFSETTO:-0700
TZNAME:PDT
DTSTART:20270314T100000
END:DAYLIGHT
BEGIN:STANDARD
TZOFFSETFROM:-0700
TZOFFSETTO:-0800
TZNAME:PST
DTSTART:20271107T090000
END:STANDARD
END:VTIMEZONE
BEGIN:VEVENT
DTSTART;TZID=America/Los_Angeles:20260222T190000
DTEND;TZID=America/Los_Angeles:20260222T200000
DTSTAMP:20260425T091226
CREATED:20250520T192720Z
LAST-MODIFIED:20250520T192720Z
UID:10063555-1771786800-1771790400@saintmarks.org
SUMMARY:Contemplative Eucharist
DESCRIPTION:EVERY SUNDAY\, 7 P.M. (SEPTEMBER–JUNE)\, Thomsen Chapel  \n \nThis evening Eucharist offers periods of silence for reflection\, simple meditative music\, and lots of candlelight. \nAnointing and healing blessings are offered after the service. Learn more here. \nNOTE: in 2025 Contemplative Eucharist is cancelled on November 30 due to the O Antiphons liturgy in the nave at that time. On December 21\, the Contemplative Eucharist will be a special service offered especially for those for whom the Holiday season is a difficult or painful time.
URL:https://saintmarks.org/calendar/contemplative-eucharist/2026-02-22/
LOCATION:Thomsen Chapel
END:VEVENT
BEGIN:VEVENT
DTSTART;TZID=America/Los_Angeles:20260222T150000
DTEND;TZID=America/Los_Angeles:20260222T163000
DTSTAMP:20260425T091226
CREATED:20250724T231637Z
LAST-MODIFIED:20250724T231637Z
UID:10064115-1771772400-1771777800@saintmarks.org
SUMMARY:Saint Mark's Music Series Presents: Encountering the Divine
DESCRIPTION:SUNDAY\, FEBRUARY 22\, 2026\, 3 P.M. \nEncountering the Divine\nA Musical Expression of Faith\nKeith Kirchoff\, piano\n  \nBoston-based pianist Keith Kirchoff presents a program exploring the richness of the Christian faith through eight musical expressions and denominations\, through works from Frescobaldi to Liszt\, Messiaen to the present day. \n  \nOn the program: \n\nAve Maria by Franz Schubert\, arranged by Franz Liszt\nMessa della Domenica by Girolamo Frescobaldi\nLe baiser de l’Enfant-Jésus by Oilver Messiaen\nThree Spirituals by R. Nathaniel Dett\, Samuel Coleridge-Taylor\, and Margaret Bonds\nReflections on Christ of Saint John of the Cross by Steven Ricks\n\nTickets available here
URL:https://saintmarks.org/calendar/saint-marks-music-series-presents-encountering-the-divine/
LOCATION:Cathedral Nave
CATEGORIES:Music
ATTACH;FMTTYPE=image/jpeg:https://saintmarks.org/wp-content/uploads/Encountering-the-Divine-25_26-Eventbrite-Banner-scaled.jpg
END:VEVENT
BEGIN:VEVENT
DTSTART;TZID=America/Los_Angeles:20260222T123000
DTEND;TZID=America/Los_Angeles:20260222T143000
DTSTAMP:20260425T091226
CREATED:20250923T133656Z
LAST-MODIFIED:20260218T220434Z
UID:10065142-1771763400-1771770600@saintmarks.org
SUMMARY:20s/30s Fourth Sunday Brunch
DESCRIPTION:FOURTH SUNDAYS\, locations vary; meet at the baptismal font at 12:30 p.m. \nThe 20s/30s community gathers for lunch every fourth Sunday following the 11 a.m. service. Meet at the baptismal font to walk to a nearby restaurant or farmer’s market for great food and company. Everyone is welcome! \nQuestions? Email Lucy at Lucymspencer22@gmail.com
URL:https://saintmarks.org/calendar/20s-30s-fourth-sunday-lunch-4/2026-02-22/
END:VEVENT
BEGIN:VEVENT
DTSTART;TZID=America/Los_Angeles:20260222T123000
DTEND;TZID=America/Los_Angeles:20260222T140000
DTSTAMP:20260425T091226
CREATED:20260218T143113Z
LAST-MODIFIED:20260226T035534Z
UID:10065135-1771763400-1771768800@saintmarks.org
SUMMARY:Intergenerational Lenten Bible Study
DESCRIPTION:Intergenerational Lenten Bible Study\nSUNDAYS IN LENT\, FEBRUARY 22 – MARCH 22\, 12:15 P.M. in Leffler House\nPlease join us for a five-week intergenerational Lenten Bible study\, led by 20s/30s facilitators and open to all! Each week we will gather together to discuss passages related to this season of the liturgical year. Attendance is on a drop-in basis and all materials will be provided. Sessions take place after the 11:00 service through March 22 (not meeting Palm Sunday)\, on the 2nd floor of Leffler House. If you are interested\, please email Else at elsectb@gmail.com.
URL:https://saintmarks.org/calendar/intergenerational-lenten-bible-study/2026-02-22/
LOCATION:Leffler House 2nd Floor Retreat Rooms
END:VEVENT
BEGIN:VEVENT
DTSTART;TZID=America/Los_Angeles:20260222T123000
DTEND;TZID=America/Los_Angeles:20260222T133000
DTSTAMP:20260425T091226
CREATED:20240913T081604Z
LAST-MODIFIED:20260312T130611Z
UID:10065147-1771763400-1771767000@saintmarks.org
SUMMARY:Cathedral Building Tour
DESCRIPTION:LAST SUNDAY OF THE MONTH\, 12:30 P.M.\, gather in the back of the nave \nOn the last Sunday of each month\, a cathedral docent will offer a guided tour at 12:30 pm. These tours highlighting the cathedral’s history and architecture last about an hour and participants move throughout the building\, though the elevator is available. Meet at the back of the nave under the clock at 12:30 pm.
URL:https://saintmarks.org/calendar/cathedral-building-tour/2026-02-22/
LOCATION:Cathedral Nave
END:VEVENT
BEGIN:VEVENT
DTSTART;TZID=America/Los_Angeles:20260222T110000
DTEND;TZID=America/Los_Angeles:20260222T120000
DTSTAMP:20260425T091226
CREATED:20201110T162207Z
LAST-MODIFIED:20250409T051809Z
UID:10058957-1771758000-1771761600@saintmarks.org
SUMMARY:Holy Eucharist (11)
DESCRIPTION:Liturgy and music reflecting the breadth and depth of the Episcopal tradition\, with Scripture\, sermon\, hymns\, and choral anthems. \nWorship in person or online at saintmarks.org/livestream — also streams simultaneously at facebook.com/SaintMarksSeattle  and at youtube.com/c/SaintMarksEpiscopalCathedralSeattle/
URL:https://saintmarks.org/calendar/11-a-m-holy-eucharist-livestream/2026-02-22/
END:VEVENT
BEGIN:VEVENT
DTSTART;TZID=America/Los_Angeles:20260222T101000
DTEND;TZID=America/Los_Angeles:20260222T105000
DTSTAMP:20260425T091226
CREATED:20260204T140702Z
LAST-MODIFIED:20260205T132951Z
UID:10065132-1771755000-1771757400@saintmarks.org
SUMMARY:Sunday Forum: Friends Talking—Sister Miriam Elizabeth Bledsoe
DESCRIPTION:SUNDAY\, FEBRUARY 22\, 10:10–10:50 A.M.\, Bloedel Hall \nSpecial Parish Forum: Friends Talking with Dean Thomason \n \nOn the heels of her Wisdom School forum\, Silence and Honey Cakes: Lessons from the Desert for Modern Communities\, The Rev. Sr. Miriam Elizabeth Bledsoe\, OSH will join Dean Thomason for a casual conversation in Bloedel Hall on Sunday\, February 22 at 10:10 A.M. \nThe Rev. Sr. Miriam Elizabeth (Faith) Bledsoe\, OSH is a religious sister in the Order of Saint Helena\, an Episcopal monastic order for women in North Augusta\, SC\, where she serves as the Community Leader. Read more about her\, and find forum registration information on the Wisdom School page.
URL:https://saintmarks.org/calendar/sunday-forum-friends-talking-sister-miriam-elizabeth-bledsoe/
LOCATION:Bloedel Hall
CATEGORIES:Sunday Forum
END:VEVENT
BEGIN:VEVENT
DTSTART;TZID=America/Los_Angeles:20260222T090000
DTEND;TZID=America/Los_Angeles:20260222T100000
DTSTAMP:20260425T091226
CREATED:20210602T232903Z
LAST-MODIFIED:20250409T051755Z
UID:10058762-1771750800-1771754400@saintmarks.org
SUMMARY:Holy Eucharist (9)
DESCRIPTION:Liturgy with sermon and hymns. Music is offered by Saint Mark’s Singers or children’s choirs. \nChildren’s Chapel is offered during the 9 a.m. service. After the Gospel is proclaimed\, children pre-school through 2nd grade are invited to Thomsen Chapel for Bible stories\, singing\, and prayer. Parents are welcome to join their children. They return at the Peace. \nLocation: Cathedral Nave \nThis service is not livestreamed.
URL:https://saintmarks.org/calendar/9-a-m-holy-eucharist/2026-02-22/
LOCATION:Cathedral Nave
END:VEVENT
BEGIN:VEVENT
DTSTART;TZID=America/Los_Angeles:20260222T080000
DTEND;TZID=America/Los_Angeles:20260222T090000
DTSTAMP:20260425T091226
CREATED:20231231T015722Z
LAST-MODIFIED:20250520T192821Z
UID:10063578-1771747200-1771750800@saintmarks.org
SUMMARY:Holy Eucharist (8)
DESCRIPTION:A spoken service of Holy Eucharist in Thomsen Chapel\, with sermon and hymns.
URL:https://saintmarks.org/calendar/holy-eucharist-8-2/2026-02-22/
LOCATION:Thomsen Chapel
END:VEVENT
BEGIN:VEVENT
DTSTART;TZID=America/Los_Angeles:20260221T093000
DTEND;TZID=America/Los_Angeles:20260221T120000
DTSTAMP:20260425T091226
CREATED:20231231T024047Z
LAST-MODIFIED:20251215T140834Z
UID:10064582-1771666200-1771675200@saintmarks.org
SUMMARY:*Clear Mountain Buddhist Monastery: Meditation\, Teaching & Social
DESCRIPTION:SATURDAYS\, 9:30 A.M. – 12 P.M\, Skinner Auditorium \nThe meeting is occasionally moved to Bloedel Hall. \nThose unable to attend in-person are also welcome to tune in via Zoom or YouTube livestream. \nSaint Mark’s Cathedral cathedral is the host this meeting of the Clear Mountain Buddhist Monastery community. \nJoin for a morning of meditation\, teaching\, and spiritual conversation over coffee! Each Saturday from 9:30 a.m.–11:30 a.m.\, local practitioners gather together in the Saint Mark’s Cathedral Skinner Auditorium (located in the St Nicholas School Building\, just north of the cathedral building\, 1501 10th Ave E.) for a community meditation\, teaching\, and coffee social. \nGatherings begin with a guided sit from 9:30–10 a.m. designed to accommodate and empower a wide variety of practices\, from Buddhist meditation to centering prayer. The morning continues with a Dhamma teaching and Q&A from 10–11 followed by a chance\, for those who want\, to discuss life and practice over coffee from 11–noon. If they wish\, visitors may also bring a small food offering for the monastic meal. \nMore information about this meeting can be found here.
URL:https://saintmarks.org/calendar/clear-mountain-buddhist-monastery-meditation-teaching-social/2026-02-21/
LOCATION:Skinner Auditorium\, 1501 10th Ave E\, Seattle\, WA\, 98102\, United States
ORGANIZER;CN="Clear Mountain Monastery":MAILTO:info@clearmountainmonastery.org
END:VEVENT
BEGIN:VEVENT
DTSTART;TZID=America/Los_Angeles:20260221T090000
DTEND;TZID=America/Los_Angeles:20260221T123000
DTSTAMP:20260425T091226
CREATED:20250828T134306Z
LAST-MODIFIED:20260112T175639Z
UID:10064157-1771664400-1771677000@saintmarks.org
SUMMARY:Silence and Honey Cakes: Lessons from the Desert for Modern Communities
DESCRIPTION:A LENTEN QUIET MORNING \n\n\n\nSATURDAY\, FEBRUARY 21\, 2026\, 9 A.M.–12:30 P.M.\nin person in Bloedel Hall and online via Zoom\, registration required. \nwith the Rev. Sr. Miriam Elizabeth Bledsoe\, OSH \nFrom the beginning\, we were created for belonging and community. And yet\, community also comes with many challenges\, including the temptations of individualism\, conformity\, competition and power. How do we discern and nourish the truth of who we are and who our neighbor is? How do we manage the variations of gifts\, limitations\, calls and vocations within our communities while also nurturing the persons in those communities and in the margins? The desert mothers and fathers of the 3rd and 4th centuries understood that the heart of the Christian path was communion with God and with one another. They also knew the challenges of belonging and community. These ammas and abbas will be our teachers as we explore belonging\, loving\, and navigating the blessings and temptations that can manifest in community. \nFee $29 (includes sales tax now required by WA State). Registration is required for in-person or online participation (register to receive Zoom link). 
URL:https://saintmarks.org/calendar/silence-and-honey-cakes/
LOCATION:Bloedel Hall
CATEGORIES:The Wisdom School
END:VEVENT
BEGIN:VEVENT
DTSTART;TZID=America/Los_Angeles:20260220T180000
DTEND;TZID=America/Los_Angeles:20260220T183000
DTSTAMP:20260425T091226
CREATED:20241114T174742Z
LAST-MODIFIED:20260311T131025Z
UID:10064662-1771610400-1771612200@saintmarks.org
SUMMARY:Evening Prayer Online
DESCRIPTION:MONDAY THROUGH FRIDAY\, 6 P.M. \nLay readers from Seattle-area congregations including the cathedral lead a spoken service of daily prayer following the form of the Book of Common Prayer 1979\, every weekday evening at 6 p.m. The service lasts approximately 30 minutes. Learn more here. \nJoin online using this Zoom link. \n\n\n\nEvening Prayer is always cancelled when the cathedral office is closed for holidays or other reasons\, or when a special liturgy is being offered in the nave on a weekday evening.
URL:https://saintmarks.org/calendar/evening-prayer-online/2026-02-20/
LOCATION:Online via Zoom
END:VEVENT
BEGIN:VEVENT
DTSTART;TZID=America/Los_Angeles:20260220T073000
DTEND;TZID=America/Los_Angeles:20260220T080000
DTSTAMP:20260425T091226
CREATED:20250626T212619Z
LAST-MODIFIED:20250626T212648Z
UID:10063861-1771572600-1771574400@saintmarks.org
SUMMARY:Morning Prayer Online
DESCRIPTION:Daily Morning Prayer\n \nMONDAY–FRIDAY\, 7:30-8 A.M.\, via Zoom\n \nCome just as you are to Morning Prayer on weekday mornings\, on Zoom\, following the form of the Book of Common Prayer 1979. All are welcome\, whether you’re still in your pj’s\, joining from your workplace\, or listening on the move. No former experience with the Daily Office is necessary. \nJoin Morning Prayer using this Zoom link.
URL:https://saintmarks.org/calendar/morning-prayer-online/2026-02-20/
LOCATION:Online via Zoom
END:VEVENT
BEGIN:VEVENT
DTSTART;TZID=America/Los_Angeles:20260219T180000
DTEND;TZID=America/Los_Angeles:20260219T183000
DTSTAMP:20260425T091226
CREATED:20241114T174742Z
LAST-MODIFIED:20260311T131025Z
UID:10064661-1771524000-1771525800@saintmarks.org
SUMMARY:Evening Prayer Online
DESCRIPTION:MONDAY THROUGH FRIDAY\, 6 P.M. \nLay readers from Seattle-area congregations including the cathedral lead a spoken service of daily prayer following the form of the Book of Common Prayer 1979\, every weekday evening at 6 p.m. The service lasts approximately 30 minutes. Learn more here. \nJoin online using this Zoom link. \n\n\n\nEvening Prayer is always cancelled when the cathedral office is closed for holidays or other reasons\, or when a special liturgy is being offered in the nave on a weekday evening.
URL:https://saintmarks.org/calendar/evening-prayer-online/2026-02-19/
LOCATION:Online via Zoom
END:VEVENT
BEGIN:VEVENT
DTSTART;TZID=America/Los_Angeles:20260219T073000
DTEND;TZID=America/Los_Angeles:20260219T083000
DTSTAMP:20260425T091226
CREATED:20241114T185331Z
LAST-MODIFIED:20251012T020233Z
UID:10064433-1771486200-1771489800@saintmarks.org
SUMMARY:Thursday Morning Chapel Eucharist
DESCRIPTION:1st\, 3rd\, & 5th THURSDAYS OF THE MONTH:\nTHE HOLY EUCHARIST\, IN-PERSON IN THOMSEN CHAPEL  \nStarting in January 2025\, the Thursday Morning Chapel Eucharist will move to 7:30 a.m. \nOn the 2nd & 4th Thursdays of the month\, the Thursday Morning congregation now meets with Daily Morning Prayer at 7:30 a.m.. \nNOTE: In-person Chapel Eucharist is suspended in Holy Week\, April 17. Join online Morning Prayer for Maundy Thursday at 7:30 a.m. instead. \n \nAt 7:30 a.m. on the first\, third\, and fifth Thursdays of the month\, an in-person service of Holy Eucharist offered in Thomsen Chapel. Fellowship and a community breakfast follow the service. \nUPDATE: The regular Thursday morning attendees have decided that their online service on the second and fourth Sundays of the month should merge with the online Daily Morning Prayer Group. On those Thursdays when there is not an in-person Eucharist\, gather online at 7:30 (rather than 7) using the normal Daily Office link. There will still be time available for checking in and chatting following the liturgy. All are welcome!
URL:https://saintmarks.org/calendar/thursday-morning-chapel-eucharist-7/2026-02-19/
LOCATION:Thomsen Chapel
END:VEVENT
BEGIN:VEVENT
DTSTART;TZID=America/Los_Angeles:20260219T073000
DTEND;TZID=America/Los_Angeles:20260219T080000
DTSTAMP:20260425T091226
CREATED:20250626T212619Z
LAST-MODIFIED:20250626T212648Z
UID:10063860-1771486200-1771488000@saintmarks.org
SUMMARY:Morning Prayer Online
DESCRIPTION:Daily Morning Prayer\n \nMONDAY–FRIDAY\, 7:30-8 A.M.\, via Zoom\n \nCome just as you are to Morning Prayer on weekday mornings\, on Zoom\, following the form of the Book of Common Prayer 1979. All are welcome\, whether you’re still in your pj’s\, joining from your workplace\, or listening on the move. No former experience with the Daily Office is necessary. \nJoin Morning Prayer using this Zoom link.
URL:https://saintmarks.org/calendar/morning-prayer-online/2026-02-19/
LOCATION:Online via Zoom
END:VEVENT
BEGIN:VEVENT
DTSTART;TZID=America/Los_Angeles:20260218T190000
DTEND;TZID=America/Los_Angeles:20260218T200000
DTSTAMP:20260425T091226
CREATED:20260120T144432Z
LAST-MODIFIED:20260120T144432Z
UID:10065107-1771441200-1771444800@saintmarks.org
SUMMARY:Ash Wednesday (7 p.m. Service)
DESCRIPTION:7 p.m. Holy Eucharist with imposition of ashes \nService will be livestreamed.
URL:https://saintmarks.org/calendar/ash-wednesday-7-p-m-service/
LOCATION:Cathedral Nave
CATEGORIES:Worship
END:VEVENT
BEGIN:VEVENT
DTSTART;TZID=America/Los_Angeles:20260218T180000
DTEND;TZID=America/Los_Angeles:20260218T183000
DTSTAMP:20260425T091226
CREATED:20250829T011810Z
LAST-MODIFIED:20260219T140932Z
UID:10065154-1771437600-1771439400@saintmarks.org
SUMMARY:Community Dinner
DESCRIPTION:On most Wednesday nights\, a delicious dinner is served in Bloedel Hall from 6 to 6:30. (Note: Food service ends at 6:30 p.m.\, sharp.) \nOn Summer Hiatus in June\, July\, and August \n$6/child; $8/adult; $25/max. family \nCathedral Commons programs often follow at 6:45 p.m.
URL:https://saintmarks.org/calendar/community-dinner-2/2026-02-18/
LOCATION:Bloedel Hall
END:VEVENT
BEGIN:VEVENT
DTSTART;TZID=America/Los_Angeles:20260218T180000
DTEND;TZID=America/Los_Angeles:20260218T183000
DTSTAMP:20260425T091226
CREATED:20241114T174742Z
LAST-MODIFIED:20260311T131025Z
UID:10064660-1771437600-1771439400@saintmarks.org
SUMMARY:Evening Prayer Online
DESCRIPTION:MONDAY THROUGH FRIDAY\, 6 P.M. \nLay readers from Seattle-area congregations including the cathedral lead a spoken service of daily prayer following the form of the Book of Common Prayer 1979\, every weekday evening at 6 p.m. The service lasts approximately 30 minutes. Learn more here. \nJoin online using this Zoom link. \n\n\n\nEvening Prayer is always cancelled when the cathedral office is closed for holidays or other reasons\, or when a special liturgy is being offered in the nave on a weekday evening.
URL:https://saintmarks.org/calendar/evening-prayer-online/2026-02-18/
LOCATION:Online via Zoom
END:VEVENT
BEGIN:VEVENT
DTSTART;TZID=America/Los_Angeles:20260218T173000
DTEND;TZID=America/Los_Angeles:20260218T180000
DTSTAMP:20260425T091226
CREATED:20250904T221631Z
LAST-MODIFIED:20251113T141539Z
UID:10064263-1771435800-1771437600@saintmarks.org
SUMMARY:In-person Wednesday Evening Prayer
DESCRIPTION:EVERY WEDNESDAY\, 5:30–6 P.M.\, in McCaw Chapel (behind the altar in the cathedral nave) \nGather in McCaw Chapel—the space in the cathedral nave behind the altar platform\, beneath the rose window. Whatever your prior experience with the Daily Office\, come and pray together in community. Attendees can head down to the community dinner in Bloedel Hall at 6 p.m. immediately following the service\, and are encouraged to stick around for a Cathedral Commons forum if one is scheduled. \nQuestions? Email David Poortinga (dpoortinga@saintmarks.org)
URL:https://saintmarks.org/calendar/in-person-wednesday-evening-prayer/2026-02-18/
LOCATION:McCaw Chapel (in the cathedral nave)
END:VEVENT
BEGIN:VEVENT
DTSTART;TZID=America/Los_Angeles:20260218T120000
DTEND;TZID=America/Los_Angeles:20260218T130000
DTSTAMP:20260425T091226
CREATED:20260120T144301Z
LAST-MODIFIED:20260120T144301Z
UID:10065106-1771416000-1771419600@saintmarks.org
SUMMARY:Ash Wednesday (12 p.m. service)
DESCRIPTION:12 p.m. Holy Eucharist with imposition of ashes
URL:https://saintmarks.org/calendar/ash-wednesday-12-p-m-service/
LOCATION:Cathedral Nave
CATEGORIES:Worship
END:VEVENT
BEGIN:VEVENT
DTSTART;TZID=America/Los_Angeles:20260218T073000
DTEND;TZID=America/Los_Angeles:20260218T080000
DTSTAMP:20260425T091226
CREATED:20250626T212619Z
LAST-MODIFIED:20250626T212648Z
UID:10063859-1771399800-1771401600@saintmarks.org
SUMMARY:Morning Prayer Online
DESCRIPTION:Daily Morning Prayer\n \nMONDAY–FRIDAY\, 7:30-8 A.M.\, via Zoom\n \nCome just as you are to Morning Prayer on weekday mornings\, on Zoom\, following the form of the Book of Common Prayer 1979. All are welcome\, whether you’re still in your pj’s\, joining from your workplace\, or listening on the move. No former experience with the Daily Office is necessary. \nJoin Morning Prayer using this Zoom link.
URL:https://saintmarks.org/calendar/morning-prayer-online/2026-02-18/
LOCATION:Online via Zoom
END:VEVENT
BEGIN:VEVENT
DTSTART;TZID=America/Los_Angeles:20260218T070000
DTEND;TZID=America/Los_Angeles:20260218T080000
DTSTAMP:20260425T091226
CREATED:20260120T144512Z
LAST-MODIFIED:20260120T144512Z
UID:10065108-1771398000-1771401600@saintmarks.org
SUMMARY:Ash Wednesday (7 a.m. Service)
DESCRIPTION:7 a.m. Holy Eucharist with imposition of ashes in Thomsen Chapel
URL:https://saintmarks.org/calendar/ash-wednesday-7-a-m-service/
LOCATION:Thomsen Chapel
CATEGORIES:Worship
END:VEVENT
BEGIN:VEVENT
DTSTART;VALUE=DATE:20260218
DTEND;VALUE=DATE:20260220
DTSTAMP:20260425T091226
CREATED:20250520T185804Z
LAST-MODIFIED:20250520T185804Z
UID:10063491-1771390800-1771477199@saintmarks.org
SUMMARY:ASH WEDNESDAY
DESCRIPTION:Liturgies at 7 a.m.\, 12 p.m.\, and 7 p.m.
URL:https://saintmarks.org/calendar/ash-wednesday/
END:VEVENT
BEGIN:VEVENT
DTSTART;TZID=America/Los_Angeles:20260217T183000
DTEND;TZID=America/Los_Angeles:20260217T191500
DTSTAMP:20260425T091226
CREATED:20260120T143956Z
LAST-MODIFIED:20260122T235755Z
UID:10065105-1771353000-1771355700@saintmarks.org
SUMMARY:Shrove Tuesday Pancake Supper with Closing of the Doors
DESCRIPTION:TUESDAY\, FEBRUARY 17\, 6–7:15 P.M.\, in the cathedral nave. Suggested donation: $6/child; $8/adult; $25/max. family. Registration requested. \n \nIt’s time to party in the nave for Shrove Tuesday (a.k.a. Mardi Gras) before the start of Lent—load up pancakes with chocolate chips and whipped cream\, chat it up with other cathedral parishioners\, and listen to live music. We have crafts and games for the kids and kids-at-heart. Chef Marc Aubertin and the youth will be preparing our meal. In addition to pancakes\, sausage\, fruit\, and toppings\, Vestry members will provide jambalaya and gumbo. \nThe celebration in the nave will conclude with a brief liturgy to “bury the Alleluias” and close the great doors until Easter. \nPlease RSVP in advance to assist in planning: \n\n Fill out my Wufoo form!
URL:https://saintmarks.org/calendar/shrove-tuesday-pancake-supper-with-closing-of-the-doors-2/
CATEGORIES:Community Life
END:VEVENT
BEGIN:VEVENT
DTSTART;TZID=America/Los_Angeles:20260217T180000
DTEND;TZID=America/Los_Angeles:20260217T183000
DTSTAMP:20260425T091226
CREATED:20241114T174742Z
LAST-MODIFIED:20260311T131025Z
UID:10064659-1771351200-1771353000@saintmarks.org
SUMMARY:Evening Prayer Online
DESCRIPTION:MONDAY THROUGH FRIDAY\, 6 P.M. \nLay readers from Seattle-area congregations including the cathedral lead a spoken service of daily prayer following the form of the Book of Common Prayer 1979\, every weekday evening at 6 p.m. The service lasts approximately 30 minutes. Learn more here. \nJoin online using this Zoom link. \n\n\n\nEvening Prayer is always cancelled when the cathedral office is closed for holidays or other reasons\, or when a special liturgy is being offered in the nave on a weekday evening.
URL:https://saintmarks.org/calendar/evening-prayer-online/2026-02-17/
LOCATION:Online via Zoom
END:VEVENT
BEGIN:VEVENT
DTSTART;TZID=America/Los_Angeles:20260217T120000
DTEND;TZID=America/Los_Angeles:20260217T133000
DTSTAMP:20260425T091226
CREATED:20231231T022926Z
LAST-MODIFIED:20251216T142906Z
UID:10064893-1771329600-1771335000@saintmarks.org
SUMMARY:Tuesday Noon Bible Study (online)
DESCRIPTION:EVERY TUESDAY\, 12–1:30 P.M.\, online via Zoom only \n \nThis group provides a weekly conversation around the scripture readings for the following Sunday. Each week a discussion is facilitated by rotating guest leaders\, and lively conversation ensues as people share their thoughts about the lessons. The group meets from 12–1:30 p.m. for study and prayer over the lectionary\, led by a rotating member of the cathedral staff and clergy. (Join early at 11:30 for social time and chat.) \nContact biblestudy@saintmarks.org for more information and to get the Zoom link to join online.
URL:https://saintmarks.org/calendar/tuesday-noon-bible-study-online/2026-02-17/
LOCATION:Online via Zoom
END:VEVENT
BEGIN:VEVENT
DTSTART;TZID=America/Los_Angeles:20260217T073000
DTEND;TZID=America/Los_Angeles:20260217T080000
DTSTAMP:20260425T091226
CREATED:20250626T212619Z
LAST-MODIFIED:20250626T212648Z
UID:10063858-1771313400-1771315200@saintmarks.org
SUMMARY:Morning Prayer Online
DESCRIPTION:Daily Morning Prayer\n \nMONDAY–FRIDAY\, 7:30-8 A.M.\, via Zoom\n \nCome just as you are to Morning Prayer on weekday mornings\, on Zoom\, following the form of the Book of Common Prayer 1979. All are welcome\, whether you’re still in your pj’s\, joining from your workplace\, or listening on the move. No former experience with the Daily Office is necessary. \nJoin Morning Prayer using this Zoom link.
URL:https://saintmarks.org/calendar/morning-prayer-online/2026-02-17/
LOCATION:Online via Zoom
END:VEVENT
BEGIN:VEVENT
DTSTART;VALUE=DATE:20260217
DTEND;VALUE=DATE:20260219
DTSTAMP:20260425T091226
CREATED:20250520T185832Z
LAST-MODIFIED:20250520T185832Z
UID:10063492-1771304400-1771390799@saintmarks.org
SUMMARY:SHROVE TUESDAY
DESCRIPTION:
URL:https://saintmarks.org/calendar/shrove-tuesday/
END:VEVENT
BEGIN:VEVENT
DTSTART;TZID=America/Los_Angeles:20260216T183000
DTEND;TZID=America/Los_Angeles:20260216T193000
DTSTAMP:20260425T091226
CREATED:20241001T212026Z
LAST-MODIFIED:20251216T143909Z
UID:10064946-1771266600-1771270200@saintmarks.org
SUMMARY:Cathedral Yoga
DESCRIPTION:EVERY MONDAY\, in the cathedral nave \nDOORS OPEN AT 6 P.M. (Door are locked at the beginning of class at 6:30 p.m.)\nYOGA CLASS 6:30–7:30 P.M. \nIn the sacred space of Saint Mark’s Cathedral\, this spiritual practice is designed to improve health\, release tension\, and deepen spirituality. It is a gentle\, restorative\, and contemplative practice\, and the instructors guide the group in ways that welcome newcomer and experienced practitioners alike. \n\nPay what you can.\nMats are available to borrow (first come\, first served).\nThe doors into the cathedral are opened at 6 p.m. and then locked at 6:30 p.m.\nOn the third Monday of each month the class ends with an extended savasana with Sound Bath\, 7:30–7:45 p.m. As the doors are locked at 6:30\, it is no longer possible to attend the sound bath without attending the class. Participants are encouraged to stay for the entire experience if possible.\nOn the fourth Monday of each month\, class is followed by social time with tea and chat.\n\nLearn more here. Questions? Write to yoga@saintmarks.org
URL:https://saintmarks.org/calendar/cathedral-yoga/2026-02-16/
LOCATION:Cathedral Nave
END:VEVENT
END:VCALENDAR