BEGIN:VCALENDAR
VERSION:2.0
PRODID:-//Saint Mark&#039;s Episcopal Cathedral - ECPv6.15.20//NONSGML v1.0//EN
CALSCALE:GREGORIAN
METHOD:PUBLISH
X-ORIGINAL-URL:https://saintmarks.org
X-WR-CALDESC:Events for Saint Mark&#039;s Episcopal Cathedral
REFRESH-INTERVAL;VALUE=DURATION:PT1H
X-Robots-Tag:noindex
X-PUBLISHED-TTL:PT1H
BEGIN:VTIMEZONE
TZID:America/Los_Angeles
BEGIN:DAYLIGHT
TZOFFSETFROM:-0800
TZOFFSETTO:-0700
TZNAME:PDT
DTSTART:20240310T100000
END:DAYLIGHT
BEGIN:STANDARD
TZOFFSETFROM:-0700
TZOFFSETTO:-0800
TZNAME:PST
DTSTART:20241103T090000
END:STANDARD
BEGIN:DAYLIGHT
TZOFFSETFROM:-0800
TZOFFSETTO:-0700
TZNAME:PDT
DTSTART:20250309T100000
END:DAYLIGHT
BEGIN:STANDARD
TZOFFSETFROM:-0700
TZOFFSETTO:-0800
TZNAME:PST
DTSTART:20251102T090000
END:STANDARD
BEGIN:DAYLIGHT
TZOFFSETFROM:-0800
TZOFFSETTO:-0700
TZNAME:PDT
DTSTART:20260308T100000
END:DAYLIGHT
BEGIN:STANDARD
TZOFFSETFROM:-0700
TZOFFSETTO:-0800
TZNAME:PST
DTSTART:20261101T090000
END:STANDARD
END:VTIMEZONE
BEGIN:VEVENT
DTSTART;TZID=America/Los_Angeles:20250630T180000
DTEND;TZID=America/Los_Angeles:20250630T183000
DTSTAMP:20260425T055938
CREATED:20241114T174742Z
LAST-MODIFIED:20260311T131025Z
UID:10061577-1751306400-1751308200@saintmarks.org
SUMMARY:Evening Prayer Online
DESCRIPTION:MONDAY THROUGH FRIDAY\, 6 P.M. \nLay readers from Seattle-area congregations including the cathedral lead a spoken service of daily prayer following the form of the Book of Common Prayer 1979\, every weekday evening at 6 p.m. The service lasts approximately 30 minutes. Learn more here. \nJoin online using this Zoom link. \n\n\n\nEvening Prayer is always cancelled when the cathedral office is closed for holidays or other reasons\, or when a special liturgy is being offered in the nave on a weekday evening.
URL:https://saintmarks.org/calendar/evening-prayer-online/2025-06-30/
LOCATION:Online via Zoom
END:VEVENT
BEGIN:VEVENT
DTSTART;TZID=America/Los_Angeles:20250630T183000
DTEND;TZID=America/Los_Angeles:20250630T193000
DTSTAMP:20260425T055938
CREATED:20241001T212026Z
LAST-MODIFIED:20251216T143909Z
UID:10061041-1751308200-1751311800@saintmarks.org
SUMMARY:Cathedral Yoga
DESCRIPTION:EVERY MONDAY\, in the cathedral nave \nDOORS OPEN AT 6 P.M. (Door are locked at the beginning of class at 6:30 p.m.)\nYOGA CLASS 6:30–7:30 P.M. \nIn the sacred space of Saint Mark’s Cathedral\, this spiritual practice is designed to improve health\, release tension\, and deepen spirituality. It is a gentle\, restorative\, and contemplative practice\, and the instructors guide the group in ways that welcome newcomer and experienced practitioners alike. \n\nPay what you can.\nMats are available to borrow (first come\, first served).\nThe doors into the cathedral are opened at 6 p.m. and then locked at 6:30 p.m.\nOn the third Monday of each month the class ends with an extended savasana with Sound Bath\, 7:30–7:45 p.m. As the doors are locked at 6:30\, it is no longer possible to attend the sound bath without attending the class. Participants are encouraged to stay for the entire experience if possible.\nOn the fourth Monday of each month\, class is followed by social time with tea and chat.\n\nLearn more here. Questions? Write to yoga@saintmarks.org
URL:https://saintmarks.org/calendar/cathedral-yoga/2025-06-30/
LOCATION:Cathedral Nave
END:VEVENT
BEGIN:VEVENT
DTSTART;TZID=America/Los_Angeles:20250630T190000
DTEND;TZID=America/Los_Angeles:20250630T200000
DTSTAMP:20260425T055938
CREATED:20241001T195521Z
LAST-MODIFIED:20241001T195521Z
UID:10060957-1751310000-1751313600@saintmarks.org
SUMMARY:*Alcoholics Anonymous (Broadway Group)
DESCRIPTION:Every Monday. 7–8 P.M. PDT \n\nClosed\nIn-person\nWheelchair Access\nMeeting located in Bloedel Hall.\n\nMore information here
URL:https://saintmarks.org/calendar/alcoholics-anonymous-broadway-group/2025-06-30/
LOCATION:Bloedel Hall
END:VEVENT
BEGIN:VEVENT
DTSTART;TZID=America/Los_Angeles:20250701T073000
DTEND;TZID=America/Los_Angeles:20250701T080000
DTSTAMP:20260425T055938
CREATED:20250626T212619Z
LAST-MODIFIED:20250626T212648Z
UID:10063693-1751355000-1751356800@saintmarks.org
SUMMARY:Morning Prayer Online
DESCRIPTION:Daily Morning Prayer\n \nMONDAY–FRIDAY\, 7:30-8 A.M.\, via Zoom\n \nCome just as you are to Morning Prayer on weekday mornings\, on Zoom\, following the form of the Book of Common Prayer 1979. All are welcome\, whether you’re still in your pj’s\, joining from your workplace\, or listening on the move. No former experience with the Daily Office is necessary. \nJoin Morning Prayer using this Zoom link.
URL:https://saintmarks.org/calendar/morning-prayer-online/2025-07-01/
LOCATION:Online via Zoom
END:VEVENT
BEGIN:VEVENT
DTSTART;TZID=America/Los_Angeles:20250701T120000
DTEND;TZID=America/Los_Angeles:20250701T133000
DTSTAMP:20260425T055938
CREATED:20231231T022926Z
LAST-MODIFIED:20251216T142906Z
UID:10062383-1751371200-1751376600@saintmarks.org
SUMMARY:Tuesday Noon Bible Study (online)
DESCRIPTION:EVERY TUESDAY\, 12–1:30 P.M.\, online via Zoom only \n \nThis group provides a weekly conversation around the scripture readings for the following Sunday. Each week a discussion is facilitated by rotating guest leaders\, and lively conversation ensues as people share their thoughts about the lessons. The group meets from 12–1:30 p.m. for study and prayer over the lectionary\, led by a rotating member of the cathedral staff and clergy. (Join early at 11:30 for social time and chat.) \nContact biblestudy@saintmarks.org for more information and to get the Zoom link to join online.
URL:https://saintmarks.org/calendar/tuesday-noon-bible-study-online/2025-07-01/
LOCATION:Online via Zoom
END:VEVENT
BEGIN:VEVENT
DTSTART;TZID=America/Los_Angeles:20250701T180000
DTEND;TZID=America/Los_Angeles:20250701T183000
DTSTAMP:20260425T055938
CREATED:20241114T174742Z
LAST-MODIFIED:20260311T131025Z
UID:10061578-1751392800-1751394600@saintmarks.org
SUMMARY:Evening Prayer Online
DESCRIPTION:MONDAY THROUGH FRIDAY\, 6 P.M. \nLay readers from Seattle-area congregations including the cathedral lead a spoken service of daily prayer following the form of the Book of Common Prayer 1979\, every weekday evening at 6 p.m. The service lasts approximately 30 minutes. Learn more here. \nJoin online using this Zoom link. \n\n\n\nEvening Prayer is always cancelled when the cathedral office is closed for holidays or other reasons\, or when a special liturgy is being offered in the nave on a weekday evening.
URL:https://saintmarks.org/calendar/evening-prayer-online/2025-07-01/
LOCATION:Online via Zoom
END:VEVENT
BEGIN:VEVENT
DTSTART;TZID=America/Los_Angeles:20250701T190000
DTEND;TZID=America/Los_Angeles:20250701T200000
DTSTAMP:20260425T055938
CREATED:20231231T030046Z
LAST-MODIFIED:20250902T174511Z
UID:10060992-1751396400-1751400000@saintmarks.org
SUMMARY:*Alcoholics Anonymous (Knuckleheads)
DESCRIPTION:Knuckleheads (CLOSED)\nNOTE: In-person meeting will not happen on Tuesday\, December 24\, but the group will meet virtually at the usual time. \nMeeting information \nMen only. In-person and online. \nTuesday\, 7:00 pm to 8:00 pm \n\nIn-person\nOnline\nClosed\nMen\nOne Hour\n\nMore information here. \nClosed meetings are for A.A. members only\, or for those who have a drinking problem and “have a desire to stop drinking.” \nThis meeting is being held in person and on zoom.
URL:https://saintmarks.org/calendar/alcoholics-anonymous-knuckleheads/2025-07-01/
LOCATION:Bloedel Hall
END:VEVENT
BEGIN:VEVENT
DTSTART;TZID=America/Los_Angeles:20250702T073000
DTEND;TZID=America/Los_Angeles:20250702T080000
DTSTAMP:20260425T055938
CREATED:20250626T212619Z
LAST-MODIFIED:20250626T212648Z
UID:10063694-1751441400-1751443200@saintmarks.org
SUMMARY:Morning Prayer Online
DESCRIPTION:Daily Morning Prayer\n \nMONDAY–FRIDAY\, 7:30-8 A.M.\, via Zoom\n \nCome just as you are to Morning Prayer on weekday mornings\, on Zoom\, following the form of the Book of Common Prayer 1979. All are welcome\, whether you’re still in your pj’s\, joining from your workplace\, or listening on the move. No former experience with the Daily Office is necessary. \nJoin Morning Prayer using this Zoom link.
URL:https://saintmarks.org/calendar/morning-prayer-online/2025-07-02/
LOCATION:Online via Zoom
END:VEVENT
BEGIN:VEVENT
DTSTART;TZID=America/Los_Angeles:20250702T180000
DTEND;TZID=America/Los_Angeles:20250702T183000
DTSTAMP:20260425T055938
CREATED:20241114T174742Z
LAST-MODIFIED:20260311T131025Z
UID:10061579-1751479200-1751481000@saintmarks.org
SUMMARY:Evening Prayer Online
DESCRIPTION:MONDAY THROUGH FRIDAY\, 6 P.M. \nLay readers from Seattle-area congregations including the cathedral lead a spoken service of daily prayer following the form of the Book of Common Prayer 1979\, every weekday evening at 6 p.m. The service lasts approximately 30 minutes. Learn more here. \nJoin online using this Zoom link. \n\n\n\nEvening Prayer is always cancelled when the cathedral office is closed for holidays or other reasons\, or when a special liturgy is being offered in the nave on a weekday evening.
URL:https://saintmarks.org/calendar/evening-prayer-online/2025-07-02/
LOCATION:Online via Zoom
END:VEVENT
BEGIN:VEVENT
DTSTART;TZID=America/Los_Angeles:20250703T073000
DTEND;TZID=America/Los_Angeles:20250703T080000
DTSTAMP:20260425T055938
CREATED:20250626T212619Z
LAST-MODIFIED:20250626T212648Z
UID:10063695-1751527800-1751529600@saintmarks.org
SUMMARY:Morning Prayer Online
DESCRIPTION:Daily Morning Prayer\n \nMONDAY–FRIDAY\, 7:30-8 A.M.\, via Zoom\n \nCome just as you are to Morning Prayer on weekday mornings\, on Zoom\, following the form of the Book of Common Prayer 1979. All are welcome\, whether you’re still in your pj’s\, joining from your workplace\, or listening on the move. No former experience with the Daily Office is necessary. \nJoin Morning Prayer using this Zoom link.
URL:https://saintmarks.org/calendar/morning-prayer-online/2025-07-03/
LOCATION:Online via Zoom
END:VEVENT
BEGIN:VEVENT
DTSTART;TZID=America/Los_Angeles:20250703T073000
DTEND;TZID=America/Los_Angeles:20250703T083000
DTSTAMP:20260425T055939
CREATED:20241114T181226Z
LAST-MODIFIED:20251012T020324Z
UID:10062966-1751527800-1751531400@saintmarks.org
SUMMARY:Thursday Morning Chapel Eucharist
DESCRIPTION:1st\, 3rd\, & 5th THURSDAYS OF THE MONTH:\nTHE HOLY EUCHARIST\, IN-PERSON IN THOMSEN CHAPEL \nStarting in January 2025\, the Thursday Morning Chapel Eucharist will move to 7:30 a.m. \nOn the 2nd & 4th Thursdays of the month\, the Thursday Morning congregation now meets with Daily Morning Prayer at 7:30 a.m.. \n \nAt 7:30 a.m. on the first\, third\, and fifth Thursdays of the month\, an in-person service of Holy Eucharist offered in Thomsen Chapel. Fellowship and a community breakfast follow the service. \nUPDATE: The regular Thursday morning attendees have decided that their online service on the second and fourth Sundays of the month should merge with the online Daily Morning Prayer Group. On those Thursdays when there is not an in-person Eucharist\, gather online at 7:30 (rather than 7) using the normal Daily Office link. There will still be time available for checking in and chatting following the liturgy. All are welcome! \n 
URL:https://saintmarks.org/calendar/thursday-morning-chapel-eucharist-5/2025-07-03/
LOCATION:Thomsen Chapel
END:VEVENT
BEGIN:VEVENT
DTSTART;TZID=America/Los_Angeles:20250703T180000
DTEND;TZID=America/Los_Angeles:20250703T183000
DTSTAMP:20260425T055939
CREATED:20241114T174742Z
LAST-MODIFIED:20260311T131025Z
UID:10061580-1751565600-1751567400@saintmarks.org
SUMMARY:Evening Prayer Online
DESCRIPTION:MONDAY THROUGH FRIDAY\, 6 P.M. \nLay readers from Seattle-area congregations including the cathedral lead a spoken service of daily prayer following the form of the Book of Common Prayer 1979\, every weekday evening at 6 p.m. The service lasts approximately 30 minutes. Learn more here. \nJoin online using this Zoom link. \n\n\n\nEvening Prayer is always cancelled when the cathedral office is closed for holidays or other reasons\, or when a special liturgy is being offered in the nave on a weekday evening.
URL:https://saintmarks.org/calendar/evening-prayer-online/2025-07-03/
LOCATION:Online via Zoom
END:VEVENT
BEGIN:VEVENT
DTSTART;VALUE=DATE:20250704
DTEND;VALUE=DATE:20250706
DTSTAMP:20260425T055939
CREATED:20250624T132752Z
LAST-MODIFIED:20250626T212838Z
UID:10063688-1751605200-1751691599@saintmarks.org
SUMMARY:FOURTH OF JULY
DESCRIPTION:The cathedral and offices will be closed on Friday\, July 4\, 2025\, in observance of Independence Day. \nOnline Morning Prayer will meet as usual\, but Online Evening Prayer is suspended.
URL:https://saintmarks.org/calendar/fourth-of-july-holiday/
END:VEVENT
BEGIN:VEVENT
DTSTART;TZID=America/Los_Angeles:20250704T073000
DTEND;TZID=America/Los_Angeles:20250704T080000
DTSTAMP:20260425T055939
CREATED:20250626T212619Z
LAST-MODIFIED:20250626T212648Z
UID:10063696-1751614200-1751616000@saintmarks.org
SUMMARY:Morning Prayer Online
DESCRIPTION:Daily Morning Prayer\n \nMONDAY–FRIDAY\, 7:30-8 A.M.\, via Zoom\n \nCome just as you are to Morning Prayer on weekday mornings\, on Zoom\, following the form of the Book of Common Prayer 1979. All are welcome\, whether you’re still in your pj’s\, joining from your workplace\, or listening on the move. No former experience with the Daily Office is necessary. \nJoin Morning Prayer using this Zoom link.
URL:https://saintmarks.org/calendar/morning-prayer-online/2025-07-04/
LOCATION:Online via Zoom
END:VEVENT
BEGIN:VEVENT
DTSTART;TZID=America/Los_Angeles:20250704T113000
DTEND;TZID=America/Los_Angeles:20250704T140000
DTSTAMP:20260425T055939
CREATED:20241205T160745Z
LAST-MODIFIED:20251216T144240Z
UID:10062846-1751628600-1751637600@saintmarks.org
SUMMARY:Ministry of Worsted Wool
DESCRIPTION:The Ministry of Worsted Wool is a ministry of faith enrichment as your knitting and crocheting talents contribute to our parish and the wider community. Our major needlecraft emphasis is on making prayer shawls\, baby blankets for the Refugee Resettlement Office\, and watch caps for the Seafarers. We meet on the first Friday of the month from 11:30 a.m. to 2 p.m. for a brown bag lunch while our needles and crochet hooks continue to work our yarn. All levels of skill are welcome! \nContact Barbara Erickson: knitters@saintmarks.org
URL:https://saintmarks.org/calendar/ministry-of-worsted-wool/2025-07-04/
LOCATION:Leffler Living Room
END:VEVENT
BEGIN:VEVENT
DTSTART;TZID=America/Los_Angeles:20250705T090000
DTEND;TZID=America/Los_Angeles:20250705T113000
DTSTAMP:20260425T055939
CREATED:20250701T130545Z
LAST-MODIFIED:20250904T215552Z
UID:10063150-1751706000-1751715000@saintmarks.org
SUMMARY:Cathedral Run Group
DESCRIPTION:Hosted by 20s/30s—All are welcome \nFIRST SATURDAYS\, MARCH THROUGH AUGUST\, 9 A.M.\, meet on the outdoor labyrinth \nAll ages are welcome to meet on the outdoor labyrinth in front of the cathedral for a three-mile morning run through Volunteer Park. All paces welcome. Afterward\, there will be a chance for fellowship over coffee. Email Adrienne (adriennehub@gmail.com) with questions.
URL:https://saintmarks.org/calendar/cathedral-run-group-2/2025-07-05/
LOCATION:Front Lawn/Labyrinth
END:VEVENT
BEGIN:VEVENT
DTSTART;TZID=America/Los_Angeles:20250705T093000
DTEND;TZID=America/Los_Angeles:20250705T120000
DTSTAMP:20260425T055939
CREATED:20231231T024047Z
LAST-MODIFIED:20251215T140834Z
UID:10062124-1751707800-1751716800@saintmarks.org
SUMMARY:*Clear Mountain Buddhist Monastery: Meditation\, Teaching & Social
DESCRIPTION:SATURDAYS\, 9:30 A.M. – 12 P.M\, Skinner Auditorium \nThe meeting is occasionally moved to Bloedel Hall. \nThose unable to attend in-person are also welcome to tune in via Zoom or YouTube livestream. \nSaint Mark’s Cathedral cathedral is the host this meeting of the Clear Mountain Buddhist Monastery community. \nJoin for a morning of meditation\, teaching\, and spiritual conversation over coffee! Each Saturday from 9:30 a.m.–11:30 a.m.\, local practitioners gather together in the Saint Mark’s Cathedral Skinner Auditorium (located in the St Nicholas School Building\, just north of the cathedral building\, 1501 10th Ave E.) for a community meditation\, teaching\, and coffee social. \nGatherings begin with a guided sit from 9:30–10 a.m. designed to accommodate and empower a wide variety of practices\, from Buddhist meditation to centering prayer. The morning continues with a Dhamma teaching and Q&A from 10–11 followed by a chance\, for those who want\, to discuss life and practice over coffee from 11–noon. If they wish\, visitors may also bring a small food offering for the monastic meal. \nMore information about this meeting can be found here.
URL:https://saintmarks.org/calendar/clear-mountain-buddhist-monastery-meditation-teaching-social/2025-07-05/
LOCATION:Skinner Auditorium\, 1501 10th Ave E\, Seattle\, WA\, 98102\, United States
ORGANIZER;CN="Clear Mountain Monastery":MAILTO:info@clearmountainmonastery.org
END:VEVENT
BEGIN:VEVENT
DTSTART;TZID=America/Los_Angeles:20250706T080000
DTEND;TZID=America/Los_Angeles:20250706T090000
DTSTAMP:20260425T055939
CREATED:20231231T015722Z
LAST-MODIFIED:20250520T192821Z
UID:10062176-1751788800-1751792400@saintmarks.org
SUMMARY:Holy Eucharist (8)
DESCRIPTION:A spoken service of Holy Eucharist in Thomsen Chapel\, with sermon and hymns.
URL:https://saintmarks.org/calendar/holy-eucharist-8-2/2025-07-06/
LOCATION:Thomsen Chapel
END:VEVENT
BEGIN:VEVENT
DTSTART;TZID=America/Los_Angeles:20250706T090000
DTEND;TZID=America/Los_Angeles:20250706T100000
DTSTAMP:20260425T055939
CREATED:20210602T232903Z
LAST-MODIFIED:20250409T051755Z
UID:10058729-1751792400-1751796000@saintmarks.org
SUMMARY:Holy Eucharist (9)
DESCRIPTION:Liturgy with sermon and hymns. Music is offered by Saint Mark’s Singers or children’s choirs. \nChildren’s Chapel is offered during the 9 a.m. service. After the Gospel is proclaimed\, children pre-school through 2nd grade are invited to Thomsen Chapel for Bible stories\, singing\, and prayer. Parents are welcome to join their children. They return at the Peace. \nLocation: Cathedral Nave \nThis service is not livestreamed.
URL:https://saintmarks.org/calendar/9-a-m-holy-eucharist/2025-07-06/
LOCATION:Cathedral Nave
END:VEVENT
BEGIN:VEVENT
DTSTART;TZID=America/Los_Angeles:20250706T110000
DTEND;TZID=America/Los_Angeles:20250706T120000
DTSTAMP:20260425T055939
CREATED:20201110T162207Z
LAST-MODIFIED:20250409T051809Z
UID:10058924-1751799600-1751803200@saintmarks.org
SUMMARY:Holy Eucharist (11)
DESCRIPTION:Liturgy and music reflecting the breadth and depth of the Episcopal tradition\, with Scripture\, sermon\, hymns\, and choral anthems. \nWorship in person or online at saintmarks.org/livestream — also streams simultaneously at facebook.com/SaintMarksSeattle  and at youtube.com/c/SaintMarksEpiscopalCathedralSeattle/
URL:https://saintmarks.org/calendar/11-a-m-holy-eucharist-livestream/2025-07-06/
END:VEVENT
BEGIN:VEVENT
DTSTART;TZID=America/Los_Angeles:20250706T123000
DTEND;TZID=America/Los_Angeles:20250706T140000
DTSTAMP:20260425T055939
CREATED:20240101T054943Z
LAST-MODIFIED:20251216T144618Z
UID:10063679-1751805000-1751810400@saintmarks.org
SUMMARY:Newcomers' Coffee Hour with Clergy
DESCRIPTION:IMMEDIATELY FOLLOING THE CONCLUSION OF THE 11 A.M. SERVICE \nFor many years\, a Newcomers’ Coffee with Clergy has been offered on the first Sunday of each month\, for guests\, newcomers\, and anyone with questions about this community and its liturgies. Gather in the back of the nave immediately following the 11 a.m. Sunday service on the first Sunday of the month. \nEmail newcomers@saintmarks.org if you cannot attend in person\, or with any other questions.
URL:https://saintmarks.org/calendar/1215-p-m-newcomers-coffee-hour-with-clergy/2025-07-06/
LOCATION:Leffler Living Room
END:VEVENT
BEGIN:VEVENT
DTSTART;TZID=America/Los_Angeles:20250706T123000
DTEND;TZID=America/Los_Angeles:20250706T140000
DTSTAMP:20260425T055939
CREATED:20250621T224940Z
LAST-MODIFIED:20250626T221137Z
UID:10063685-1751805000-1751810400@saintmarks.org
SUMMARY:Queer in Christ Post-Pride Potluck
DESCRIPTION:SUNDAY\, JULY 6\, 12:30 P.M.\, in Leffler House \nIn lieu of the usual first-Sunday Queer Conversation\, the Queer in Christ group will gather for a Pride Month de-brief to connect over a potluck meal following the 11 a.m. service on July 6. (With both 4:30 Evensong and the 7 p.m. Contemplative Eucharist on summer hiatus\, gathering in the evening as usual makes less sense.) Bring a dish to share! Email queerinchrist@saintmarks.org with questions.
URL:https://saintmarks.org/calendar/queer-in-christ-post-pride-potluck/
LOCATION:Leffler Living Room
END:VEVENT
BEGIN:VEVENT
DTSTART;TZID=America/Los_Angeles:20250706T213000
DTEND;TZID=America/Los_Angeles:20250706T220000
DTSTAMP:20260425T055939
CREATED:20231231T020240Z
LAST-MODIFIED:20250612T223846Z
UID:10062280-1751837400-1751839200@saintmarks.org
SUMMARY:The Office of Compline
DESCRIPTION:EVERY SUNDAY\, 9:30 P.M. in the cathedral nave\, livestreamed\, and broadcast on Classical KING \nA beloved Seattle institution since 1956\, the all-male Compline Choir sings the last monastic office of the day every Sunday at 9:30 p.m. \nThe service is broadcast live each week on KING 98.1 FM\, or streaming at king.org. \nThe service is livestreamed on the cathedral’s livestream page\, or on complinechoir.org\, or on Facebook: facebook.com/SaintMarksSeattle or facebook.com/complinechoir or on YouTube: youtube.com/c/SaintMarksEpiscopalCathedralSeattle \nVideo of recent services may be seen on the Compline page.  \nThe service is also available as a podcast. To hear each week’s service on-demand\, search for “Saint Mark’s Compline” wherever you get you podcasts\, or visit complinepodcast.org. \nLearn more on the Compline page of this website\, or at  complinechoir.org.
URL:https://saintmarks.org/calendar/the-office-of-compline/2025-07-06/
LOCATION:Cathedral Nave
END:VEVENT
BEGIN:VEVENT
DTSTART;TZID=America/Los_Angeles:20250707T073000
DTEND;TZID=America/Los_Angeles:20250707T080000
DTSTAMP:20260425T055939
CREATED:20250626T212619Z
LAST-MODIFIED:20250626T212648Z
UID:10063697-1751873400-1751875200@saintmarks.org
SUMMARY:Morning Prayer Online
DESCRIPTION:Daily Morning Prayer\n \nMONDAY–FRIDAY\, 7:30-8 A.M.\, via Zoom\n \nCome just as you are to Morning Prayer on weekday mornings\, on Zoom\, following the form of the Book of Common Prayer 1979. All are welcome\, whether you’re still in your pj’s\, joining from your workplace\, or listening on the move. No former experience with the Daily Office is necessary. \nJoin Morning Prayer using this Zoom link.
URL:https://saintmarks.org/calendar/morning-prayer-online/2025-07-07/
LOCATION:Online via Zoom
END:VEVENT
BEGIN:VEVENT
DTSTART;TZID=America/Los_Angeles:20250707T120000
DTEND;TZID=America/Los_Angeles:20250707T130000
DTSTAMP:20260425T055939
CREATED:20231231T025014Z
LAST-MODIFIED:20251003T053653Z
UID:10062332-1751889600-1751893200@saintmarks.org
SUMMARY:*Capitol Hill Al-Anon Family Group
DESCRIPTION:Open to anyone interested in the family disease of alcoholism. Some groups invite members of the professional community to hear how the Al-Anon program aids in recovery. Families Friends and Observers Welcome. \nLocated at St Marks Cathedral. Use the administrative office entrance\, and go upstairs to the second floor conference room. On holiday Mondays we meet on Zoom only. \nMeeting is now in person \nNOTE: On holidays when the cathedral offices are closed\, or on rare occasions when there is a conflict in the space\, the group meets either on Zoom\, or at All Pilgrim’s Church nearby the cathedral on Broadway E. Please check the most up-to-date information and find the Zoom link here.
URL:https://saintmarks.org/calendar/capitol-hill-al-anon-family-group-48/2025-07-07/
LOCATION:Cathedral House Room 210
ORGANIZER;CN="Capitol Hill Al-Anon":MAILTO:CapitolHillAFG@gmail.com
END:VEVENT
BEGIN:VEVENT
DTSTART;TZID=America/Los_Angeles:20250707T180000
DTEND;TZID=America/Los_Angeles:20250707T183000
DTSTAMP:20260425T055939
CREATED:20241114T174742Z
LAST-MODIFIED:20260311T131025Z
UID:10061582-1751911200-1751913000@saintmarks.org
SUMMARY:Evening Prayer Online
DESCRIPTION:MONDAY THROUGH FRIDAY\, 6 P.M. \nLay readers from Seattle-area congregations including the cathedral lead a spoken service of daily prayer following the form of the Book of Common Prayer 1979\, every weekday evening at 6 p.m. The service lasts approximately 30 minutes. Learn more here. \nJoin online using this Zoom link. \n\n\n\nEvening Prayer is always cancelled when the cathedral office is closed for holidays or other reasons\, or when a special liturgy is being offered in the nave on a weekday evening.
URL:https://saintmarks.org/calendar/evening-prayer-online/2025-07-07/
LOCATION:Online via Zoom
END:VEVENT
BEGIN:VEVENT
DTSTART;TZID=America/Los_Angeles:20250707T183000
DTEND;TZID=America/Los_Angeles:20250707T193000
DTSTAMP:20260425T055939
CREATED:20241001T212026Z
LAST-MODIFIED:20251216T143909Z
UID:10061042-1751913000-1751916600@saintmarks.org
SUMMARY:Cathedral Yoga
DESCRIPTION:EVERY MONDAY\, in the cathedral nave \nDOORS OPEN AT 6 P.M. (Door are locked at the beginning of class at 6:30 p.m.)\nYOGA CLASS 6:30–7:30 P.M. \nIn the sacred space of Saint Mark’s Cathedral\, this spiritual practice is designed to improve health\, release tension\, and deepen spirituality. It is a gentle\, restorative\, and contemplative practice\, and the instructors guide the group in ways that welcome newcomer and experienced practitioners alike. \n\nPay what you can.\nMats are available to borrow (first come\, first served).\nThe doors into the cathedral are opened at 6 p.m. and then locked at 6:30 p.m.\nOn the third Monday of each month the class ends with an extended savasana with Sound Bath\, 7:30–7:45 p.m. As the doors are locked at 6:30\, it is no longer possible to attend the sound bath without attending the class. Participants are encouraged to stay for the entire experience if possible.\nOn the fourth Monday of each month\, class is followed by social time with tea and chat.\n\nLearn more here. Questions? Write to yoga@saintmarks.org
URL:https://saintmarks.org/calendar/cathedral-yoga/2025-07-07/
LOCATION:Cathedral Nave
END:VEVENT
BEGIN:VEVENT
DTSTART;TZID=America/Los_Angeles:20250707T190000
DTEND;TZID=America/Los_Angeles:20250707T200000
DTSTAMP:20260425T055939
CREATED:20241001T195521Z
LAST-MODIFIED:20241001T195521Z
UID:10060958-1751914800-1751918400@saintmarks.org
SUMMARY:*Alcoholics Anonymous (Broadway Group)
DESCRIPTION:Every Monday. 7–8 P.M. PDT \n\nClosed\nIn-person\nWheelchair Access\nMeeting located in Bloedel Hall.\n\nMore information here
URL:https://saintmarks.org/calendar/alcoholics-anonymous-broadway-group/2025-07-07/
LOCATION:Bloedel Hall
END:VEVENT
BEGIN:VEVENT
DTSTART;TZID=America/Los_Angeles:20250708T073000
DTEND;TZID=America/Los_Angeles:20250708T080000
DTSTAMP:20260425T055939
CREATED:20250626T212619Z
LAST-MODIFIED:20250626T212648Z
UID:10063698-1751959800-1751961600@saintmarks.org
SUMMARY:Morning Prayer Online
DESCRIPTION:Daily Morning Prayer\n \nMONDAY–FRIDAY\, 7:30-8 A.M.\, via Zoom\n \nCome just as you are to Morning Prayer on weekday mornings\, on Zoom\, following the form of the Book of Common Prayer 1979. All are welcome\, whether you’re still in your pj’s\, joining from your workplace\, or listening on the move. No former experience with the Daily Office is necessary. \nJoin Morning Prayer using this Zoom link.
URL:https://saintmarks.org/calendar/morning-prayer-online/2025-07-08/
LOCATION:Online via Zoom
END:VEVENT
BEGIN:VEVENT
DTSTART;TZID=America/Los_Angeles:20250708T120000
DTEND;TZID=America/Los_Angeles:20250708T133000
DTSTAMP:20260425T055939
CREATED:20231231T022926Z
LAST-MODIFIED:20251216T142906Z
UID:10062384-1751976000-1751981400@saintmarks.org
SUMMARY:Tuesday Noon Bible Study (online)
DESCRIPTION:EVERY TUESDAY\, 12–1:30 P.M.\, online via Zoom only \n \nThis group provides a weekly conversation around the scripture readings for the following Sunday. Each week a discussion is facilitated by rotating guest leaders\, and lively conversation ensues as people share their thoughts about the lessons. The group meets from 12–1:30 p.m. for study and prayer over the lectionary\, led by a rotating member of the cathedral staff and clergy. (Join early at 11:30 for social time and chat.) \nContact biblestudy@saintmarks.org for more information and to get the Zoom link to join online.
URL:https://saintmarks.org/calendar/tuesday-noon-bible-study-online/2025-07-08/
LOCATION:Online via Zoom
END:VEVENT
END:VCALENDAR