BEGIN:VCALENDAR
VERSION:2.0
PRODID:-//Saint Mark&#039;s Episcopal Cathedral - ECPv6.15.20//NONSGML v1.0//EN
CALSCALE:GREGORIAN
METHOD:PUBLISH
X-WR-CALNAME:Saint Mark&#039;s Episcopal Cathedral
X-ORIGINAL-URL:https://saintmarks.org
X-WR-CALDESC:Events for Saint Mark&#039;s Episcopal Cathedral
REFRESH-INTERVAL;VALUE=DURATION:PT1H
X-Robots-Tag:noindex
X-PUBLISHED-TTL:PT1H
BEGIN:VTIMEZONE
TZID:America/Los_Angeles
BEGIN:DAYLIGHT
TZOFFSETFROM:-0800
TZOFFSETTO:-0700
TZNAME:PDT
DTSTART:20240310T100000
END:DAYLIGHT
BEGIN:STANDARD
TZOFFSETFROM:-0700
TZOFFSETTO:-0800
TZNAME:PST
DTSTART:20241103T090000
END:STANDARD
BEGIN:DAYLIGHT
TZOFFSETFROM:-0800
TZOFFSETTO:-0700
TZNAME:PDT
DTSTART:20250309T100000
END:DAYLIGHT
BEGIN:STANDARD
TZOFFSETFROM:-0700
TZOFFSETTO:-0800
TZNAME:PST
DTSTART:20251102T090000
END:STANDARD
BEGIN:DAYLIGHT
TZOFFSETFROM:-0800
TZOFFSETTO:-0700
TZNAME:PDT
DTSTART:20260308T100000
END:DAYLIGHT
BEGIN:STANDARD
TZOFFSETFROM:-0700
TZOFFSETTO:-0800
TZNAME:PST
DTSTART:20261101T090000
END:STANDARD
END:VTIMEZONE
BEGIN:VEVENT
DTSTART;TZID=America/Los_Angeles:20250706T123000
DTEND;TZID=America/Los_Angeles:20250706T140000
DTSTAMP:20260425T073434
CREATED:20240101T054943Z
LAST-MODIFIED:20251216T144618Z
UID:10063679-1751805000-1751810400@saintmarks.org
SUMMARY:Newcomers' Coffee Hour with Clergy
DESCRIPTION:IMMEDIATELY FOLLOING THE CONCLUSION OF THE 11 A.M. SERVICE \nFor many years\, a Newcomers’ Coffee with Clergy has been offered on the first Sunday of each month\, for guests\, newcomers\, and anyone with questions about this community and its liturgies. Gather in the back of the nave immediately following the 11 a.m. Sunday service on the first Sunday of the month. \nEmail newcomers@saintmarks.org if you cannot attend in person\, or with any other questions.
URL:https://saintmarks.org/calendar/1215-p-m-newcomers-coffee-hour-with-clergy/2025-07-06/
LOCATION:Leffler Living Room
END:VEVENT
BEGIN:VEVENT
DTSTART;TZID=America/Los_Angeles:20250706T123000
DTEND;TZID=America/Los_Angeles:20250706T140000
DTSTAMP:20260425T073434
CREATED:20250621T224940Z
LAST-MODIFIED:20250626T221137Z
UID:10063685-1751805000-1751810400@saintmarks.org
SUMMARY:Queer in Christ Post-Pride Potluck
DESCRIPTION:SUNDAY\, JULY 6\, 12:30 P.M.\, in Leffler House \nIn lieu of the usual first-Sunday Queer Conversation\, the Queer in Christ group will gather for a Pride Month de-brief to connect over a potluck meal following the 11 a.m. service on July 6. (With both 4:30 Evensong and the 7 p.m. Contemplative Eucharist on summer hiatus\, gathering in the evening as usual makes less sense.) Bring a dish to share! Email queerinchrist@saintmarks.org with questions.
URL:https://saintmarks.org/calendar/queer-in-christ-post-pride-potluck/
LOCATION:Leffler Living Room
END:VEVENT
BEGIN:VEVENT
DTSTART;TZID=America/Los_Angeles:20250706T213000
DTEND;TZID=America/Los_Angeles:20250706T220000
DTSTAMP:20260425T073434
CREATED:20231231T020240Z
LAST-MODIFIED:20250612T223846Z
UID:10062280-1751837400-1751839200@saintmarks.org
SUMMARY:The Office of Compline
DESCRIPTION:EVERY SUNDAY\, 9:30 P.M. in the cathedral nave\, livestreamed\, and broadcast on Classical KING \nA beloved Seattle institution since 1956\, the all-male Compline Choir sings the last monastic office of the day every Sunday at 9:30 p.m. \nThe service is broadcast live each week on KING 98.1 FM\, or streaming at king.org. \nThe service is livestreamed on the cathedral’s livestream page\, or on complinechoir.org\, or on Facebook: facebook.com/SaintMarksSeattle or facebook.com/complinechoir or on YouTube: youtube.com/c/SaintMarksEpiscopalCathedralSeattle \nVideo of recent services may be seen on the Compline page.  \nThe service is also available as a podcast. To hear each week’s service on-demand\, search for “Saint Mark’s Compline” wherever you get you podcasts\, or visit complinepodcast.org. \nLearn more on the Compline page of this website\, or at  complinechoir.org.
URL:https://saintmarks.org/calendar/the-office-of-compline/2025-07-06/
LOCATION:Cathedral Nave
END:VEVENT
BEGIN:VEVENT
DTSTART;TZID=America/Los_Angeles:20250707T073000
DTEND;TZID=America/Los_Angeles:20250707T080000
DTSTAMP:20260425T073434
CREATED:20250626T212619Z
LAST-MODIFIED:20250626T212648Z
UID:10063697-1751873400-1751875200@saintmarks.org
SUMMARY:Morning Prayer Online
DESCRIPTION:Daily Morning Prayer\n \nMONDAY–FRIDAY\, 7:30-8 A.M.\, via Zoom\n \nCome just as you are to Morning Prayer on weekday mornings\, on Zoom\, following the form of the Book of Common Prayer 1979. All are welcome\, whether you’re still in your pj’s\, joining from your workplace\, or listening on the move. No former experience with the Daily Office is necessary. \nJoin Morning Prayer using this Zoom link.
URL:https://saintmarks.org/calendar/morning-prayer-online/2025-07-07/
LOCATION:Online via Zoom
END:VEVENT
BEGIN:VEVENT
DTSTART;TZID=America/Los_Angeles:20250707T120000
DTEND;TZID=America/Los_Angeles:20250707T130000
DTSTAMP:20260425T073434
CREATED:20231231T025014Z
LAST-MODIFIED:20251003T053653Z
UID:10062332-1751889600-1751893200@saintmarks.org
SUMMARY:*Capitol Hill Al-Anon Family Group
DESCRIPTION:Open to anyone interested in the family disease of alcoholism. Some groups invite members of the professional community to hear how the Al-Anon program aids in recovery. Families Friends and Observers Welcome. \nLocated at St Marks Cathedral. Use the administrative office entrance\, and go upstairs to the second floor conference room. On holiday Mondays we meet on Zoom only. \nMeeting is now in person \nNOTE: On holidays when the cathedral offices are closed\, or on rare occasions when there is a conflict in the space\, the group meets either on Zoom\, or at All Pilgrim’s Church nearby the cathedral on Broadway E. Please check the most up-to-date information and find the Zoom link here.
URL:https://saintmarks.org/calendar/capitol-hill-al-anon-family-group-48/2025-07-07/
LOCATION:Cathedral House Room 210
ORGANIZER;CN="Capitol Hill Al-Anon":MAILTO:CapitolHillAFG@gmail.com
END:VEVENT
BEGIN:VEVENT
DTSTART;TZID=America/Los_Angeles:20250707T180000
DTEND;TZID=America/Los_Angeles:20250707T183000
DTSTAMP:20260425T073434
CREATED:20241114T174742Z
LAST-MODIFIED:20260311T131025Z
UID:10061582-1751911200-1751913000@saintmarks.org
SUMMARY:Evening Prayer Online
DESCRIPTION:MONDAY THROUGH FRIDAY\, 6 P.M. \nLay readers from Seattle-area congregations including the cathedral lead a spoken service of daily prayer following the form of the Book of Common Prayer 1979\, every weekday evening at 6 p.m. The service lasts approximately 30 minutes. Learn more here. \nJoin online using this Zoom link. \n\n\n\nEvening Prayer is always cancelled when the cathedral office is closed for holidays or other reasons\, or when a special liturgy is being offered in the nave on a weekday evening.
URL:https://saintmarks.org/calendar/evening-prayer-online/2025-07-07/
LOCATION:Online via Zoom
END:VEVENT
BEGIN:VEVENT
DTSTART;TZID=America/Los_Angeles:20250707T183000
DTEND;TZID=America/Los_Angeles:20250707T193000
DTSTAMP:20260425T073434
CREATED:20241001T212026Z
LAST-MODIFIED:20251216T143909Z
UID:10061042-1751913000-1751916600@saintmarks.org
SUMMARY:Cathedral Yoga
DESCRIPTION:EVERY MONDAY\, in the cathedral nave \nDOORS OPEN AT 6 P.M. (Door are locked at the beginning of class at 6:30 p.m.)\nYOGA CLASS 6:30–7:30 P.M. \nIn the sacred space of Saint Mark’s Cathedral\, this spiritual practice is designed to improve health\, release tension\, and deepen spirituality. It is a gentle\, restorative\, and contemplative practice\, and the instructors guide the group in ways that welcome newcomer and experienced practitioners alike. \n\nPay what you can.\nMats are available to borrow (first come\, first served).\nThe doors into the cathedral are opened at 6 p.m. and then locked at 6:30 p.m.\nOn the third Monday of each month the class ends with an extended savasana with Sound Bath\, 7:30–7:45 p.m. As the doors are locked at 6:30\, it is no longer possible to attend the sound bath without attending the class. Participants are encouraged to stay for the entire experience if possible.\nOn the fourth Monday of each month\, class is followed by social time with tea and chat.\n\nLearn more here. Questions? Write to yoga@saintmarks.org
URL:https://saintmarks.org/calendar/cathedral-yoga/2025-07-07/
LOCATION:Cathedral Nave
END:VEVENT
BEGIN:VEVENT
DTSTART;TZID=America/Los_Angeles:20250707T190000
DTEND;TZID=America/Los_Angeles:20250707T200000
DTSTAMP:20260425T073434
CREATED:20241001T195521Z
LAST-MODIFIED:20241001T195521Z
UID:10060958-1751914800-1751918400@saintmarks.org
SUMMARY:*Alcoholics Anonymous (Broadway Group)
DESCRIPTION:Every Monday. 7–8 P.M. PDT \n\nClosed\nIn-person\nWheelchair Access\nMeeting located in Bloedel Hall.\n\nMore information here
URL:https://saintmarks.org/calendar/alcoholics-anonymous-broadway-group/2025-07-07/
LOCATION:Bloedel Hall
END:VEVENT
BEGIN:VEVENT
DTSTART;TZID=America/Los_Angeles:20250708T073000
DTEND;TZID=America/Los_Angeles:20250708T080000
DTSTAMP:20260425T073434
CREATED:20250626T212619Z
LAST-MODIFIED:20250626T212648Z
UID:10063698-1751959800-1751961600@saintmarks.org
SUMMARY:Morning Prayer Online
DESCRIPTION:Daily Morning Prayer\n \nMONDAY–FRIDAY\, 7:30-8 A.M.\, via Zoom\n \nCome just as you are to Morning Prayer on weekday mornings\, on Zoom\, following the form of the Book of Common Prayer 1979. All are welcome\, whether you’re still in your pj’s\, joining from your workplace\, or listening on the move. No former experience with the Daily Office is necessary. \nJoin Morning Prayer using this Zoom link.
URL:https://saintmarks.org/calendar/morning-prayer-online/2025-07-08/
LOCATION:Online via Zoom
END:VEVENT
BEGIN:VEVENT
DTSTART;TZID=America/Los_Angeles:20250708T120000
DTEND;TZID=America/Los_Angeles:20250708T133000
DTSTAMP:20260425T073434
CREATED:20231231T022926Z
LAST-MODIFIED:20251216T142906Z
UID:10062384-1751976000-1751981400@saintmarks.org
SUMMARY:Tuesday Noon Bible Study (online)
DESCRIPTION:EVERY TUESDAY\, 12–1:30 P.M.\, online via Zoom only \n \nThis group provides a weekly conversation around the scripture readings for the following Sunday. Each week a discussion is facilitated by rotating guest leaders\, and lively conversation ensues as people share their thoughts about the lessons. The group meets from 12–1:30 p.m. for study and prayer over the lectionary\, led by a rotating member of the cathedral staff and clergy. (Join early at 11:30 for social time and chat.) \nContact biblestudy@saintmarks.org for more information and to get the Zoom link to join online.
URL:https://saintmarks.org/calendar/tuesday-noon-bible-study-online/2025-07-08/
LOCATION:Online via Zoom
END:VEVENT
BEGIN:VEVENT
DTSTART;TZID=America/Los_Angeles:20250708T150000
DTEND;TZID=America/Los_Angeles:20250708T163000
DTSTAMP:20260425T073434
CREATED:20231110T090210Z
LAST-MODIFIED:20251216T144454Z
UID:10062569-1751986800-1751992200@saintmarks.org
SUMMARY:Third Acters Monthly Online Meet-up
DESCRIPTION:SECOND TUESDAY OF THE MONTH\, 3–4:30 P.M.\, online via Zoom \nEveryone ages 60+ is invited to join the Third Acters monthly Zoom meeting on the second Tuesday of each month! \nWe build community with a check-in\, during which time we exchange stories\, inspiration and often\, joy. Then we introduce a theme or question such as\, “How are you increasing your intimacy with God as you age?” Or “What is your experience of downsizing your home?” Then\, we invite sharing. We begin and end with prayer or poem\, often by one of the attending Third Acters. \nTo get the Zoom link to join\, contact Kathy Minsch (kminsch@gmail.com) or Elizabeth Clark-Stern (ecstern@yahoo.com)
URL:https://saintmarks.org/calendar/third-act-ers-retirees-group/2025-07-08/
LOCATION:Online via Zoom
END:VEVENT
BEGIN:VEVENT
DTSTART;TZID=America/Los_Angeles:20250708T180000
DTEND;TZID=America/Los_Angeles:20250708T183000
DTSTAMP:20260425T073434
CREATED:20241114T174742Z
LAST-MODIFIED:20260311T131025Z
UID:10061583-1751997600-1751999400@saintmarks.org
SUMMARY:Evening Prayer Online
DESCRIPTION:MONDAY THROUGH FRIDAY\, 6 P.M. \nLay readers from Seattle-area congregations including the cathedral lead a spoken service of daily prayer following the form of the Book of Common Prayer 1979\, every weekday evening at 6 p.m. The service lasts approximately 30 minutes. Learn more here. \nJoin online using this Zoom link. \n\n\n\nEvening Prayer is always cancelled when the cathedral office is closed for holidays or other reasons\, or when a special liturgy is being offered in the nave on a weekday evening.
URL:https://saintmarks.org/calendar/evening-prayer-online/2025-07-08/
LOCATION:Online via Zoom
END:VEVENT
BEGIN:VEVENT
DTSTART;TZID=America/Los_Angeles:20250708T190000
DTEND;TZID=America/Los_Angeles:20250708T200000
DTSTAMP:20260425T073434
CREATED:20231231T030046Z
LAST-MODIFIED:20250902T174511Z
UID:10060993-1752001200-1752004800@saintmarks.org
SUMMARY:*Alcoholics Anonymous (Knuckleheads)
DESCRIPTION:Knuckleheads (CLOSED)\nNOTE: In-person meeting will not happen on Tuesday\, December 24\, but the group will meet virtually at the usual time. \nMeeting information \nMen only. In-person and online. \nTuesday\, 7:00 pm to 8:00 pm \n\nIn-person\nOnline\nClosed\nMen\nOne Hour\n\nMore information here. \nClosed meetings are for A.A. members only\, or for those who have a drinking problem and “have a desire to stop drinking.” \nThis meeting is being held in person and on zoom.
URL:https://saintmarks.org/calendar/alcoholics-anonymous-knuckleheads/2025-07-08/
LOCATION:Bloedel Hall
END:VEVENT
BEGIN:VEVENT
DTSTART;TZID=America/Los_Angeles:20250709T073000
DTEND;TZID=America/Los_Angeles:20250709T080000
DTSTAMP:20260425T073434
CREATED:20250626T212619Z
LAST-MODIFIED:20250626T212648Z
UID:10063699-1752046200-1752048000@saintmarks.org
SUMMARY:Morning Prayer Online
DESCRIPTION:Daily Morning Prayer\n \nMONDAY–FRIDAY\, 7:30-8 A.M.\, via Zoom\n \nCome just as you are to Morning Prayer on weekday mornings\, on Zoom\, following the form of the Book of Common Prayer 1979. All are welcome\, whether you’re still in your pj’s\, joining from your workplace\, or listening on the move. No former experience with the Daily Office is necessary. \nJoin Morning Prayer using this Zoom link.
URL:https://saintmarks.org/calendar/morning-prayer-online/2025-07-09/
LOCATION:Online via Zoom
END:VEVENT
BEGIN:VEVENT
DTSTART;TZID=America/Los_Angeles:20250709T180000
DTEND;TZID=America/Los_Angeles:20250709T183000
DTSTAMP:20260425T073434
CREATED:20241114T174742Z
LAST-MODIFIED:20260311T131025Z
UID:10061584-1752084000-1752085800@saintmarks.org
SUMMARY:Evening Prayer Online
DESCRIPTION:MONDAY THROUGH FRIDAY\, 6 P.M. \nLay readers from Seattle-area congregations including the cathedral lead a spoken service of daily prayer following the form of the Book of Common Prayer 1979\, every weekday evening at 6 p.m. The service lasts approximately 30 minutes. Learn more here. \nJoin online using this Zoom link. \n\n\n\nEvening Prayer is always cancelled when the cathedral office is closed for holidays or other reasons\, or when a special liturgy is being offered in the nave on a weekday evening.
URL:https://saintmarks.org/calendar/evening-prayer-online/2025-07-09/
LOCATION:Online via Zoom
END:VEVENT
BEGIN:VEVENT
DTSTART;TZID=America/Los_Angeles:20250710T073000
DTEND;TZID=America/Los_Angeles:20250710T080000
DTSTAMP:20260425T073434
CREATED:20250626T212619Z
LAST-MODIFIED:20250626T212648Z
UID:10063700-1752132600-1752134400@saintmarks.org
SUMMARY:Morning Prayer Online
DESCRIPTION:Daily Morning Prayer\n \nMONDAY–FRIDAY\, 7:30-8 A.M.\, via Zoom\n \nCome just as you are to Morning Prayer on weekday mornings\, on Zoom\, following the form of the Book of Common Prayer 1979. All are welcome\, whether you’re still in your pj’s\, joining from your workplace\, or listening on the move. No former experience with the Daily Office is necessary. \nJoin Morning Prayer using this Zoom link.
URL:https://saintmarks.org/calendar/morning-prayer-online/2025-07-10/
LOCATION:Online via Zoom
END:VEVENT
BEGIN:VEVENT
DTSTART;TZID=America/Los_Angeles:20250710T180000
DTEND;TZID=America/Los_Angeles:20250710T183000
DTSTAMP:20260425T073434
CREATED:20241114T174742Z
LAST-MODIFIED:20260311T131025Z
UID:10061585-1752170400-1752172200@saintmarks.org
SUMMARY:Evening Prayer Online
DESCRIPTION:MONDAY THROUGH FRIDAY\, 6 P.M. \nLay readers from Seattle-area congregations including the cathedral lead a spoken service of daily prayer following the form of the Book of Common Prayer 1979\, every weekday evening at 6 p.m. The service lasts approximately 30 minutes. Learn more here. \nJoin online using this Zoom link. \n\n\n\nEvening Prayer is always cancelled when the cathedral office is closed for holidays or other reasons\, or when a special liturgy is being offered in the nave on a weekday evening.
URL:https://saintmarks.org/calendar/evening-prayer-online/2025-07-10/
LOCATION:Online via Zoom
END:VEVENT
BEGIN:VEVENT
DTSTART;TZID=America/Los_Angeles:20250711T073000
DTEND;TZID=America/Los_Angeles:20250711T080000
DTSTAMP:20260425T073434
CREATED:20250626T212619Z
LAST-MODIFIED:20250626T212648Z
UID:10063701-1752219000-1752220800@saintmarks.org
SUMMARY:Morning Prayer Online
DESCRIPTION:Daily Morning Prayer\n \nMONDAY–FRIDAY\, 7:30-8 A.M.\, via Zoom\n \nCome just as you are to Morning Prayer on weekday mornings\, on Zoom\, following the form of the Book of Common Prayer 1979. All are welcome\, whether you’re still in your pj’s\, joining from your workplace\, or listening on the move. No former experience with the Daily Office is necessary. \nJoin Morning Prayer using this Zoom link.
URL:https://saintmarks.org/calendar/morning-prayer-online/2025-07-11/
LOCATION:Online via Zoom
END:VEVENT
BEGIN:VEVENT
DTSTART;TZID=America/Los_Angeles:20250711T180000
DTEND;TZID=America/Los_Angeles:20250711T183000
DTSTAMP:20260425T073434
CREATED:20241114T174742Z
LAST-MODIFIED:20260311T131025Z
UID:10061586-1752256800-1752258600@saintmarks.org
SUMMARY:Evening Prayer Online
DESCRIPTION:MONDAY THROUGH FRIDAY\, 6 P.M. \nLay readers from Seattle-area congregations including the cathedral lead a spoken service of daily prayer following the form of the Book of Common Prayer 1979\, every weekday evening at 6 p.m. The service lasts approximately 30 minutes. Learn more here. \nJoin online using this Zoom link. \n\n\n\nEvening Prayer is always cancelled when the cathedral office is closed for holidays or other reasons\, or when a special liturgy is being offered in the nave on a weekday evening.
URL:https://saintmarks.org/calendar/evening-prayer-online/2025-07-11/
LOCATION:Online via Zoom
END:VEVENT
BEGIN:VEVENT
DTSTART;TZID=America/Los_Angeles:20250712T090000
DTEND;TZID=America/Los_Angeles:20250712T120000
DTSTAMP:20260425T073434
CREATED:20241205T160429Z
LAST-MODIFIED:20251023T222235Z
UID:10062835-1752310800-1752321600@saintmarks.org
SUMMARY:Gardening Ministry
DESCRIPTION:The garden volunteers meet to work on the second Saturday of the month 9 a.m.–noon\, from February through November\, planting\, weeding\, composting and making our campus beautiful. Prior gardening experience is not required\, only enthusiasm! Bring a water bottle and gloves if you have them. \nContact Norva Osborn: gardening@saintmarks.org
URL:https://saintmarks.org/calendar/gardening-ministry/2025-07-12/
LOCATION:Front Lawn/Labyrinth
END:VEVENT
BEGIN:VEVENT
DTSTART;TZID=America/Los_Angeles:20250712T093000
DTEND;TZID=America/Los_Angeles:20250712T120000
DTSTAMP:20260425T073434
CREATED:20231231T024047Z
LAST-MODIFIED:20251215T140834Z
UID:10062125-1752312600-1752321600@saintmarks.org
SUMMARY:*Clear Mountain Buddhist Monastery: Meditation\, Teaching & Social
DESCRIPTION:SATURDAYS\, 9:30 A.M. – 12 P.M\, Skinner Auditorium \nThe meeting is occasionally moved to Bloedel Hall. \nThose unable to attend in-person are also welcome to tune in via Zoom or YouTube livestream. \nSaint Mark’s Cathedral cathedral is the host this meeting of the Clear Mountain Buddhist Monastery community. \nJoin for a morning of meditation\, teaching\, and spiritual conversation over coffee! Each Saturday from 9:30 a.m.–11:30 a.m.\, local practitioners gather together in the Saint Mark’s Cathedral Skinner Auditorium (located in the St Nicholas School Building\, just north of the cathedral building\, 1501 10th Ave E.) for a community meditation\, teaching\, and coffee social. \nGatherings begin with a guided sit from 9:30–10 a.m. designed to accommodate and empower a wide variety of practices\, from Buddhist meditation to centering prayer. The morning continues with a Dhamma teaching and Q&A from 10–11 followed by a chance\, for those who want\, to discuss life and practice over coffee from 11–noon. If they wish\, visitors may also bring a small food offering for the monastic meal. \nMore information about this meeting can be found here.
URL:https://saintmarks.org/calendar/clear-mountain-buddhist-monastery-meditation-teaching-social/2025-07-12/
LOCATION:Skinner Auditorium\, 1501 10th Ave E\, Seattle\, WA\, 98102\, United States
ORGANIZER;CN="Clear Mountain Monastery":MAILTO:info@clearmountainmonastery.org
END:VEVENT
BEGIN:VEVENT
DTSTART;TZID=America/Los_Angeles:20250712T160000
DTEND;TZID=America/Los_Angeles:20250712T170000
DTSTAMP:20260425T073434
CREATED:20250405T225742Z
LAST-MODIFIED:20250405T225742Z
UID:10063218-1752336000-1752339600@saintmarks.org
SUMMARY:Lovett/Helms Wedding
DESCRIPTION:4 p.m. in the cathedral nave
URL:https://saintmarks.org/calendar/lovett-helms-wedding/
LOCATION:Cathedral Nave
END:VEVENT
BEGIN:VEVENT
DTSTART;TZID=America/Los_Angeles:20250713T080000
DTEND;TZID=America/Los_Angeles:20250713T090000
DTSTAMP:20260425T073434
CREATED:20231231T015722Z
LAST-MODIFIED:20250520T192821Z
UID:10062177-1752393600-1752397200@saintmarks.org
SUMMARY:Holy Eucharist (8)
DESCRIPTION:A spoken service of Holy Eucharist in Thomsen Chapel\, with sermon and hymns.
URL:https://saintmarks.org/calendar/holy-eucharist-8-2/2025-07-13/
LOCATION:Thomsen Chapel
END:VEVENT
BEGIN:VEVENT
DTSTART;TZID=America/Los_Angeles:20250713T090000
DTEND;TZID=America/Los_Angeles:20250713T100000
DTSTAMP:20260425T073434
CREATED:20210602T232903Z
LAST-MODIFIED:20250409T051755Z
UID:10058730-1752397200-1752400800@saintmarks.org
SUMMARY:Holy Eucharist (9)
DESCRIPTION:Liturgy with sermon and hymns. Music is offered by Saint Mark’s Singers or children’s choirs. \nChildren’s Chapel is offered during the 9 a.m. service. After the Gospel is proclaimed\, children pre-school through 2nd grade are invited to Thomsen Chapel for Bible stories\, singing\, and prayer. Parents are welcome to join their children. They return at the Peace. \nLocation: Cathedral Nave \nThis service is not livestreamed.
URL:https://saintmarks.org/calendar/9-a-m-holy-eucharist/2025-07-13/
LOCATION:Cathedral Nave
END:VEVENT
BEGIN:VEVENT
DTSTART;TZID=America/Los_Angeles:20250713T100000
DTEND;TZID=America/Los_Angeles:20250713T110000
DTSTAMP:20260425T073434
CREATED:20241206T135002Z
LAST-MODIFIED:20251016T232856Z
UID:10064380-1752400800-1752404400@saintmarks.org
SUMMARY:High School Youth Coffee & Conversation
DESCRIPTION:SECOND SUNDAYS\, 10:10–10:50 A.M.\, Leffler House \n(Does not meet in December 2025 or April 2026) \nAll high school youth are invited to an informal time of coffee\, treats\, and conversation.
URL:https://saintmarks.org/calendar/high-school-youth-coffee-conversation/2025-07-13/
LOCATION:Leffler Living Room
END:VEVENT
BEGIN:VEVENT
DTSTART;TZID=America/Los_Angeles:20250713T101000
DTEND;TZID=America/Los_Angeles:20250713T110000
DTSTAMP:20260425T073434
CREATED:20250710T164031Z
LAST-MODIFIED:20250710T164031Z
UID:10064097-1752401400-1752404400@saintmarks.org
SUMMARY:"Friends Talking" Forum with First AME Pastor Carey Anderson & Dean Thomason
DESCRIPTION:SUNDAY\, JULY 13\, 10:10am\, Bloedel Hall\nJoin Dean Thomason and Pastor Carey Anderson in an informal “Friends Talking” forum this Sunday in Bloedel (which has a new beautiful floor!!). Topics of conversation will include state of the nation\, racial reconciliation\, affordable housing and correcting housing injustices in Seattle’s history\, and much more.
URL:https://saintmarks.org/calendar/friends-talking-forum-with-first-ame-pastor-carey-anderson-dean-thomason/
LOCATION:Bloedel Hall
CATEGORIES:Sunday Forum
END:VEVENT
BEGIN:VEVENT
DTSTART;TZID=America/Los_Angeles:20250713T110000
DTEND;TZID=America/Los_Angeles:20250713T120000
DTSTAMP:20260425T073434
CREATED:20201110T162207Z
LAST-MODIFIED:20250409T051809Z
UID:10058925-1752404400-1752408000@saintmarks.org
SUMMARY:Holy Eucharist (11)
DESCRIPTION:Liturgy and music reflecting the breadth and depth of the Episcopal tradition\, with Scripture\, sermon\, hymns\, and choral anthems. \nWorship in person or online at saintmarks.org/livestream — also streams simultaneously at facebook.com/SaintMarksSeattle  and at youtube.com/c/SaintMarksEpiscopalCathedralSeattle/
URL:https://saintmarks.org/calendar/11-a-m-holy-eucharist-livestream/2025-07-13/
END:VEVENT
BEGIN:VEVENT
DTSTART;TZID=America/Los_Angeles:20250713T123000
DTEND;TZID=America/Los_Angeles:20250713T130000
DTSTAMP:20260425T073434
CREATED:20250710T130310Z
LAST-MODIFIED:20250710T130310Z
UID:10064096-1752409800-1752411600@saintmarks.org
SUMMARY:Opening Reception for Children's Art Display from Gaza and Ukraine
DESCRIPTION:Presented by Saint Mark’s Visual Arts Ministry and Sacred Spaces\, this new exhibit features artwork by children from Gaza and Ukraine\, offering a glimpse into the realities of war through the eyes of the young. The display will be located in the back of the cathedral nave near the coffee/cookie corner. \nAll are invited to an opening reception immediately following the 11 a.m. service on July 13\, with remarks from D’Vorah Kost and Rev. Mark Miller. Refreshments will be generously provided by the Bishop’s Committee for Peace in the Middle East\, including volunteer contributions and Syrian catering. \nIn addition\, Palestinian crafts created by Gazan refugee women in Cairo will be available for donation\, supporting families displaced by conflict. \nThe art will remain on display in the nave through the summer. For questions\, contact Deborah Brown.
URL:https://saintmarks.org/calendar/opening-reception-for-childrens-art-display-from-gaza-and-ukraine/
CATEGORIES:Visual Arts
END:VEVENT
BEGIN:VEVENT
DTSTART;TZID=America/Los_Angeles:20250713T123000
DTEND;TZID=America/Los_Angeles:20250713T140000
DTSTAMP:20260425T073434
CREATED:20220109T203808Z
LAST-MODIFIED:20260304T142142Z
UID:10063185-1752409800-1752415200@saintmarks.org
SUMMARY:Second Sunday Book Group
DESCRIPTION:Second Sunday Cathedral Book Group\n\nSECOND SUNDAY OF ODD-NUMBERED MONTHS\, 12:30 P.M.–2 P.M.\, in person in Cathedral House Room 210 \nA lively book discussion group\, sometimes led by special guests. Books are selected by members of the the group themselves. \nRecent selections have included The Overstory by Richard Powers\, The Second Mountain by David Brooks\, The Sword of the Lord by Saint Mark’s member Andrew Himes\, and Why Religion? by Elaine Pagels. \nAll are welcome. See recent and upcoming titles here. Questions\, contact: Pearl McElheran. \n  \n 
URL:https://saintmarks.org/calendar/second-sunday-book-group/2025-07-13/
LOCATION:Cathedral House Room 210
END:VEVENT
BEGIN:VEVENT
DTSTART;TZID=America/Los_Angeles:20250713T123000
DTEND;TZID=America/Los_Angeles:20250713T140000
DTSTAMP:20260425T073434
CREATED:20250625T131046Z
LAST-MODIFIED:20250625T131046Z
UID:10063689-1752409800-1752415200@saintmarks.org
SUMMARY:20s/30s Garden Brunch
DESCRIPTION:SUNDAY\, JULY 13\, 12:30 P.M. in the Leffler Garden \nJoin 20s/30s members for lunch in the Leffler garden following the 11am service. Bread and some basic sandwich fillings will be provided\, and you are welcome to bring additional sandwich supplies or other sides/drinks. With questions\, contact Julia Cooper (julia7cooper@gmail.com).
URL:https://saintmarks.org/calendar/20s-30s-garden-brunch/
LOCATION:Leffler Garden
CATEGORIES:Community Life
END:VEVENT
END:VCALENDAR