BEGIN:VCALENDAR
VERSION:2.0
PRODID:-//Saint Mark&#039;s Episcopal Cathedral - ECPv6.15.20//NONSGML v1.0//EN
CALSCALE:GREGORIAN
METHOD:PUBLISH
X-WR-CALNAME:Saint Mark&#039;s Episcopal Cathedral
X-ORIGINAL-URL:https://saintmarks.org
X-WR-CALDESC:Events for Saint Mark&#039;s Episcopal Cathedral
REFRESH-INTERVAL;VALUE=DURATION:PT1H
X-Robots-Tag:noindex
X-PUBLISHED-TTL:PT1H
BEGIN:VTIMEZONE
TZID:America/Los_Angeles
BEGIN:DAYLIGHT
TZOFFSETFROM:-0800
TZOFFSETTO:-0700
TZNAME:PDT
DTSTART:20250309T100000
END:DAYLIGHT
BEGIN:STANDARD
TZOFFSETFROM:-0700
TZOFFSETTO:-0800
TZNAME:PST
DTSTART:20251102T090000
END:STANDARD
BEGIN:DAYLIGHT
TZOFFSETFROM:-0800
TZOFFSETTO:-0700
TZNAME:PDT
DTSTART:20260308T100000
END:DAYLIGHT
BEGIN:STANDARD
TZOFFSETFROM:-0700
TZOFFSETTO:-0800
TZNAME:PST
DTSTART:20261101T090000
END:STANDARD
BEGIN:DAYLIGHT
TZOFFSETFROM:-0800
TZOFFSETTO:-0700
TZNAME:PDT
DTSTART:20270314T100000
END:DAYLIGHT
BEGIN:STANDARD
TZOFFSETFROM:-0700
TZOFFSETTO:-0800
TZNAME:PST
DTSTART:20271107T090000
END:STANDARD
END:VTIMEZONE
BEGIN:VEVENT
DTSTART;TZID=America/Los_Angeles:20260607T080000
DTEND;TZID=America/Los_Angeles:20260607T090000
DTSTAMP:20260422T144826
CREATED:20231231T015722Z
LAST-MODIFIED:20250520T192821Z
UID:10063593-1780819200-1780822800@saintmarks.org
SUMMARY:Holy Eucharist (8)
DESCRIPTION:A spoken service of Holy Eucharist in Thomsen Chapel\, with sermon and hymns.
URL:https://saintmarks.org/calendar/holy-eucharist-8-2/2026-06-07/
LOCATION:Thomsen Chapel
END:VEVENT
BEGIN:VEVENT
DTSTART;TZID=America/Los_Angeles:20260607T090000
DTEND;TZID=America/Los_Angeles:20260607T100000
DTSTAMP:20260422T144826
CREATED:20210602T232903Z
LAST-MODIFIED:20250409T051755Z
UID:10058777-1780822800-1780826400@saintmarks.org
SUMMARY:Holy Eucharist (9)
DESCRIPTION:Liturgy with sermon and hymns. Music is offered by Saint Mark’s Singers or children’s choirs. \nChildren’s Chapel is offered during the 9 a.m. service. After the Gospel is proclaimed\, children pre-school through 2nd grade are invited to Thomsen Chapel for Bible stories\, singing\, and prayer. Parents are welcome to join their children. They return at the Peace. \nLocation: Cathedral Nave \nThis service is not livestreamed.
URL:https://saintmarks.org/calendar/9-a-m-holy-eucharist/2026-06-07/
LOCATION:Cathedral Nave
END:VEVENT
BEGIN:VEVENT
DTSTART;TZID=America/Los_Angeles:20260607T100000
DTEND;TZID=America/Los_Angeles:20260607T110000
DTSTAMP:20260422T144826
CREATED:20250912T072557Z
LAST-MODIFIED:20251114T190438Z
UID:10064338-1780826400-1780830000@saintmarks.org
SUMMARY:Godly Play
DESCRIPTION:FIRST AND THIRD SUNDAY OF THE MONTH\, SEPTEMBER–JUNE (except in November 2025 and April 2026\, when it will meet on the second and third Sundays)\, 10–11 A.M.\, in the Godly Play classrooms on the 2nd floor of the St. Nicholas Bldg.  \nBetween services on Sunday mornings\, we create space for children from preschool through elementary school (age 3 up to 5th grade) to deeply experience the texts and stories of the Bible that make us Christian people and form our faith\, and also to grow in community with each other and caring adults. Using steadfastly non-digital modalities\, we tell the stories and then make space for the children to make the stories their own for life by using the materials or art to expand\, retell\, and experience the stories in their own ways. For example\, it’s magical to watch children self-organize to collectively create a “crucifixion and Easter scape” by finding and arranging materials from the room to arrange in a box of sand to exemplify all of Holy Week! We use the Godly Play curriculum. Class sessions are held generally on the 1st and 3rd Sundays of each month during the school year. \nLearn more and find a complete schedule and registration link here. \n\nParents and Toddlers Room\nWhenever Godly Play is being offered on Sunday morning on the second floor of the St Nicholas Bldg\, the Parents and Toddlers Room is open and available at the same time on the first floor. This is for kids under three\, and parents must remain with their children. A room host (with Safe Church training) is on hand to welcome you and your little one\, along with age appropriate toys and books\, a carpet for crawlers\, and a table and chairs. Please contact Canon Barrie for more information or to help support this ministry: wbarrie@saintmarks.org
URL:https://saintmarks.org/calendar/godly-play-2/2026-06-07/
LOCATION:St. Nicholas Bldg.\, 2nd floor
END:VEVENT
BEGIN:VEVENT
DTSTART;TZID=America/Los_Angeles:20260607T110000
DTEND;TZID=America/Los_Angeles:20260607T120000
DTSTAMP:20260422T144826
CREATED:20201110T162207Z
LAST-MODIFIED:20250409T051809Z
UID:10058972-1780830000-1780833600@saintmarks.org
SUMMARY:Holy Eucharist (11)
DESCRIPTION:Liturgy and music reflecting the breadth and depth of the Episcopal tradition\, with Scripture\, sermon\, hymns\, and choral anthems. \nWorship in person or online at saintmarks.org/livestream — also streams simultaneously at facebook.com/SaintMarksSeattle  and at youtube.com/c/SaintMarksEpiscopalCathedralSeattle/
URL:https://saintmarks.org/calendar/11-a-m-holy-eucharist-livestream/2026-06-07/
END:VEVENT
BEGIN:VEVENT
DTSTART;TZID=America/Los_Angeles:20260607T123000
DTEND;TZID=America/Los_Angeles:20260607T140000
DTSTAMP:20260422T144826
CREATED:20240101T054943Z
LAST-MODIFIED:20251216T144618Z
UID:10065021-1780835400-1780840800@saintmarks.org
SUMMARY:Newcomers' Coffee Hour with Clergy
DESCRIPTION:IMMEDIATELY FOLLOING THE CONCLUSION OF THE 11 A.M. SERVICE \nFor many years\, a Newcomers’ Coffee with Clergy has been offered on the first Sunday of each month\, for guests\, newcomers\, and anyone with questions about this community and its liturgies. Gather in the back of the nave immediately following the 11 a.m. Sunday service on the first Sunday of the month. \nEmail newcomers@saintmarks.org if you cannot attend in person\, or with any other questions.
URL:https://saintmarks.org/calendar/1215-p-m-newcomers-coffee-hour-with-clergy/2026-06-07/
LOCATION:Leffler Living Room
END:VEVENT
BEGIN:VEVENT
DTSTART;TZID=America/Los_Angeles:20260607T190000
DTEND;TZID=America/Los_Angeles:20260607T200000
DTSTAMP:20260422T144826
CREATED:20250520T192720Z
LAST-MODIFIED:20250520T192720Z
UID:10063570-1780858800-1780862400@saintmarks.org
SUMMARY:Contemplative Eucharist
DESCRIPTION:EVERY SUNDAY\, 7 P.M. (SEPTEMBER–JUNE)\, Thomsen Chapel  \n \nThis evening Eucharist offers periods of silence for reflection\, simple meditative music\, and lots of candlelight. \nAnointing and healing blessings are offered after the service. Learn more here. \nNOTE: in 2025 Contemplative Eucharist is cancelled on November 30 due to the O Antiphons liturgy in the nave at that time. On December 21\, the Contemplative Eucharist will be a special service offered especially for those for whom the Holiday season is a difficult or painful time.
URL:https://saintmarks.org/calendar/contemplative-eucharist/2026-06-07/
LOCATION:Thomsen Chapel
END:VEVENT
BEGIN:VEVENT
DTSTART;TZID=America/Los_Angeles:20260607T213000
DTEND;TZID=America/Los_Angeles:20260607T220000
DTSTAMP:20260422T144826
CREATED:20260106T141848Z
LAST-MODIFIED:20260106T142015Z
UID:10065054-1780867800-1780869600@saintmarks.org
SUMMARY:The Office of Compline
DESCRIPTION:EVERY SUNDAY\, 9:30 P.M. in the cathedral nave\, livestreamed\, and broadcast on Classical KING \nA beloved Seattle institution since 1956\, the all-male Compline Choir sings the last monastic office of the day every Sunday at 9:30 p.m. \nThe service is broadcast live each week on KING 98.1 FM\, or streaming at king.org. \nThe service is also available as a podcast. To hear each week’s service on-demand\, search for “Saint Mark’s Compline” wherever you get you podcasts\, or visit complinepodcast.org. \nLearn more on the Compline page of this website\, or at  complinechoir.org.
URL:https://saintmarks.org/calendar/the-office-of-compline-5/2026-06-07/
LOCATION:Cathedral Nave
CATEGORIES:Music,Worship
END:VEVENT
BEGIN:VEVENT
DTSTART;TZID=America/Los_Angeles:20260608T073000
DTEND;TZID=America/Los_Angeles:20260608T080000
DTSTAMP:20260422T144826
CREATED:20250626T212619Z
LAST-MODIFIED:20250626T212648Z
UID:10063937-1780903800-1780905600@saintmarks.org
SUMMARY:Morning Prayer Online
DESCRIPTION:Daily Morning Prayer\n \nMONDAY–FRIDAY\, 7:30-8 A.M.\, via Zoom\n \nCome just as you are to Morning Prayer on weekday mornings\, on Zoom\, following the form of the Book of Common Prayer 1979. All are welcome\, whether you’re still in your pj’s\, joining from your workplace\, or listening on the move. No former experience with the Daily Office is necessary. \nJoin Morning Prayer using this Zoom link.
URL:https://saintmarks.org/calendar/morning-prayer-online/2026-06-08/
LOCATION:Online via Zoom
END:VEVENT
BEGIN:VEVENT
DTSTART;TZID=America/Los_Angeles:20260608T180000
DTEND;TZID=America/Los_Angeles:20260608T183000
DTSTAMP:20260422T144826
CREATED:20241114T174742Z
LAST-MODIFIED:20260311T131025Z
UID:10064738-1780941600-1780943400@saintmarks.org
SUMMARY:Evening Prayer Online
DESCRIPTION:MONDAY THROUGH FRIDAY\, 6 P.M. \nLay readers from Seattle-area congregations including the cathedral lead a spoken service of daily prayer following the form of the Book of Common Prayer 1979\, every weekday evening at 6 p.m. The service lasts approximately 30 minutes. Learn more here. \nJoin online using this Zoom link. \n\n\n\nEvening Prayer is always cancelled when the cathedral office is closed for holidays or other reasons\, or when a special liturgy is being offered in the nave on a weekday evening.
URL:https://saintmarks.org/calendar/evening-prayer-online/2026-06-08/
LOCATION:Online via Zoom
END:VEVENT
BEGIN:VEVENT
DTSTART;TZID=America/Los_Angeles:20260608T183000
DTEND;TZID=America/Los_Angeles:20260608T193000
DTSTAMP:20260422T144826
CREATED:20241001T212026Z
LAST-MODIFIED:20251216T143909Z
UID:10064962-1780943400-1780947000@saintmarks.org
SUMMARY:Cathedral Yoga
DESCRIPTION:EVERY MONDAY\, in the cathedral nave \nDOORS OPEN AT 6 P.M. (Door are locked at the beginning of class at 6:30 p.m.)\nYOGA CLASS 6:30–7:30 P.M. \nIn the sacred space of Saint Mark’s Cathedral\, this spiritual practice is designed to improve health\, release tension\, and deepen spirituality. It is a gentle\, restorative\, and contemplative practice\, and the instructors guide the group in ways that welcome newcomer and experienced practitioners alike. \n\nPay what you can.\nMats are available to borrow (first come\, first served).\nThe doors into the cathedral are opened at 6 p.m. and then locked at 6:30 p.m.\nOn the third Monday of each month the class ends with an extended savasana with Sound Bath\, 7:30–7:45 p.m. As the doors are locked at 6:30\, it is no longer possible to attend the sound bath without attending the class. Participants are encouraged to stay for the entire experience if possible.\nOn the fourth Monday of each month\, class is followed by social time with tea and chat.\n\nLearn more here. Questions? Write to yoga@saintmarks.org
URL:https://saintmarks.org/calendar/cathedral-yoga/2026-06-08/
LOCATION:Cathedral Nave
END:VEVENT
BEGIN:VEVENT
DTSTART;TZID=America/Los_Angeles:20260609T073000
DTEND;TZID=America/Los_Angeles:20260609T080000
DTSTAMP:20260422T144826
CREATED:20250626T212619Z
LAST-MODIFIED:20250626T212648Z
UID:10063938-1780990200-1780992000@saintmarks.org
SUMMARY:Morning Prayer Online
DESCRIPTION:Daily Morning Prayer\n \nMONDAY–FRIDAY\, 7:30-8 A.M.\, via Zoom\n \nCome just as you are to Morning Prayer on weekday mornings\, on Zoom\, following the form of the Book of Common Prayer 1979. All are welcome\, whether you’re still in your pj’s\, joining from your workplace\, or listening on the move. No former experience with the Daily Office is necessary. \nJoin Morning Prayer using this Zoom link.
URL:https://saintmarks.org/calendar/morning-prayer-online/2026-06-09/
LOCATION:Online via Zoom
END:VEVENT
BEGIN:VEVENT
DTSTART;TZID=America/Los_Angeles:20260609T120000
DTEND;TZID=America/Los_Angeles:20260609T133000
DTSTAMP:20260422T144826
CREATED:20231231T022926Z
LAST-MODIFIED:20251216T142906Z
UID:10064909-1781006400-1781011800@saintmarks.org
SUMMARY:Tuesday Noon Bible Study (online)
DESCRIPTION:EVERY TUESDAY\, 12–1:30 P.M.\, online via Zoom only \n \nThis group provides a weekly conversation around the scripture readings for the following Sunday. Each week a discussion is facilitated by rotating guest leaders\, and lively conversation ensues as people share their thoughts about the lessons. The group meets from 12–1:30 p.m. for study and prayer over the lectionary\, led by a rotating member of the cathedral staff and clergy. (Join early at 11:30 for social time and chat.) \nContact biblestudy@saintmarks.org for more information and to get the Zoom link to join online.
URL:https://saintmarks.org/calendar/tuesday-noon-bible-study-online/2026-06-09/
LOCATION:Online via Zoom
END:VEVENT
BEGIN:VEVENT
DTSTART;TZID=America/Los_Angeles:20260609T150000
DTEND;TZID=America/Los_Angeles:20260609T163000
DTSTAMP:20260422T144826
CREATED:20231110T090210Z
LAST-MODIFIED:20251216T144454Z
UID:10065009-1781017200-1781022600@saintmarks.org
SUMMARY:Third Acters Monthly Online Meet-up
DESCRIPTION:SECOND TUESDAY OF THE MONTH\, 3–4:30 P.M.\, online via Zoom \nEveryone ages 60+ is invited to join the Third Acters monthly Zoom meeting on the second Tuesday of each month! \nWe build community with a check-in\, during which time we exchange stories\, inspiration and often\, joy. Then we introduce a theme or question such as\, “How are you increasing your intimacy with God as you age?” Or “What is your experience of downsizing your home?” Then\, we invite sharing. We begin and end with prayer or poem\, often by one of the attending Third Acters. \nTo get the Zoom link to join\, contact Kathy Minsch (kminsch@gmail.com) or Elizabeth Clark-Stern (ecstern@yahoo.com)
URL:https://saintmarks.org/calendar/third-act-ers-retirees-group/2026-06-09/
LOCATION:Online via Zoom
END:VEVENT
BEGIN:VEVENT
DTSTART;TZID=America/Los_Angeles:20260609T180000
DTEND;TZID=America/Los_Angeles:20260609T183000
DTSTAMP:20260422T144826
CREATED:20241114T174742Z
LAST-MODIFIED:20260311T131025Z
UID:10064739-1781028000-1781029800@saintmarks.org
SUMMARY:Evening Prayer Online
DESCRIPTION:MONDAY THROUGH FRIDAY\, 6 P.M. \nLay readers from Seattle-area congregations including the cathedral lead a spoken service of daily prayer following the form of the Book of Common Prayer 1979\, every weekday evening at 6 p.m. The service lasts approximately 30 minutes. Learn more here. \nJoin online using this Zoom link. \n\n\n\nEvening Prayer is always cancelled when the cathedral office is closed for holidays or other reasons\, or when a special liturgy is being offered in the nave on a weekday evening.
URL:https://saintmarks.org/calendar/evening-prayer-online/2026-06-09/
LOCATION:Online via Zoom
END:VEVENT
BEGIN:VEVENT
DTSTART;TZID=America/Los_Angeles:20260610T073000
DTEND;TZID=America/Los_Angeles:20260610T080000
DTSTAMP:20260422T144826
CREATED:20250626T212619Z
LAST-MODIFIED:20250626T212648Z
UID:10063939-1781076600-1781078400@saintmarks.org
SUMMARY:Morning Prayer Online
DESCRIPTION:Daily Morning Prayer\n \nMONDAY–FRIDAY\, 7:30-8 A.M.\, via Zoom\n \nCome just as you are to Morning Prayer on weekday mornings\, on Zoom\, following the form of the Book of Common Prayer 1979. All are welcome\, whether you’re still in your pj’s\, joining from your workplace\, or listening on the move. No former experience with the Daily Office is necessary. \nJoin Morning Prayer using this Zoom link.
URL:https://saintmarks.org/calendar/morning-prayer-online/2026-06-10/
LOCATION:Online via Zoom
END:VEVENT
BEGIN:VEVENT
DTSTART;TZID=America/Los_Angeles:20260610T173000
DTEND;TZID=America/Los_Angeles:20260610T180000
DTSTAMP:20260422T144826
CREATED:20250904T221631Z
LAST-MODIFIED:20251113T141539Z
UID:10064279-1781112600-1781114400@saintmarks.org
SUMMARY:In-person Wednesday Evening Prayer
DESCRIPTION:EVERY WEDNESDAY\, 5:30–6 P.M.\, in McCaw Chapel (behind the altar in the cathedral nave) \nGather in McCaw Chapel—the space in the cathedral nave behind the altar platform\, beneath the rose window. Whatever your prior experience with the Daily Office\, come and pray together in community. Attendees can head down to the community dinner in Bloedel Hall at 6 p.m. immediately following the service\, and are encouraged to stick around for a Cathedral Commons forum if one is scheduled. \nQuestions? Email David Poortinga (dpoortinga@saintmarks.org)
URL:https://saintmarks.org/calendar/in-person-wednesday-evening-prayer/2026-06-10/
LOCATION:McCaw Chapel (in the cathedral nave)
END:VEVENT
BEGIN:VEVENT
DTSTART;TZID=America/Los_Angeles:20260610T180000
DTEND;TZID=America/Los_Angeles:20260610T183000
DTSTAMP:20260422T144826
CREATED:20241114T174742Z
LAST-MODIFIED:20260311T131025Z
UID:10064740-1781114400-1781116200@saintmarks.org
SUMMARY:Evening Prayer Online
DESCRIPTION:MONDAY THROUGH FRIDAY\, 6 P.M. \nLay readers from Seattle-area congregations including the cathedral lead a spoken service of daily prayer following the form of the Book of Common Prayer 1979\, every weekday evening at 6 p.m. The service lasts approximately 30 minutes. Learn more here. \nJoin online using this Zoom link. \n\n\n\nEvening Prayer is always cancelled when the cathedral office is closed for holidays or other reasons\, or when a special liturgy is being offered in the nave on a weekday evening.
URL:https://saintmarks.org/calendar/evening-prayer-online/2026-06-10/
LOCATION:Online via Zoom
END:VEVENT
BEGIN:VEVENT
DTSTART;TZID=America/Los_Angeles:20260611T073000
DTEND;TZID=America/Los_Angeles:20260611T080000
DTSTAMP:20260422T144826
CREATED:20250626T212619Z
LAST-MODIFIED:20250626T212648Z
UID:10063940-1781163000-1781164800@saintmarks.org
SUMMARY:Morning Prayer Online
DESCRIPTION:Daily Morning Prayer\n \nMONDAY–FRIDAY\, 7:30-8 A.M.\, via Zoom\n \nCome just as you are to Morning Prayer on weekday mornings\, on Zoom\, following the form of the Book of Common Prayer 1979. All are welcome\, whether you’re still in your pj’s\, joining from your workplace\, or listening on the move. No former experience with the Daily Office is necessary. \nJoin Morning Prayer using this Zoom link.
URL:https://saintmarks.org/calendar/morning-prayer-online/2026-06-11/
LOCATION:Online via Zoom
END:VEVENT
BEGIN:VEVENT
DTSTART;TZID=America/Los_Angeles:20260611T180000
DTEND;TZID=America/Los_Angeles:20260611T183000
DTSTAMP:20260422T144826
CREATED:20241114T174742Z
LAST-MODIFIED:20260311T131025Z
UID:10064741-1781200800-1781202600@saintmarks.org
SUMMARY:Evening Prayer Online
DESCRIPTION:MONDAY THROUGH FRIDAY\, 6 P.M. \nLay readers from Seattle-area congregations including the cathedral lead a spoken service of daily prayer following the form of the Book of Common Prayer 1979\, every weekday evening at 6 p.m. The service lasts approximately 30 minutes. Learn more here. \nJoin online using this Zoom link. \n\n\n\nEvening Prayer is always cancelled when the cathedral office is closed for holidays or other reasons\, or when a special liturgy is being offered in the nave on a weekday evening.
URL:https://saintmarks.org/calendar/evening-prayer-online/2026-06-11/
LOCATION:Online via Zoom
END:VEVENT
BEGIN:VEVENT
DTSTART;TZID=America/Los_Angeles:20260611T183000
DTEND;TZID=America/Los_Angeles:20260611T193000
DTSTAMP:20260422T144826
CREATED:20250630T132203Z
LAST-MODIFIED:20250829T011405Z
UID:10062991-1781202600-1781206200@saintmarks.org
SUMMARY:Monthly Climate Conversations
DESCRIPTION:THE SECOND THURSDAY OF EACH MONTH\, 6:30–7:30 P.M.\, online via Zoom \nJoin fellow parishioners in these monthly climate conversations to learn about practical ways to reduce your impact on the environment. Participants also share insights on how they take action to care for God’s creation and mitigate climate change. \nFind the link to register and a list of upcoming topics\, along with materials from two and a half years’ of past conversations\, here.
URL:https://saintmarks.org/calendar/monthly-climate-conversations-4/2026-06-11/
LOCATION:Online via Zoom
END:VEVENT
BEGIN:VEVENT
DTSTART;TZID=America/Los_Angeles:20260612T073000
DTEND;TZID=America/Los_Angeles:20260612T080000
DTSTAMP:20260422T144826
CREATED:20250626T212619Z
LAST-MODIFIED:20250626T212648Z
UID:10063941-1781249400-1781251200@saintmarks.org
SUMMARY:Morning Prayer Online
DESCRIPTION:Daily Morning Prayer\n \nMONDAY–FRIDAY\, 7:30-8 A.M.\, via Zoom\n \nCome just as you are to Morning Prayer on weekday mornings\, on Zoom\, following the form of the Book of Common Prayer 1979. All are welcome\, whether you’re still in your pj’s\, joining from your workplace\, or listening on the move. No former experience with the Daily Office is necessary. \nJoin Morning Prayer using this Zoom link.
URL:https://saintmarks.org/calendar/morning-prayer-online/2026-06-12/
LOCATION:Online via Zoom
END:VEVENT
BEGIN:VEVENT
DTSTART;TZID=America/Los_Angeles:20260612T180000
DTEND;TZID=America/Los_Angeles:20260612T183000
DTSTAMP:20260422T144826
CREATED:20241114T174742Z
LAST-MODIFIED:20260311T131025Z
UID:10064742-1781287200-1781289000@saintmarks.org
SUMMARY:Evening Prayer Online
DESCRIPTION:MONDAY THROUGH FRIDAY\, 6 P.M. \nLay readers from Seattle-area congregations including the cathedral lead a spoken service of daily prayer following the form of the Book of Common Prayer 1979\, every weekday evening at 6 p.m. The service lasts approximately 30 minutes. Learn more here. \nJoin online using this Zoom link. \n\n\n\nEvening Prayer is always cancelled when the cathedral office is closed for holidays or other reasons\, or when a special liturgy is being offered in the nave on a weekday evening.
URL:https://saintmarks.org/calendar/evening-prayer-online/2026-06-12/
LOCATION:Online via Zoom
END:VEVENT
BEGIN:VEVENT
DTSTART;TZID=America/Los_Angeles:20260613T090000
DTEND;TZID=America/Los_Angeles:20260613T120000
DTSTAMP:20260422T144826
CREATED:20260203T141519Z
LAST-MODIFIED:20260203T141731Z
UID:10065125-1781341200-1781352000@saintmarks.org
SUMMARY:Gardening Ministry Work Party
DESCRIPTION:The garden volunteers meet to work on the second Saturday of the month 9 a.m.–noon\, from February through November\, planting\, weeding\, composting and making our campus beautiful. Prior gardening experience is not required\, only enthusiasm! Bring a water bottle and gloves if you have them. \nContact Norva Osborn: gardening@saintmarks.org
URL:https://saintmarks.org/calendar/gardening-ministry-work-party/2026-06-13/
LOCATION:Front Lawn/Labyrinth
END:VEVENT
BEGIN:VEVENT
DTSTART;TZID=America/Los_Angeles:20260613T093000
DTEND;TZID=America/Los_Angeles:20260613T120000
DTSTAMP:20260422T144826
CREATED:20231231T024047Z
LAST-MODIFIED:20251215T140834Z
UID:10064598-1781343000-1781352000@saintmarks.org
SUMMARY:*Clear Mountain Buddhist Monastery: Meditation\, Teaching & Social
DESCRIPTION:SATURDAYS\, 9:30 A.M. – 12 P.M\, Skinner Auditorium \nThe meeting is occasionally moved to Bloedel Hall. \nThose unable to attend in-person are also welcome to tune in via Zoom or YouTube livestream. \nSaint Mark’s Cathedral cathedral is the host this meeting of the Clear Mountain Buddhist Monastery community. \nJoin for a morning of meditation\, teaching\, and spiritual conversation over coffee! Each Saturday from 9:30 a.m.–11:30 a.m.\, local practitioners gather together in the Saint Mark’s Cathedral Skinner Auditorium (located in the St Nicholas School Building\, just north of the cathedral building\, 1501 10th Ave E.) for a community meditation\, teaching\, and coffee social. \nGatherings begin with a guided sit from 9:30–10 a.m. designed to accommodate and empower a wide variety of practices\, from Buddhist meditation to centering prayer. The morning continues with a Dhamma teaching and Q&A from 10–11 followed by a chance\, for those who want\, to discuss life and practice over coffee from 11–noon. If they wish\, visitors may also bring a small food offering for the monastic meal. \nMore information about this meeting can be found here.
URL:https://saintmarks.org/calendar/clear-mountain-buddhist-monastery-meditation-teaching-social/2026-06-13/
LOCATION:Skinner Auditorium\, 1501 10th Ave E\, Seattle\, WA\, 98102\, United States
ORGANIZER;CN="Clear Mountain Monastery":MAILTO:info@clearmountainmonastery.org
END:VEVENT
BEGIN:VEVENT
DTSTART;TZID=America/Los_Angeles:20260614T080000
DTEND;TZID=America/Los_Angeles:20260614T090000
DTSTAMP:20260422T144826
CREATED:20231231T015722Z
LAST-MODIFIED:20250520T192821Z
UID:10063594-1781424000-1781427600@saintmarks.org
SUMMARY:Holy Eucharist (8)
DESCRIPTION:A spoken service of Holy Eucharist in Thomsen Chapel\, with sermon and hymns.
URL:https://saintmarks.org/calendar/holy-eucharist-8-2/2026-06-14/
LOCATION:Thomsen Chapel
END:VEVENT
BEGIN:VEVENT
DTSTART;TZID=America/Los_Angeles:20260614T090000
DTEND;TZID=America/Los_Angeles:20260614T100000
DTSTAMP:20260422T144826
CREATED:20210602T232903Z
LAST-MODIFIED:20250409T051755Z
UID:10058778-1781427600-1781431200@saintmarks.org
SUMMARY:Holy Eucharist (9)
DESCRIPTION:Liturgy with sermon and hymns. Music is offered by Saint Mark’s Singers or children’s choirs. \nChildren’s Chapel is offered during the 9 a.m. service. After the Gospel is proclaimed\, children pre-school through 2nd grade are invited to Thomsen Chapel for Bible stories\, singing\, and prayer. Parents are welcome to join their children. They return at the Peace. \nLocation: Cathedral Nave \nThis service is not livestreamed.
URL:https://saintmarks.org/calendar/9-a-m-holy-eucharist/2026-06-14/
LOCATION:Cathedral Nave
END:VEVENT
BEGIN:VEVENT
DTSTART;TZID=America/Los_Angeles:20260614T100000
DTEND;TZID=America/Los_Angeles:20260614T110000
DTSTAMP:20260422T144826
CREATED:20241206T135002Z
LAST-MODIFIED:20251016T232856Z
UID:10064466-1781431200-1781434800@saintmarks.org
SUMMARY:High School Youth Coffee & Conversation
DESCRIPTION:SECOND SUNDAYS\, 10:10–10:50 A.M.\, Leffler House \n(Does not meet in December 2025 or April 2026) \nAll high school youth are invited to an informal time of coffee\, treats\, and conversation.
URL:https://saintmarks.org/calendar/high-school-youth-coffee-conversation/2026-06-14/
LOCATION:Leffler Living Room
END:VEVENT
BEGIN:VEVENT
DTSTART;TZID=America/Los_Angeles:20260614T110000
DTEND;TZID=America/Los_Angeles:20260614T120000
DTSTAMP:20260422T144826
CREATED:20201110T162207Z
LAST-MODIFIED:20250409T051809Z
UID:10058973-1781434800-1781438400@saintmarks.org
SUMMARY:Holy Eucharist (11)
DESCRIPTION:Liturgy and music reflecting the breadth and depth of the Episcopal tradition\, with Scripture\, sermon\, hymns\, and choral anthems. \nWorship in person or online at saintmarks.org/livestream — also streams simultaneously at facebook.com/SaintMarksSeattle  and at youtube.com/c/SaintMarksEpiscopalCathedralSeattle/
URL:https://saintmarks.org/calendar/11-a-m-holy-eucharist-livestream/2026-06-14/
END:VEVENT
BEGIN:VEVENT
DTSTART;TZID=America/Los_Angeles:20260614T213000
DTEND;TZID=America/Los_Angeles:20260614T220000
DTSTAMP:20260422T144826
CREATED:20260106T141848Z
LAST-MODIFIED:20260106T142015Z
UID:10065055-1781472600-1781474400@saintmarks.org
SUMMARY:The Office of Compline
DESCRIPTION:EVERY SUNDAY\, 9:30 P.M. in the cathedral nave\, livestreamed\, and broadcast on Classical KING \nA beloved Seattle institution since 1956\, the all-male Compline Choir sings the last monastic office of the day every Sunday at 9:30 p.m. \nThe service is broadcast live each week on KING 98.1 FM\, or streaming at king.org. \nThe service is also available as a podcast. To hear each week’s service on-demand\, search for “Saint Mark’s Compline” wherever you get you podcasts\, or visit complinepodcast.org. \nLearn more on the Compline page of this website\, or at  complinechoir.org.
URL:https://saintmarks.org/calendar/the-office-of-compline-5/2026-06-14/
LOCATION:Cathedral Nave
CATEGORIES:Music,Worship
END:VEVENT
BEGIN:VEVENT
DTSTART;TZID=America/Los_Angeles:20260615T073000
DTEND;TZID=America/Los_Angeles:20260615T080000
DTSTAMP:20260422T144826
CREATED:20250626T212619Z
LAST-MODIFIED:20250626T212648Z
UID:10063942-1781508600-1781510400@saintmarks.org
SUMMARY:Morning Prayer Online
DESCRIPTION:Daily Morning Prayer\n \nMONDAY–FRIDAY\, 7:30-8 A.M.\, via Zoom\n \nCome just as you are to Morning Prayer on weekday mornings\, on Zoom\, following the form of the Book of Common Prayer 1979. All are welcome\, whether you’re still in your pj’s\, joining from your workplace\, or listening on the move. No former experience with the Daily Office is necessary. \nJoin Morning Prayer using this Zoom link.
URL:https://saintmarks.org/calendar/morning-prayer-online/2026-06-15/
LOCATION:Online via Zoom
END:VEVENT
END:VCALENDAR