BEGIN:VCALENDAR
VERSION:2.0
PRODID:-//Saint Mark&#039;s Episcopal Cathedral - ECPv6.15.20//NONSGML v1.0//EN
CALSCALE:GREGORIAN
METHOD:PUBLISH
X-ORIGINAL-URL:https://saintmarks.org
X-WR-CALDESC:Events for Saint Mark&#039;s Episcopal Cathedral
REFRESH-INTERVAL;VALUE=DURATION:PT1H
X-Robots-Tag:noindex
X-PUBLISHED-TTL:PT1H
BEGIN:VTIMEZONE
TZID:America/Los_Angeles
BEGIN:DAYLIGHT
TZOFFSETFROM:-0800
TZOFFSETTO:-0700
TZNAME:PDT
DTSTART:20250309T100000
END:DAYLIGHT
BEGIN:STANDARD
TZOFFSETFROM:-0700
TZOFFSETTO:-0800
TZNAME:PST
DTSTART:20251102T090000
END:STANDARD
BEGIN:DAYLIGHT
TZOFFSETFROM:-0800
TZOFFSETTO:-0700
TZNAME:PDT
DTSTART:20260308T100000
END:DAYLIGHT
BEGIN:STANDARD
TZOFFSETFROM:-0700
TZOFFSETTO:-0800
TZNAME:PST
DTSTART:20261101T090000
END:STANDARD
BEGIN:DAYLIGHT
TZOFFSETFROM:-0800
TZOFFSETTO:-0700
TZNAME:PDT
DTSTART:20270314T100000
END:DAYLIGHT
BEGIN:STANDARD
TZOFFSETFROM:-0700
TZOFFSETTO:-0800
TZNAME:PST
DTSTART:20271107T090000
END:STANDARD
END:VTIMEZONE
BEGIN:VEVENT
DTSTART;TZID=America/Los_Angeles:20260719T221000
DTEND;TZID=America/Los_Angeles:20260719T223000
DTSTAMP:20260422T153653
CREATED:20240906T222857Z
LAST-MODIFIED:20250612T194631Z
UID:10060490-1784499000-1784500200@saintmarks.org
SUMMARY:Organ by Night (10:10 p.m)
DESCRIPTION:THIRD SUNDAY OF EACH MONTH\, 10:10 P.M. (immediately following Compline)\, in the cathedral nave and in the organ loft \nThe tradition of informal mini-concerts on the Flentrop following Compline have introduced generations of Seattleites to the power and beauty of a real pipe organ. All are welcome to listen in the nave\, or join the organist in the loft to see what playing an instrument of this size is really like. (The radio program The Organ Loft\, which airs on KING-FM immediately following Compline each week\, was inspired by this tradition.) A Q&A in the loft usually follows the performance. \nFind a list of past and upcoming recitalists here. \nThe new iteration of this offering\, called Organ by Night\, will be offered once a month\, on the third Sunday of each month.
URL:https://saintmarks.org/calendar/organ-by-night-new/2026-07-19/
LOCATION:Cathedral Nave
CATEGORIES:Music
END:VEVENT
BEGIN:VEVENT
DTSTART;TZID=America/Los_Angeles:20260720T073000
DTEND;TZID=America/Los_Angeles:20260720T080000
DTSTAMP:20260422T153653
CREATED:20250626T212619Z
LAST-MODIFIED:20250626T212648Z
UID:10063967-1784532600-1784534400@saintmarks.org
SUMMARY:Morning Prayer Online
DESCRIPTION:Daily Morning Prayer\n \nMONDAY–FRIDAY\, 7:30-8 A.M.\, via Zoom\n \nCome just as you are to Morning Prayer on weekday mornings\, on Zoom\, following the form of the Book of Common Prayer 1979. All are welcome\, whether you’re still in your pj’s\, joining from your workplace\, or listening on the move. No former experience with the Daily Office is necessary. \nJoin Morning Prayer using this Zoom link.
URL:https://saintmarks.org/calendar/morning-prayer-online/2026-07-20/
LOCATION:Online via Zoom
END:VEVENT
BEGIN:VEVENT
DTSTART;TZID=America/Los_Angeles:20260720T180000
DTEND;TZID=America/Los_Angeles:20260720T183000
DTSTAMP:20260422T153653
CREATED:20241114T174742Z
LAST-MODIFIED:20260311T131025Z
UID:10064768-1784570400-1784572200@saintmarks.org
SUMMARY:Evening Prayer Online
DESCRIPTION:MONDAY THROUGH FRIDAY\, 6 P.M. \nLay readers from Seattle-area congregations including the cathedral lead a spoken service of daily prayer following the form of the Book of Common Prayer 1979\, every weekday evening at 6 p.m. The service lasts approximately 30 minutes. Learn more here. \nJoin online using this Zoom link. \n\n\n\nEvening Prayer is always cancelled when the cathedral office is closed for holidays or other reasons\, or when a special liturgy is being offered in the nave on a weekday evening.
URL:https://saintmarks.org/calendar/evening-prayer-online/2026-07-20/
LOCATION:Online via Zoom
END:VEVENT
BEGIN:VEVENT
DTSTART;TZID=America/Los_Angeles:20260720T183000
DTEND;TZID=America/Los_Angeles:20260720T193000
DTSTAMP:20260422T153653
CREATED:20241001T212026Z
LAST-MODIFIED:20251216T143909Z
UID:10064968-1784572200-1784575800@saintmarks.org
SUMMARY:Cathedral Yoga
DESCRIPTION:EVERY MONDAY\, in the cathedral nave \nDOORS OPEN AT 6 P.M. (Door are locked at the beginning of class at 6:30 p.m.)\nYOGA CLASS 6:30–7:30 P.M. \nIn the sacred space of Saint Mark’s Cathedral\, this spiritual practice is designed to improve health\, release tension\, and deepen spirituality. It is a gentle\, restorative\, and contemplative practice\, and the instructors guide the group in ways that welcome newcomer and experienced practitioners alike. \n\nPay what you can.\nMats are available to borrow (first come\, first served).\nThe doors into the cathedral are opened at 6 p.m. and then locked at 6:30 p.m.\nOn the third Monday of each month the class ends with an extended savasana with Sound Bath\, 7:30–7:45 p.m. As the doors are locked at 6:30\, it is no longer possible to attend the sound bath without attending the class. Participants are encouraged to stay for the entire experience if possible.\nOn the fourth Monday of each month\, class is followed by social time with tea and chat.\n\nLearn more here. Questions? Write to yoga@saintmarks.org
URL:https://saintmarks.org/calendar/cathedral-yoga/2026-07-20/
LOCATION:Cathedral Nave
END:VEVENT
BEGIN:VEVENT
DTSTART;TZID=America/Los_Angeles:20260721T073000
DTEND;TZID=America/Los_Angeles:20260721T080000
DTSTAMP:20260422T153653
CREATED:20250626T212619Z
LAST-MODIFIED:20250626T212648Z
UID:10063968-1784619000-1784620800@saintmarks.org
SUMMARY:Morning Prayer Online
DESCRIPTION:Daily Morning Prayer\n \nMONDAY–FRIDAY\, 7:30-8 A.M.\, via Zoom\n \nCome just as you are to Morning Prayer on weekday mornings\, on Zoom\, following the form of the Book of Common Prayer 1979. All are welcome\, whether you’re still in your pj’s\, joining from your workplace\, or listening on the move. No former experience with the Daily Office is necessary. \nJoin Morning Prayer using this Zoom link.
URL:https://saintmarks.org/calendar/morning-prayer-online/2026-07-21/
LOCATION:Online via Zoom
END:VEVENT
BEGIN:VEVENT
DTSTART;TZID=America/Los_Angeles:20260721T120000
DTEND;TZID=America/Los_Angeles:20260721T133000
DTSTAMP:20260422T153653
CREATED:20231231T022926Z
LAST-MODIFIED:20251216T142906Z
UID:10064915-1784635200-1784640600@saintmarks.org
SUMMARY:Tuesday Noon Bible Study (online)
DESCRIPTION:EVERY TUESDAY\, 12–1:30 P.M.\, online via Zoom only \n \nThis group provides a weekly conversation around the scripture readings for the following Sunday. Each week a discussion is facilitated by rotating guest leaders\, and lively conversation ensues as people share their thoughts about the lessons. The group meets from 12–1:30 p.m. for study and prayer over the lectionary\, led by a rotating member of the cathedral staff and clergy. (Join early at 11:30 for social time and chat.) \nContact biblestudy@saintmarks.org for more information and to get the Zoom link to join online.
URL:https://saintmarks.org/calendar/tuesday-noon-bible-study-online/2026-07-21/
LOCATION:Online via Zoom
END:VEVENT
BEGIN:VEVENT
DTSTART;TZID=America/Los_Angeles:20260721T180000
DTEND;TZID=America/Los_Angeles:20260721T183000
DTSTAMP:20260422T153653
CREATED:20241114T174742Z
LAST-MODIFIED:20260311T131025Z
UID:10064769-1784656800-1784658600@saintmarks.org
SUMMARY:Evening Prayer Online
DESCRIPTION:MONDAY THROUGH FRIDAY\, 6 P.M. \nLay readers from Seattle-area congregations including the cathedral lead a spoken service of daily prayer following the form of the Book of Common Prayer 1979\, every weekday evening at 6 p.m. The service lasts approximately 30 minutes. Learn more here. \nJoin online using this Zoom link. \n\n\n\nEvening Prayer is always cancelled when the cathedral office is closed for holidays or other reasons\, or when a special liturgy is being offered in the nave on a weekday evening.
URL:https://saintmarks.org/calendar/evening-prayer-online/2026-07-21/
LOCATION:Online via Zoom
END:VEVENT
BEGIN:VEVENT
DTSTART;TZID=America/Los_Angeles:20260722T073000
DTEND;TZID=America/Los_Angeles:20260722T080000
DTSTAMP:20260422T153653
CREATED:20250626T212619Z
LAST-MODIFIED:20250626T212648Z
UID:10063969-1784705400-1784707200@saintmarks.org
SUMMARY:Morning Prayer Online
DESCRIPTION:Daily Morning Prayer\n \nMONDAY–FRIDAY\, 7:30-8 A.M.\, via Zoom\n \nCome just as you are to Morning Prayer on weekday mornings\, on Zoom\, following the form of the Book of Common Prayer 1979. All are welcome\, whether you’re still in your pj’s\, joining from your workplace\, or listening on the move. No former experience with the Daily Office is necessary. \nJoin Morning Prayer using this Zoom link.
URL:https://saintmarks.org/calendar/morning-prayer-online/2026-07-22/
LOCATION:Online via Zoom
END:VEVENT
BEGIN:VEVENT
DTSTART;TZID=America/Los_Angeles:20260722T173000
DTEND;TZID=America/Los_Angeles:20260722T180000
DTSTAMP:20260422T153653
CREATED:20250904T221631Z
LAST-MODIFIED:20251113T141539Z
UID:10064285-1784741400-1784743200@saintmarks.org
SUMMARY:In-person Wednesday Evening Prayer
DESCRIPTION:EVERY WEDNESDAY\, 5:30–6 P.M.\, in McCaw Chapel (behind the altar in the cathedral nave) \nGather in McCaw Chapel—the space in the cathedral nave behind the altar platform\, beneath the rose window. Whatever your prior experience with the Daily Office\, come and pray together in community. Attendees can head down to the community dinner in Bloedel Hall at 6 p.m. immediately following the service\, and are encouraged to stick around for a Cathedral Commons forum if one is scheduled. \nQuestions? Email David Poortinga (dpoortinga@saintmarks.org)
URL:https://saintmarks.org/calendar/in-person-wednesday-evening-prayer/2026-07-22/
LOCATION:McCaw Chapel (in the cathedral nave)
END:VEVENT
BEGIN:VEVENT
DTSTART;TZID=America/Los_Angeles:20260722T180000
DTEND;TZID=America/Los_Angeles:20260722T183000
DTSTAMP:20260422T153653
CREATED:20241114T174742Z
LAST-MODIFIED:20260311T131025Z
UID:10064770-1784743200-1784745000@saintmarks.org
SUMMARY:Evening Prayer Online
DESCRIPTION:MONDAY THROUGH FRIDAY\, 6 P.M. \nLay readers from Seattle-area congregations including the cathedral lead a spoken service of daily prayer following the form of the Book of Common Prayer 1979\, every weekday evening at 6 p.m. The service lasts approximately 30 minutes. Learn more here. \nJoin online using this Zoom link. \n\n\n\nEvening Prayer is always cancelled when the cathedral office is closed for holidays or other reasons\, or when a special liturgy is being offered in the nave on a weekday evening.
URL:https://saintmarks.org/calendar/evening-prayer-online/2026-07-22/
LOCATION:Online via Zoom
END:VEVENT
BEGIN:VEVENT
DTSTART;TZID=America/Los_Angeles:20260723T073000
DTEND;TZID=America/Los_Angeles:20260723T080000
DTSTAMP:20260422T153653
CREATED:20250626T212619Z
LAST-MODIFIED:20250626T212648Z
UID:10063970-1784791800-1784793600@saintmarks.org
SUMMARY:Morning Prayer Online
DESCRIPTION:Daily Morning Prayer\n \nMONDAY–FRIDAY\, 7:30-8 A.M.\, via Zoom\n \nCome just as you are to Morning Prayer on weekday mornings\, on Zoom\, following the form of the Book of Common Prayer 1979. All are welcome\, whether you’re still in your pj’s\, joining from your workplace\, or listening on the move. No former experience with the Daily Office is necessary. \nJoin Morning Prayer using this Zoom link.
URL:https://saintmarks.org/calendar/morning-prayer-online/2026-07-23/
LOCATION:Online via Zoom
END:VEVENT
BEGIN:VEVENT
DTSTART;TZID=America/Los_Angeles:20260723T180000
DTEND;TZID=America/Los_Angeles:20260723T183000
DTSTAMP:20260422T153653
CREATED:20241114T174742Z
LAST-MODIFIED:20260311T131025Z
UID:10064771-1784829600-1784831400@saintmarks.org
SUMMARY:Evening Prayer Online
DESCRIPTION:MONDAY THROUGH FRIDAY\, 6 P.M. \nLay readers from Seattle-area congregations including the cathedral lead a spoken service of daily prayer following the form of the Book of Common Prayer 1979\, every weekday evening at 6 p.m. The service lasts approximately 30 minutes. Learn more here. \nJoin online using this Zoom link. \n\n\n\nEvening Prayer is always cancelled when the cathedral office is closed for holidays or other reasons\, or when a special liturgy is being offered in the nave on a weekday evening.
URL:https://saintmarks.org/calendar/evening-prayer-online/2026-07-23/
LOCATION:Online via Zoom
END:VEVENT
BEGIN:VEVENT
DTSTART;TZID=America/Los_Angeles:20260724T073000
DTEND;TZID=America/Los_Angeles:20260724T080000
DTSTAMP:20260422T153653
CREATED:20250626T212619Z
LAST-MODIFIED:20250626T212648Z
UID:10063971-1784878200-1784880000@saintmarks.org
SUMMARY:Morning Prayer Online
DESCRIPTION:Daily Morning Prayer\n \nMONDAY–FRIDAY\, 7:30-8 A.M.\, via Zoom\n \nCome just as you are to Morning Prayer on weekday mornings\, on Zoom\, following the form of the Book of Common Prayer 1979. All are welcome\, whether you’re still in your pj’s\, joining from your workplace\, or listening on the move. No former experience with the Daily Office is necessary. \nJoin Morning Prayer using this Zoom link.
URL:https://saintmarks.org/calendar/morning-prayer-online/2026-07-24/
LOCATION:Online via Zoom
END:VEVENT
BEGIN:VEVENT
DTSTART;TZID=America/Los_Angeles:20260724T180000
DTEND;TZID=America/Los_Angeles:20260724T183000
DTSTAMP:20260422T153653
CREATED:20241114T174742Z
LAST-MODIFIED:20260311T131025Z
UID:10064772-1784916000-1784917800@saintmarks.org
SUMMARY:Evening Prayer Online
DESCRIPTION:MONDAY THROUGH FRIDAY\, 6 P.M. \nLay readers from Seattle-area congregations including the cathedral lead a spoken service of daily prayer following the form of the Book of Common Prayer 1979\, every weekday evening at 6 p.m. The service lasts approximately 30 minutes. Learn more here. \nJoin online using this Zoom link. \n\n\n\nEvening Prayer is always cancelled when the cathedral office is closed for holidays or other reasons\, or when a special liturgy is being offered in the nave on a weekday evening.
URL:https://saintmarks.org/calendar/evening-prayer-online/2026-07-24/
LOCATION:Online via Zoom
END:VEVENT
BEGIN:VEVENT
DTSTART;TZID=America/Los_Angeles:20260725T093000
DTEND;TZID=America/Los_Angeles:20260725T120000
DTSTAMP:20260422T153653
CREATED:20231231T024047Z
LAST-MODIFIED:20251215T140834Z
UID:10064604-1784971800-1784980800@saintmarks.org
SUMMARY:*Clear Mountain Buddhist Monastery: Meditation\, Teaching & Social
DESCRIPTION:SATURDAYS\, 9:30 A.M. – 12 P.M\, Skinner Auditorium \nThe meeting is occasionally moved to Bloedel Hall. \nThose unable to attend in-person are also welcome to tune in via Zoom or YouTube livestream. \nSaint Mark’s Cathedral cathedral is the host this meeting of the Clear Mountain Buddhist Monastery community. \nJoin for a morning of meditation\, teaching\, and spiritual conversation over coffee! Each Saturday from 9:30 a.m.–11:30 a.m.\, local practitioners gather together in the Saint Mark’s Cathedral Skinner Auditorium (located in the St Nicholas School Building\, just north of the cathedral building\, 1501 10th Ave E.) for a community meditation\, teaching\, and coffee social. \nGatherings begin with a guided sit from 9:30–10 a.m. designed to accommodate and empower a wide variety of practices\, from Buddhist meditation to centering prayer. The morning continues with a Dhamma teaching and Q&A from 10–11 followed by a chance\, for those who want\, to discuss life and practice over coffee from 11–noon. If they wish\, visitors may also bring a small food offering for the monastic meal. \nMore information about this meeting can be found here.
URL:https://saintmarks.org/calendar/clear-mountain-buddhist-monastery-meditation-teaching-social/2026-07-25/
LOCATION:Skinner Auditorium\, 1501 10th Ave E\, Seattle\, WA\, 98102\, United States
ORGANIZER;CN="Clear Mountain Monastery":MAILTO:info@clearmountainmonastery.org
END:VEVENT
BEGIN:VEVENT
DTSTART;TZID=America/Los_Angeles:20260726T080000
DTEND;TZID=America/Los_Angeles:20260726T090000
DTSTAMP:20260422T153653
CREATED:20231231T015722Z
LAST-MODIFIED:20250520T192821Z
UID:10063600-1785052800-1785056400@saintmarks.org
SUMMARY:Holy Eucharist (8)
DESCRIPTION:A spoken service of Holy Eucharist in Thomsen Chapel\, with sermon and hymns.
URL:https://saintmarks.org/calendar/holy-eucharist-8-2/2026-07-26/
LOCATION:Thomsen Chapel
END:VEVENT
BEGIN:VEVENT
DTSTART;TZID=America/Los_Angeles:20260726T090000
DTEND;TZID=America/Los_Angeles:20260726T100000
DTSTAMP:20260422T153653
CREATED:20210602T232903Z
LAST-MODIFIED:20250409T051755Z
UID:10058784-1785056400-1785060000@saintmarks.org
SUMMARY:Holy Eucharist (9)
DESCRIPTION:Liturgy with sermon and hymns. Music is offered by Saint Mark’s Singers or children’s choirs. \nChildren’s Chapel is offered during the 9 a.m. service. After the Gospel is proclaimed\, children pre-school through 2nd grade are invited to Thomsen Chapel for Bible stories\, singing\, and prayer. Parents are welcome to join their children. They return at the Peace. \nLocation: Cathedral Nave \nThis service is not livestreamed.
URL:https://saintmarks.org/calendar/9-a-m-holy-eucharist/2026-07-26/
LOCATION:Cathedral Nave
END:VEVENT
BEGIN:VEVENT
DTSTART;TZID=America/Los_Angeles:20260726T110000
DTEND;TZID=America/Los_Angeles:20260726T120000
DTSTAMP:20260422T153653
CREATED:20201110T162207Z
LAST-MODIFIED:20250409T051809Z
UID:10058979-1785063600-1785067200@saintmarks.org
SUMMARY:Holy Eucharist (11)
DESCRIPTION:Liturgy and music reflecting the breadth and depth of the Episcopal tradition\, with Scripture\, sermon\, hymns\, and choral anthems. \nWorship in person or online at saintmarks.org/livestream — also streams simultaneously at facebook.com/SaintMarksSeattle  and at youtube.com/c/SaintMarksEpiscopalCathedralSeattle/
URL:https://saintmarks.org/calendar/11-a-m-holy-eucharist-livestream/2026-07-26/
END:VEVENT
BEGIN:VEVENT
DTSTART;TZID=America/Los_Angeles:20260726T213000
DTEND;TZID=America/Los_Angeles:20260726T220000
DTSTAMP:20260422T153653
CREATED:20260106T141848Z
LAST-MODIFIED:20260106T142015Z
UID:10065061-1785101400-1785103200@saintmarks.org
SUMMARY:The Office of Compline
DESCRIPTION:EVERY SUNDAY\, 9:30 P.M. in the cathedral nave\, livestreamed\, and broadcast on Classical KING \nA beloved Seattle institution since 1956\, the all-male Compline Choir sings the last monastic office of the day every Sunday at 9:30 p.m. \nThe service is broadcast live each week on KING 98.1 FM\, or streaming at king.org. \nThe service is also available as a podcast. To hear each week’s service on-demand\, search for “Saint Mark’s Compline” wherever you get you podcasts\, or visit complinepodcast.org. \nLearn more on the Compline page of this website\, or at  complinechoir.org.
URL:https://saintmarks.org/calendar/the-office-of-compline-5/2026-07-26/
LOCATION:Cathedral Nave
CATEGORIES:Music,Worship
END:VEVENT
BEGIN:VEVENT
DTSTART;TZID=America/Los_Angeles:20260727T073000
DTEND;TZID=America/Los_Angeles:20260727T080000
DTSTAMP:20260422T153653
CREATED:20250626T212619Z
LAST-MODIFIED:20250626T212648Z
UID:10063972-1785137400-1785139200@saintmarks.org
SUMMARY:Morning Prayer Online
DESCRIPTION:Daily Morning Prayer\n \nMONDAY–FRIDAY\, 7:30-8 A.M.\, via Zoom\n \nCome just as you are to Morning Prayer on weekday mornings\, on Zoom\, following the form of the Book of Common Prayer 1979. All are welcome\, whether you’re still in your pj’s\, joining from your workplace\, or listening on the move. No former experience with the Daily Office is necessary. \nJoin Morning Prayer using this Zoom link.
URL:https://saintmarks.org/calendar/morning-prayer-online/2026-07-27/
LOCATION:Online via Zoom
END:VEVENT
BEGIN:VEVENT
DTSTART;TZID=America/Los_Angeles:20260727T180000
DTEND;TZID=America/Los_Angeles:20260727T183000
DTSTAMP:20260422T153653
CREATED:20241114T174742Z
LAST-MODIFIED:20260311T131025Z
UID:10064773-1785175200-1785177000@saintmarks.org
SUMMARY:Evening Prayer Online
DESCRIPTION:MONDAY THROUGH FRIDAY\, 6 P.M. \nLay readers from Seattle-area congregations including the cathedral lead a spoken service of daily prayer following the form of the Book of Common Prayer 1979\, every weekday evening at 6 p.m. The service lasts approximately 30 minutes. Learn more here. \nJoin online using this Zoom link. \n\n\n\nEvening Prayer is always cancelled when the cathedral office is closed for holidays or other reasons\, or when a special liturgy is being offered in the nave on a weekday evening.
URL:https://saintmarks.org/calendar/evening-prayer-online/2026-07-27/
LOCATION:Online via Zoom
END:VEVENT
BEGIN:VEVENT
DTSTART;TZID=America/Los_Angeles:20260727T183000
DTEND;TZID=America/Los_Angeles:20260727T193000
DTSTAMP:20260422T153653
CREATED:20241001T212026Z
LAST-MODIFIED:20251216T143909Z
UID:10064969-1785177000-1785180600@saintmarks.org
SUMMARY:Cathedral Yoga
DESCRIPTION:EVERY MONDAY\, in the cathedral nave \nDOORS OPEN AT 6 P.M. (Door are locked at the beginning of class at 6:30 p.m.)\nYOGA CLASS 6:30–7:30 P.M. \nIn the sacred space of Saint Mark’s Cathedral\, this spiritual practice is designed to improve health\, release tension\, and deepen spirituality. It is a gentle\, restorative\, and contemplative practice\, and the instructors guide the group in ways that welcome newcomer and experienced practitioners alike. \n\nPay what you can.\nMats are available to borrow (first come\, first served).\nThe doors into the cathedral are opened at 6 p.m. and then locked at 6:30 p.m.\nOn the third Monday of each month the class ends with an extended savasana with Sound Bath\, 7:30–7:45 p.m. As the doors are locked at 6:30\, it is no longer possible to attend the sound bath without attending the class. Participants are encouraged to stay for the entire experience if possible.\nOn the fourth Monday of each month\, class is followed by social time with tea and chat.\n\nLearn more here. Questions? Write to yoga@saintmarks.org
URL:https://saintmarks.org/calendar/cathedral-yoga/2026-07-27/
LOCATION:Cathedral Nave
END:VEVENT
BEGIN:VEVENT
DTSTART;TZID=America/Los_Angeles:20260728T073000
DTEND;TZID=America/Los_Angeles:20260728T080000
DTSTAMP:20260422T153653
CREATED:20250626T212619Z
LAST-MODIFIED:20250626T212648Z
UID:10063973-1785223800-1785225600@saintmarks.org
SUMMARY:Morning Prayer Online
DESCRIPTION:Daily Morning Prayer\n \nMONDAY–FRIDAY\, 7:30-8 A.M.\, via Zoom\n \nCome just as you are to Morning Prayer on weekday mornings\, on Zoom\, following the form of the Book of Common Prayer 1979. All are welcome\, whether you’re still in your pj’s\, joining from your workplace\, or listening on the move. No former experience with the Daily Office is necessary. \nJoin Morning Prayer using this Zoom link.
URL:https://saintmarks.org/calendar/morning-prayer-online/2026-07-28/
LOCATION:Online via Zoom
END:VEVENT
BEGIN:VEVENT
DTSTART;TZID=America/Los_Angeles:20260728T120000
DTEND;TZID=America/Los_Angeles:20260728T133000
DTSTAMP:20260422T153653
CREATED:20231231T022926Z
LAST-MODIFIED:20251216T142906Z
UID:10064916-1785240000-1785245400@saintmarks.org
SUMMARY:Tuesday Noon Bible Study (online)
DESCRIPTION:EVERY TUESDAY\, 12–1:30 P.M.\, online via Zoom only \n \nThis group provides a weekly conversation around the scripture readings for the following Sunday. Each week a discussion is facilitated by rotating guest leaders\, and lively conversation ensues as people share their thoughts about the lessons. The group meets from 12–1:30 p.m. for study and prayer over the lectionary\, led by a rotating member of the cathedral staff and clergy. (Join early at 11:30 for social time and chat.) \nContact biblestudy@saintmarks.org for more information and to get the Zoom link to join online.
URL:https://saintmarks.org/calendar/tuesday-noon-bible-study-online/2026-07-28/
LOCATION:Online via Zoom
END:VEVENT
BEGIN:VEVENT
DTSTART;TZID=America/Los_Angeles:20260728T180000
DTEND;TZID=America/Los_Angeles:20260728T183000
DTSTAMP:20260422T153653
CREATED:20241114T174742Z
LAST-MODIFIED:20260311T131025Z
UID:10064774-1785261600-1785263400@saintmarks.org
SUMMARY:Evening Prayer Online
DESCRIPTION:MONDAY THROUGH FRIDAY\, 6 P.M. \nLay readers from Seattle-area congregations including the cathedral lead a spoken service of daily prayer following the form of the Book of Common Prayer 1979\, every weekday evening at 6 p.m. The service lasts approximately 30 minutes. Learn more here. \nJoin online using this Zoom link. \n\n\n\nEvening Prayer is always cancelled when the cathedral office is closed for holidays or other reasons\, or when a special liturgy is being offered in the nave on a weekday evening.
URL:https://saintmarks.org/calendar/evening-prayer-online/2026-07-28/
LOCATION:Online via Zoom
END:VEVENT
BEGIN:VEVENT
DTSTART;TZID=America/Los_Angeles:20260728T180000
DTEND;TZID=America/Los_Angeles:20260728T200000
DTSTAMP:20260422T153653
CREATED:20241205T161626Z
LAST-MODIFIED:20250219T214743Z
UID:10063096-1785261600-1785268800@saintmarks.org
SUMMARY:Vestry Meeting
DESCRIPTION:The Vestry meets once a month\, usually on the fourth Tuesday of the month. (Note: there is no fourth-Tuesday Vestry meeting in February\, due to the Vestry retreat earlier that month. Vestry meets on the second Tuesday of December and the Third Tuesday in January.) \nMeetings typically occur in Diocesan House. For an interim time\, meetings will be in person in Leffler House. Vestry meetings are open to the public. Click here for Frequently Asked Questions about Vestry. Please write to Erik Donner with questions\, or for the Zoom link to join the meeting: edonner@saintmarks.org.
URL:https://saintmarks.org/calendar/vestry-meeting-2/2026-07-28/
LOCATION:Diocesan House\, 1551 10th Ave E\, Seattle\, 98102\, United States
END:VEVENT
BEGIN:VEVENT
DTSTART;TZID=America/Los_Angeles:20260729T073000
DTEND;TZID=America/Los_Angeles:20260729T080000
DTSTAMP:20260422T153653
CREATED:20250626T212619Z
LAST-MODIFIED:20250626T212648Z
UID:10063974-1785310200-1785312000@saintmarks.org
SUMMARY:Morning Prayer Online
DESCRIPTION:Daily Morning Prayer\n \nMONDAY–FRIDAY\, 7:30-8 A.M.\, via Zoom\n \nCome just as you are to Morning Prayer on weekday mornings\, on Zoom\, following the form of the Book of Common Prayer 1979. All are welcome\, whether you’re still in your pj’s\, joining from your workplace\, or listening on the move. No former experience with the Daily Office is necessary. \nJoin Morning Prayer using this Zoom link.
URL:https://saintmarks.org/calendar/morning-prayer-online/2026-07-29/
LOCATION:Online via Zoom
END:VEVENT
BEGIN:VEVENT
DTSTART;TZID=America/Los_Angeles:20260729T173000
DTEND;TZID=America/Los_Angeles:20260729T180000
DTSTAMP:20260422T153653
CREATED:20250904T221631Z
LAST-MODIFIED:20251113T141539Z
UID:10064286-1785346200-1785348000@saintmarks.org
SUMMARY:In-person Wednesday Evening Prayer
DESCRIPTION:EVERY WEDNESDAY\, 5:30–6 P.M.\, in McCaw Chapel (behind the altar in the cathedral nave) \nGather in McCaw Chapel—the space in the cathedral nave behind the altar platform\, beneath the rose window. Whatever your prior experience with the Daily Office\, come and pray together in community. Attendees can head down to the community dinner in Bloedel Hall at 6 p.m. immediately following the service\, and are encouraged to stick around for a Cathedral Commons forum if one is scheduled. \nQuestions? Email David Poortinga (dpoortinga@saintmarks.org)
URL:https://saintmarks.org/calendar/in-person-wednesday-evening-prayer/2026-07-29/
LOCATION:McCaw Chapel (in the cathedral nave)
END:VEVENT
BEGIN:VEVENT
DTSTART;TZID=America/Los_Angeles:20260729T180000
DTEND;TZID=America/Los_Angeles:20260729T183000
DTSTAMP:20260422T153653
CREATED:20241114T174742Z
LAST-MODIFIED:20260311T131025Z
UID:10064775-1785348000-1785349800@saintmarks.org
SUMMARY:Evening Prayer Online
DESCRIPTION:MONDAY THROUGH FRIDAY\, 6 P.M. \nLay readers from Seattle-area congregations including the cathedral lead a spoken service of daily prayer following the form of the Book of Common Prayer 1979\, every weekday evening at 6 p.m. The service lasts approximately 30 minutes. Learn more here. \nJoin online using this Zoom link. \n\n\n\nEvening Prayer is always cancelled when the cathedral office is closed for holidays or other reasons\, or when a special liturgy is being offered in the nave on a weekday evening.
URL:https://saintmarks.org/calendar/evening-prayer-online/2026-07-29/
LOCATION:Online via Zoom
END:VEVENT
BEGIN:VEVENT
DTSTART;TZID=America/Los_Angeles:20260730T073000
DTEND;TZID=America/Los_Angeles:20260730T080000
DTSTAMP:20260422T153653
CREATED:20250626T212619Z
LAST-MODIFIED:20250626T212648Z
UID:10063975-1785396600-1785398400@saintmarks.org
SUMMARY:Morning Prayer Online
DESCRIPTION:Daily Morning Prayer\n \nMONDAY–FRIDAY\, 7:30-8 A.M.\, via Zoom\n \nCome just as you are to Morning Prayer on weekday mornings\, on Zoom\, following the form of the Book of Common Prayer 1979. All are welcome\, whether you’re still in your pj’s\, joining from your workplace\, or listening on the move. No former experience with the Daily Office is necessary. \nJoin Morning Prayer using this Zoom link.
URL:https://saintmarks.org/calendar/morning-prayer-online/2026-07-30/
LOCATION:Online via Zoom
END:VEVENT
END:VCALENDAR