BEGIN:VCALENDAR
VERSION:2.0
PRODID:-//Saint Mark&#039;s Episcopal Cathedral - ECPv6.15.20//NONSGML v1.0//EN
CALSCALE:GREGORIAN
METHOD:PUBLISH
X-ORIGINAL-URL:https://saintmarks.org
X-WR-CALDESC:Events for Saint Mark&#039;s Episcopal Cathedral
REFRESH-INTERVAL;VALUE=DURATION:PT1H
X-Robots-Tag:noindex
X-PUBLISHED-TTL:PT1H
BEGIN:VTIMEZONE
TZID:America/Los_Angeles
BEGIN:DAYLIGHT
TZOFFSETFROM:-0800
TZOFFSETTO:-0700
TZNAME:PDT
DTSTART:20250309T100000
END:DAYLIGHT
BEGIN:STANDARD
TZOFFSETFROM:-0700
TZOFFSETTO:-0800
TZNAME:PST
DTSTART:20251102T090000
END:STANDARD
BEGIN:DAYLIGHT
TZOFFSETFROM:-0800
TZOFFSETTO:-0700
TZNAME:PDT
DTSTART:20260308T100000
END:DAYLIGHT
BEGIN:STANDARD
TZOFFSETFROM:-0700
TZOFFSETTO:-0800
TZNAME:PST
DTSTART:20261101T090000
END:STANDARD
BEGIN:DAYLIGHT
TZOFFSETFROM:-0800
TZOFFSETTO:-0700
TZNAME:PDT
DTSTART:20270314T100000
END:DAYLIGHT
BEGIN:STANDARD
TZOFFSETFROM:-0700
TZOFFSETTO:-0800
TZNAME:PST
DTSTART:20271107T090000
END:STANDARD
END:VTIMEZONE
BEGIN:VEVENT
DTSTART;TZID=America/Los_Angeles:20260527T073000
DTEND;TZID=America/Los_Angeles:20260527T080000
DTSTAMP:20260421T130453
CREATED:20250626T212619Z
LAST-MODIFIED:20250626T212648Z
UID:10063929-1779867000-1779868800@saintmarks.org
SUMMARY:Morning Prayer Online
DESCRIPTION:Daily Morning Prayer\n \nMONDAY–FRIDAY\, 7:30-8 A.M.\, via Zoom\n \nCome just as you are to Morning Prayer on weekday mornings\, on Zoom\, following the form of the Book of Common Prayer 1979. All are welcome\, whether you’re still in your pj’s\, joining from your workplace\, or listening on the move. No former experience with the Daily Office is necessary. \nJoin Morning Prayer using this Zoom link.
URL:https://saintmarks.org/calendar/morning-prayer-online/2026-05-27/
LOCATION:Online via Zoom
END:VEVENT
BEGIN:VEVENT
DTSTART;TZID=America/Los_Angeles:20260527T173000
DTEND;TZID=America/Los_Angeles:20260527T180000
DTSTAMP:20260421T130453
CREATED:20250904T221631Z
LAST-MODIFIED:20251113T141539Z
UID:10064277-1779903000-1779904800@saintmarks.org
SUMMARY:In-person Wednesday Evening Prayer
DESCRIPTION:EVERY WEDNESDAY\, 5:30–6 P.M.\, in McCaw Chapel (behind the altar in the cathedral nave) \nGather in McCaw Chapel—the space in the cathedral nave behind the altar platform\, beneath the rose window. Whatever your prior experience with the Daily Office\, come and pray together in community. Attendees can head down to the community dinner in Bloedel Hall at 6 p.m. immediately following the service\, and are encouraged to stick around for a Cathedral Commons forum if one is scheduled. \nQuestions? Email David Poortinga (dpoortinga@saintmarks.org)
URL:https://saintmarks.org/calendar/in-person-wednesday-evening-prayer/2026-05-27/
LOCATION:McCaw Chapel (in the cathedral nave)
END:VEVENT
BEGIN:VEVENT
DTSTART;TZID=America/Los_Angeles:20260527T180000
DTEND;TZID=America/Los_Angeles:20260527T183000
DTSTAMP:20260421T130453
CREATED:20241114T174742Z
LAST-MODIFIED:20260311T131025Z
UID:10064730-1779904800-1779906600@saintmarks.org
SUMMARY:Evening Prayer Online
DESCRIPTION:MONDAY THROUGH FRIDAY\, 6 P.M. \nLay readers from Seattle-area congregations including the cathedral lead a spoken service of daily prayer following the form of the Book of Common Prayer 1979\, every weekday evening at 6 p.m. The service lasts approximately 30 minutes. Learn more here. \nJoin online using this Zoom link. \n\n\n\nEvening Prayer is always cancelled when the cathedral office is closed for holidays or other reasons\, or when a special liturgy is being offered in the nave on a weekday evening.
URL:https://saintmarks.org/calendar/evening-prayer-online/2026-05-27/
LOCATION:Online via Zoom
END:VEVENT
BEGIN:VEVENT
DTSTART;TZID=America/Los_Angeles:20260527T180000
DTEND;TZID=America/Los_Angeles:20260527T183000
DTSTAMP:20260421T130453
CREATED:20250829T011810Z
LAST-MODIFIED:20260219T140932Z
UID:10065167-1779904800-1779906600@saintmarks.org
SUMMARY:Community Dinner
DESCRIPTION:On most Wednesday nights\, a delicious dinner is served in Bloedel Hall from 6 to 6:30. (Note: Food service ends at 6:30 p.m.\, sharp.) \nOn Summer Hiatus in June\, July\, and August \n$6/child; $8/adult; $25/max. family \nCathedral Commons programs often follow at 6:45 p.m.
URL:https://saintmarks.org/calendar/community-dinner-2/2026-05-27/
LOCATION:Bloedel Hall
END:VEVENT
BEGIN:VEVENT
DTSTART;TZID=America/Los_Angeles:20260528T073000
DTEND;TZID=America/Los_Angeles:20260528T080000
DTSTAMP:20260421T130453
CREATED:20250626T212619Z
LAST-MODIFIED:20250626T212648Z
UID:10063930-1779953400-1779955200@saintmarks.org
SUMMARY:Morning Prayer Online
DESCRIPTION:Daily Morning Prayer\n \nMONDAY–FRIDAY\, 7:30-8 A.M.\, via Zoom\n \nCome just as you are to Morning Prayer on weekday mornings\, on Zoom\, following the form of the Book of Common Prayer 1979. All are welcome\, whether you’re still in your pj’s\, joining from your workplace\, or listening on the move. No former experience with the Daily Office is necessary. \nJoin Morning Prayer using this Zoom link.
URL:https://saintmarks.org/calendar/morning-prayer-online/2026-05-28/
LOCATION:Online via Zoom
END:VEVENT
BEGIN:VEVENT
DTSTART;TZID=America/Los_Angeles:20260528T180000
DTEND;TZID=America/Los_Angeles:20260528T183000
DTSTAMP:20260421T130453
CREATED:20241114T174742Z
LAST-MODIFIED:20260311T131025Z
UID:10064731-1779991200-1779993000@saintmarks.org
SUMMARY:Evening Prayer Online
DESCRIPTION:MONDAY THROUGH FRIDAY\, 6 P.M. \nLay readers from Seattle-area congregations including the cathedral lead a spoken service of daily prayer following the form of the Book of Common Prayer 1979\, every weekday evening at 6 p.m. The service lasts approximately 30 minutes. Learn more here. \nJoin online using this Zoom link. \n\n\n\nEvening Prayer is always cancelled when the cathedral office is closed for holidays or other reasons\, or when a special liturgy is being offered in the nave on a weekday evening.
URL:https://saintmarks.org/calendar/evening-prayer-online/2026-05-28/
LOCATION:Online via Zoom
END:VEVENT
BEGIN:VEVENT
DTSTART;TZID=America/Los_Angeles:20260529T073000
DTEND;TZID=America/Los_Angeles:20260529T080000
DTSTAMP:20260421T130453
CREATED:20250626T212619Z
LAST-MODIFIED:20250626T212648Z
UID:10063931-1780039800-1780041600@saintmarks.org
SUMMARY:Morning Prayer Online
DESCRIPTION:Daily Morning Prayer\n \nMONDAY–FRIDAY\, 7:30-8 A.M.\, via Zoom\n \nCome just as you are to Morning Prayer on weekday mornings\, on Zoom\, following the form of the Book of Common Prayer 1979. All are welcome\, whether you’re still in your pj’s\, joining from your workplace\, or listening on the move. No former experience with the Daily Office is necessary. \nJoin Morning Prayer using this Zoom link.
URL:https://saintmarks.org/calendar/morning-prayer-online/2026-05-29/
LOCATION:Online via Zoom
END:VEVENT
BEGIN:VEVENT
DTSTART;TZID=America/Los_Angeles:20260529T180000
DTEND;TZID=America/Los_Angeles:20260529T183000
DTSTAMP:20260421T130453
CREATED:20241114T174742Z
LAST-MODIFIED:20260311T131025Z
UID:10064732-1780077600-1780079400@saintmarks.org
SUMMARY:Evening Prayer Online
DESCRIPTION:MONDAY THROUGH FRIDAY\, 6 P.M. \nLay readers from Seattle-area congregations including the cathedral lead a spoken service of daily prayer following the form of the Book of Common Prayer 1979\, every weekday evening at 6 p.m. The service lasts approximately 30 minutes. Learn more here. \nJoin online using this Zoom link. \n\n\n\nEvening Prayer is always cancelled when the cathedral office is closed for holidays or other reasons\, or when a special liturgy is being offered in the nave on a weekday evening.
URL:https://saintmarks.org/calendar/evening-prayer-online/2026-05-29/
LOCATION:Online via Zoom
END:VEVENT
BEGIN:VEVENT
DTSTART;TZID=America/Los_Angeles:20260530T093000
DTEND;TZID=America/Los_Angeles:20260530T120000
DTSTAMP:20260421T130453
CREATED:20231231T024047Z
LAST-MODIFIED:20251215T140834Z
UID:10064596-1780133400-1780142400@saintmarks.org
SUMMARY:*Clear Mountain Buddhist Monastery: Meditation\, Teaching & Social
DESCRIPTION:SATURDAYS\, 9:30 A.M. – 12 P.M\, Skinner Auditorium \nThe meeting is occasionally moved to Bloedel Hall. \nThose unable to attend in-person are also welcome to tune in via Zoom or YouTube livestream. \nSaint Mark’s Cathedral cathedral is the host this meeting of the Clear Mountain Buddhist Monastery community. \nJoin for a morning of meditation\, teaching\, and spiritual conversation over coffee! Each Saturday from 9:30 a.m.–11:30 a.m.\, local practitioners gather together in the Saint Mark’s Cathedral Skinner Auditorium (located in the St Nicholas School Building\, just north of the cathedral building\, 1501 10th Ave E.) for a community meditation\, teaching\, and coffee social. \nGatherings begin with a guided sit from 9:30–10 a.m. designed to accommodate and empower a wide variety of practices\, from Buddhist meditation to centering prayer. The morning continues with a Dhamma teaching and Q&A from 10–11 followed by a chance\, for those who want\, to discuss life and practice over coffee from 11–noon. If they wish\, visitors may also bring a small food offering for the monastic meal. \nMore information about this meeting can be found here.
URL:https://saintmarks.org/calendar/clear-mountain-buddhist-monastery-meditation-teaching-social/2026-05-30/
LOCATION:Skinner Auditorium\, 1501 10th Ave E\, Seattle\, WA\, 98102\, United States
ORGANIZER;CN="Clear Mountain Monastery":MAILTO:info@clearmountainmonastery.org
END:VEVENT
BEGIN:VEVENT
DTSTART;TZID=America/Los_Angeles:20260531T080000
DTEND;TZID=America/Los_Angeles:20260531T090000
DTSTAMP:20260421T130453
CREATED:20231231T015722Z
LAST-MODIFIED:20250520T192821Z
UID:10063592-1780214400-1780218000@saintmarks.org
SUMMARY:Holy Eucharist (8)
DESCRIPTION:A spoken service of Holy Eucharist in Thomsen Chapel\, with sermon and hymns.
URL:https://saintmarks.org/calendar/holy-eucharist-8-2/2026-05-31/
LOCATION:Thomsen Chapel
END:VEVENT
BEGIN:VEVENT
DTSTART;TZID=America/Los_Angeles:20260531T080000
DTEND;TZID=America/Los_Angeles:20260531T170000
DTSTAMP:20260421T130453
CREATED:20250123T232550Z
LAST-MODIFIED:20260114T140617Z
UID:10064467-1780214400-1780246800@saintmarks.org
SUMMARY:Middle School Donuts & Discussion
DESCRIPTION:THIRD SUNDAY OF THE MONTH\, 10:10 A.M.\, Leffler House Living Room \n(Meets on the fifth Sunday in May 2026) \nSaint Mark’s youth 6th through 8th grade\, come to Leffler House between the 9 and 11 a.m. services for donuts and discussion. Email Rebekah Gilmore with questions: rgilmore@saintmarks.org
URL:https://saintmarks.org/calendar/middle-school-donuts-discussion-3/2026-05-31/
LOCATION:Leffler Living Room
END:VEVENT
BEGIN:VEVENT
DTSTART;TZID=America/Los_Angeles:20260531T090000
DTEND;TZID=America/Los_Angeles:20260531T100000
DTSTAMP:20260421T130453
CREATED:20210602T232903Z
LAST-MODIFIED:20250409T051755Z
UID:10058776-1780218000-1780221600@saintmarks.org
SUMMARY:Holy Eucharist (9)
DESCRIPTION:Liturgy with sermon and hymns. Music is offered by Saint Mark’s Singers or children’s choirs. \nChildren’s Chapel is offered during the 9 a.m. service. After the Gospel is proclaimed\, children pre-school through 2nd grade are invited to Thomsen Chapel for Bible stories\, singing\, and prayer. Parents are welcome to join their children. They return at the Peace. \nLocation: Cathedral Nave \nThis service is not livestreamed.
URL:https://saintmarks.org/calendar/9-a-m-holy-eucharist/2026-05-31/
LOCATION:Cathedral Nave
END:VEVENT
BEGIN:VEVENT
DTSTART;TZID=America/Los_Angeles:20260531T110000
DTEND;TZID=America/Los_Angeles:20260531T120000
DTSTAMP:20260421T130453
CREATED:20201110T162207Z
LAST-MODIFIED:20250409T051809Z
UID:10058971-1780225200-1780228800@saintmarks.org
SUMMARY:Holy Eucharist (11)
DESCRIPTION:Liturgy and music reflecting the breadth and depth of the Episcopal tradition\, with Scripture\, sermon\, hymns\, and choral anthems. \nWorship in person or online at saintmarks.org/livestream — also streams simultaneously at facebook.com/SaintMarksSeattle  and at youtube.com/c/SaintMarksEpiscopalCathedralSeattle/
URL:https://saintmarks.org/calendar/11-a-m-holy-eucharist-livestream/2026-05-31/
END:VEVENT
BEGIN:VEVENT
DTSTART;TZID=America/Los_Angeles:20260531T123000
DTEND;TZID=America/Los_Angeles:20260531T133000
DTSTAMP:20260421T130453
CREATED:20240913T081604Z
LAST-MODIFIED:20260312T130611Z
UID:10065150-1780230600-1780234200@saintmarks.org
SUMMARY:Cathedral Building Tour
DESCRIPTION:LAST SUNDAY OF THE MONTH\, 12:30 P.M.\, gather in the back of the nave \nOn the last Sunday of each month\, a cathedral docent will offer a guided tour at 12:30 pm. These tours highlighting the cathedral’s history and architecture last about an hour and participants move throughout the building\, though the elevator is available. Meet at the back of the nave under the clock at 12:30 pm.
URL:https://saintmarks.org/calendar/cathedral-building-tour/2026-05-31/
LOCATION:Cathedral Nave
END:VEVENT
BEGIN:VEVENT
DTSTART;TZID=America/Los_Angeles:20260531T190000
DTEND;TZID=America/Los_Angeles:20260531T200000
DTSTAMP:20260421T130453
CREATED:20250520T192720Z
LAST-MODIFIED:20250520T192720Z
UID:10063569-1780254000-1780257600@saintmarks.org
SUMMARY:Contemplative Eucharist
DESCRIPTION:EVERY SUNDAY\, 7 P.M. (SEPTEMBER–JUNE)\, Thomsen Chapel  \n \nThis evening Eucharist offers periods of silence for reflection\, simple meditative music\, and lots of candlelight. \nAnointing and healing blessings are offered after the service. Learn more here. \nNOTE: in 2025 Contemplative Eucharist is cancelled on November 30 due to the O Antiphons liturgy in the nave at that time. On December 21\, the Contemplative Eucharist will be a special service offered especially for those for whom the Holiday season is a difficult or painful time.
URL:https://saintmarks.org/calendar/contemplative-eucharist/2026-05-31/
LOCATION:Thomsen Chapel
END:VEVENT
BEGIN:VEVENT
DTSTART;TZID=America/Los_Angeles:20260531T213000
DTEND;TZID=America/Los_Angeles:20260531T220000
DTSTAMP:20260421T130453
CREATED:20260106T141848Z
LAST-MODIFIED:20260106T142015Z
UID:10065053-1780263000-1780264800@saintmarks.org
SUMMARY:The Office of Compline
DESCRIPTION:EVERY SUNDAY\, 9:30 P.M. in the cathedral nave\, livestreamed\, and broadcast on Classical KING \nA beloved Seattle institution since 1956\, the all-male Compline Choir sings the last monastic office of the day every Sunday at 9:30 p.m. \nThe service is broadcast live each week on KING 98.1 FM\, or streaming at king.org. \nThe service is also available as a podcast. To hear each week’s service on-demand\, search for “Saint Mark’s Compline” wherever you get you podcasts\, or visit complinepodcast.org. \nLearn more on the Compline page of this website\, or at  complinechoir.org.
URL:https://saintmarks.org/calendar/the-office-of-compline-5/2026-05-31/
LOCATION:Cathedral Nave
CATEGORIES:Music,Worship
END:VEVENT
BEGIN:VEVENT
DTSTART;TZID=America/Los_Angeles:20260601T073000
DTEND;TZID=America/Los_Angeles:20260601T080000
DTSTAMP:20260421T130453
CREATED:20250626T212619Z
LAST-MODIFIED:20250626T212648Z
UID:10063932-1780299000-1780300800@saintmarks.org
SUMMARY:Morning Prayer Online
DESCRIPTION:Daily Morning Prayer\n \nMONDAY–FRIDAY\, 7:30-8 A.M.\, via Zoom\n \nCome just as you are to Morning Prayer on weekday mornings\, on Zoom\, following the form of the Book of Common Prayer 1979. All are welcome\, whether you’re still in your pj’s\, joining from your workplace\, or listening on the move. No former experience with the Daily Office is necessary. \nJoin Morning Prayer using this Zoom link.
URL:https://saintmarks.org/calendar/morning-prayer-online/2026-06-01/
LOCATION:Online via Zoom
END:VEVENT
BEGIN:VEVENT
DTSTART;TZID=America/Los_Angeles:20260601T180000
DTEND;TZID=America/Los_Angeles:20260601T183000
DTSTAMP:20260421T130453
CREATED:20241114T174742Z
LAST-MODIFIED:20260311T131025Z
UID:10064733-1780336800-1780338600@saintmarks.org
SUMMARY:Evening Prayer Online
DESCRIPTION:MONDAY THROUGH FRIDAY\, 6 P.M. \nLay readers from Seattle-area congregations including the cathedral lead a spoken service of daily prayer following the form of the Book of Common Prayer 1979\, every weekday evening at 6 p.m. The service lasts approximately 30 minutes. Learn more here. \nJoin online using this Zoom link. \n\n\n\nEvening Prayer is always cancelled when the cathedral office is closed for holidays or other reasons\, or when a special liturgy is being offered in the nave on a weekday evening.
URL:https://saintmarks.org/calendar/evening-prayer-online/2026-06-01/
LOCATION:Online via Zoom
END:VEVENT
BEGIN:VEVENT
DTSTART;TZID=America/Los_Angeles:20260601T183000
DTEND;TZID=America/Los_Angeles:20260601T193000
DTSTAMP:20260421T130453
CREATED:20241001T212026Z
LAST-MODIFIED:20251216T143909Z
UID:10064961-1780338600-1780342200@saintmarks.org
SUMMARY:Cathedral Yoga
DESCRIPTION:EVERY MONDAY\, in the cathedral nave \nDOORS OPEN AT 6 P.M. (Door are locked at the beginning of class at 6:30 p.m.)\nYOGA CLASS 6:30–7:30 P.M. \nIn the sacred space of Saint Mark’s Cathedral\, this spiritual practice is designed to improve health\, release tension\, and deepen spirituality. It is a gentle\, restorative\, and contemplative practice\, and the instructors guide the group in ways that welcome newcomer and experienced practitioners alike. \n\nPay what you can.\nMats are available to borrow (first come\, first served).\nThe doors into the cathedral are opened at 6 p.m. and then locked at 6:30 p.m.\nOn the third Monday of each month the class ends with an extended savasana with Sound Bath\, 7:30–7:45 p.m. As the doors are locked at 6:30\, it is no longer possible to attend the sound bath without attending the class. Participants are encouraged to stay for the entire experience if possible.\nOn the fourth Monday of each month\, class is followed by social time with tea and chat.\n\nLearn more here. Questions? Write to yoga@saintmarks.org
URL:https://saintmarks.org/calendar/cathedral-yoga/2026-06-01/
LOCATION:Cathedral Nave
END:VEVENT
BEGIN:VEVENT
DTSTART;TZID=America/Los_Angeles:20260602T073000
DTEND;TZID=America/Los_Angeles:20260602T080000
DTSTAMP:20260421T130453
CREATED:20250626T212619Z
LAST-MODIFIED:20250626T212648Z
UID:10063933-1780385400-1780387200@saintmarks.org
SUMMARY:Morning Prayer Online
DESCRIPTION:Daily Morning Prayer\n \nMONDAY–FRIDAY\, 7:30-8 A.M.\, via Zoom\n \nCome just as you are to Morning Prayer on weekday mornings\, on Zoom\, following the form of the Book of Common Prayer 1979. All are welcome\, whether you’re still in your pj’s\, joining from your workplace\, or listening on the move. No former experience with the Daily Office is necessary. \nJoin Morning Prayer using this Zoom link.
URL:https://saintmarks.org/calendar/morning-prayer-online/2026-06-02/
LOCATION:Online via Zoom
END:VEVENT
BEGIN:VEVENT
DTSTART;TZID=America/Los_Angeles:20260602T120000
DTEND;TZID=America/Los_Angeles:20260602T133000
DTSTAMP:20260421T130453
CREATED:20231231T022926Z
LAST-MODIFIED:20251216T142906Z
UID:10064908-1780401600-1780407000@saintmarks.org
SUMMARY:Tuesday Noon Bible Study (online)
DESCRIPTION:EVERY TUESDAY\, 12–1:30 P.M.\, online via Zoom only \n \nThis group provides a weekly conversation around the scripture readings for the following Sunday. Each week a discussion is facilitated by rotating guest leaders\, and lively conversation ensues as people share their thoughts about the lessons. The group meets from 12–1:30 p.m. for study and prayer over the lectionary\, led by a rotating member of the cathedral staff and clergy. (Join early at 11:30 for social time and chat.) \nContact biblestudy@saintmarks.org for more information and to get the Zoom link to join online.
URL:https://saintmarks.org/calendar/tuesday-noon-bible-study-online/2026-06-02/
LOCATION:Online via Zoom
END:VEVENT
BEGIN:VEVENT
DTSTART;TZID=America/Los_Angeles:20260602T180000
DTEND;TZID=America/Los_Angeles:20260602T183000
DTSTAMP:20260421T130453
CREATED:20241114T174742Z
LAST-MODIFIED:20260311T131025Z
UID:10064734-1780423200-1780425000@saintmarks.org
SUMMARY:Evening Prayer Online
DESCRIPTION:MONDAY THROUGH FRIDAY\, 6 P.M. \nLay readers from Seattle-area congregations including the cathedral lead a spoken service of daily prayer following the form of the Book of Common Prayer 1979\, every weekday evening at 6 p.m. The service lasts approximately 30 minutes. Learn more here. \nJoin online using this Zoom link. \n\n\n\nEvening Prayer is always cancelled when the cathedral office is closed for holidays or other reasons\, or when a special liturgy is being offered in the nave on a weekday evening.
URL:https://saintmarks.org/calendar/evening-prayer-online/2026-06-02/
LOCATION:Online via Zoom
END:VEVENT
BEGIN:VEVENT
DTSTART;TZID=America/Los_Angeles:20260603T073000
DTEND;TZID=America/Los_Angeles:20260603T080000
DTSTAMP:20260421T130453
CREATED:20250626T212619Z
LAST-MODIFIED:20250626T212648Z
UID:10063934-1780471800-1780473600@saintmarks.org
SUMMARY:Morning Prayer Online
DESCRIPTION:Daily Morning Prayer\n \nMONDAY–FRIDAY\, 7:30-8 A.M.\, via Zoom\n \nCome just as you are to Morning Prayer on weekday mornings\, on Zoom\, following the form of the Book of Common Prayer 1979. All are welcome\, whether you’re still in your pj’s\, joining from your workplace\, or listening on the move. No former experience with the Daily Office is necessary. \nJoin Morning Prayer using this Zoom link.
URL:https://saintmarks.org/calendar/morning-prayer-online/2026-06-03/
LOCATION:Online via Zoom
END:VEVENT
BEGIN:VEVENT
DTSTART;TZID=America/Los_Angeles:20260603T173000
DTEND;TZID=America/Los_Angeles:20260603T180000
DTSTAMP:20260421T130453
CREATED:20250904T221631Z
LAST-MODIFIED:20251113T141539Z
UID:10064278-1780507800-1780509600@saintmarks.org
SUMMARY:In-person Wednesday Evening Prayer
DESCRIPTION:EVERY WEDNESDAY\, 5:30–6 P.M.\, in McCaw Chapel (behind the altar in the cathedral nave) \nGather in McCaw Chapel—the space in the cathedral nave behind the altar platform\, beneath the rose window. Whatever your prior experience with the Daily Office\, come and pray together in community. Attendees can head down to the community dinner in Bloedel Hall at 6 p.m. immediately following the service\, and are encouraged to stick around for a Cathedral Commons forum if one is scheduled. \nQuestions? Email David Poortinga (dpoortinga@saintmarks.org)
URL:https://saintmarks.org/calendar/in-person-wednesday-evening-prayer/2026-06-03/
LOCATION:McCaw Chapel (in the cathedral nave)
END:VEVENT
BEGIN:VEVENT
DTSTART;TZID=America/Los_Angeles:20260603T180000
DTEND;TZID=America/Los_Angeles:20260603T183000
DTSTAMP:20260421T130453
CREATED:20241114T174742Z
LAST-MODIFIED:20260311T131025Z
UID:10064735-1780509600-1780511400@saintmarks.org
SUMMARY:Evening Prayer Online
DESCRIPTION:MONDAY THROUGH FRIDAY\, 6 P.M. \nLay readers from Seattle-area congregations including the cathedral lead a spoken service of daily prayer following the form of the Book of Common Prayer 1979\, every weekday evening at 6 p.m. The service lasts approximately 30 minutes. Learn more here. \nJoin online using this Zoom link. \n\n\n\nEvening Prayer is always cancelled when the cathedral office is closed for holidays or other reasons\, or when a special liturgy is being offered in the nave on a weekday evening.
URL:https://saintmarks.org/calendar/evening-prayer-online/2026-06-03/
LOCATION:Online via Zoom
END:VEVENT
BEGIN:VEVENT
DTSTART;TZID=America/Los_Angeles:20260604T073000
DTEND;TZID=America/Los_Angeles:20260604T080000
DTSTAMP:20260421T130453
CREATED:20250626T212619Z
LAST-MODIFIED:20250626T212648Z
UID:10063935-1780558200-1780560000@saintmarks.org
SUMMARY:Morning Prayer Online
DESCRIPTION:Daily Morning Prayer\n \nMONDAY–FRIDAY\, 7:30-8 A.M.\, via Zoom\n \nCome just as you are to Morning Prayer on weekday mornings\, on Zoom\, following the form of the Book of Common Prayer 1979. All are welcome\, whether you’re still in your pj’s\, joining from your workplace\, or listening on the move. No former experience with the Daily Office is necessary. \nJoin Morning Prayer using this Zoom link.
URL:https://saintmarks.org/calendar/morning-prayer-online/2026-06-04/
LOCATION:Online via Zoom
END:VEVENT
BEGIN:VEVENT
DTSTART;TZID=America/Los_Angeles:20260604T073000
DTEND;TZID=America/Los_Angeles:20260604T083000
DTSTAMP:20260421T130453
CREATED:20241114T181226Z
LAST-MODIFIED:20251012T020324Z
UID:10064424-1780558200-1780561800@saintmarks.org
SUMMARY:Thursday Morning Chapel Eucharist
DESCRIPTION:1st\, 3rd\, & 5th THURSDAYS OF THE MONTH:\nTHE HOLY EUCHARIST\, IN-PERSON IN THOMSEN CHAPEL \nStarting in January 2025\, the Thursday Morning Chapel Eucharist will move to 7:30 a.m. \nOn the 2nd & 4th Thursdays of the month\, the Thursday Morning congregation now meets with Daily Morning Prayer at 7:30 a.m.. \n \nAt 7:30 a.m. on the first\, third\, and fifth Thursdays of the month\, an in-person service of Holy Eucharist offered in Thomsen Chapel. Fellowship and a community breakfast follow the service. \nUPDATE: The regular Thursday morning attendees have decided that their online service on the second and fourth Sundays of the month should merge with the online Daily Morning Prayer Group. On those Thursdays when there is not an in-person Eucharist\, gather online at 7:30 (rather than 7) using the normal Daily Office link. There will still be time available for checking in and chatting following the liturgy. All are welcome! \n 
URL:https://saintmarks.org/calendar/thursday-morning-chapel-eucharist-5/2026-06-04/
LOCATION:Thomsen Chapel
END:VEVENT
BEGIN:VEVENT
DTSTART;TZID=America/Los_Angeles:20260604T180000
DTEND;TZID=America/Los_Angeles:20260604T183000
DTSTAMP:20260421T130453
CREATED:20241114T174742Z
LAST-MODIFIED:20260311T131025Z
UID:10064736-1780596000-1780597800@saintmarks.org
SUMMARY:Evening Prayer Online
DESCRIPTION:MONDAY THROUGH FRIDAY\, 6 P.M. \nLay readers from Seattle-area congregations including the cathedral lead a spoken service of daily prayer following the form of the Book of Common Prayer 1979\, every weekday evening at 6 p.m. The service lasts approximately 30 minutes. Learn more here. \nJoin online using this Zoom link. \n\n\n\nEvening Prayer is always cancelled when the cathedral office is closed for holidays or other reasons\, or when a special liturgy is being offered in the nave on a weekday evening.
URL:https://saintmarks.org/calendar/evening-prayer-online/2026-06-04/
LOCATION:Online via Zoom
END:VEVENT
BEGIN:VEVENT
DTSTART;TZID=America/Los_Angeles:20260605T073000
DTEND;TZID=America/Los_Angeles:20260605T080000
DTSTAMP:20260421T130453
CREATED:20250626T212619Z
LAST-MODIFIED:20250626T212648Z
UID:10063936-1780644600-1780646400@saintmarks.org
SUMMARY:Morning Prayer Online
DESCRIPTION:Daily Morning Prayer\n \nMONDAY–FRIDAY\, 7:30-8 A.M.\, via Zoom\n \nCome just as you are to Morning Prayer on weekday mornings\, on Zoom\, following the form of the Book of Common Prayer 1979. All are welcome\, whether you’re still in your pj’s\, joining from your workplace\, or listening on the move. No former experience with the Daily Office is necessary. \nJoin Morning Prayer using this Zoom link.
URL:https://saintmarks.org/calendar/morning-prayer-online/2026-06-05/
LOCATION:Online via Zoom
END:VEVENT
BEGIN:VEVENT
DTSTART;TZID=America/Los_Angeles:20260605T113000
DTEND;TZID=America/Los_Angeles:20260605T140000
DTSTAMP:20260421T130453
CREATED:20241205T160745Z
LAST-MODIFIED:20251216T144240Z
UID:10064997-1780659000-1780668000@saintmarks.org
SUMMARY:Ministry of Worsted Wool
DESCRIPTION:The Ministry of Worsted Wool is a ministry of faith enrichment as your knitting and crocheting talents contribute to our parish and the wider community. Our major needlecraft emphasis is on making prayer shawls\, baby blankets for the Refugee Resettlement Office\, and watch caps for the Seafarers. We meet on the first Friday of the month from 11:30 a.m. to 2 p.m. for a brown bag lunch while our needles and crochet hooks continue to work our yarn. All levels of skill are welcome! \nContact Barbara Erickson: knitters@saintmarks.org
URL:https://saintmarks.org/calendar/ministry-of-worsted-wool/2026-06-05/
LOCATION:Leffler Living Room
END:VEVENT
END:VCALENDAR