BEGIN:VCALENDAR
VERSION:2.0
PRODID:-//Saint Mark&#039;s Episcopal Cathedral - ECPv6.2.9//NONSGML v1.0//EN
CALSCALE:GREGORIAN
METHOD:PUBLISH
X-ORIGINAL-URL:https://saintmarks.org
X-WR-CALDESC:Events for Saint Mark&#039;s Episcopal Cathedral
REFRESH-INTERVAL;VALUE=DURATION:PT1H
X-Robots-Tag:noindex
X-PUBLISHED-TTL:PT1H
BEGIN:VTIMEZONE
TZID:America/Los_Angeles
BEGIN:DAYLIGHT
TZOFFSETFROM:-0800
TZOFFSETTO:-0700
TZNAME:PDT
DTSTART:20230312T100000
END:DAYLIGHT
BEGIN:STANDARD
TZOFFSETFROM:-0700
TZOFFSETTO:-0800
TZNAME:PST
DTSTART:20231105T090000
END:STANDARD
END:VTIMEZONE
BEGIN:VEVENT
DTSTART;TZID=America/Los_Angeles:20230625T120000
DTEND;TZID=America/Los_Angeles:20230625T160000
DTSTAMP:20240109T000918
CREATED:20230530T232440Z
LAST-MODIFIED:20230530T232440Z
UID:10024000-1687694400-1687708800@saintmarks.org
SUMMARY:Diocese of Olympia at PrideFest Seattle Center
DESCRIPTION:New this year!  Hang out at the parade after-party under the space needle and chat with folx.  We’re planning on an Episcopal booth with a prize wheel and merch to give-away! Sign up to participate here.
URL:https://saintmarks.org/calendar/diocese-of-olympia-at-pridefest-seattle-center/
LOCATION:4th & Union\, 1411 4th Ave Seattle\, WA 98101
END:VEVENT
BEGIN:VEVENT
DTSTART;TZID=America/Los_Angeles:20230625T103000
DTEND;TZID=America/Los_Angeles:20230625T120000
DTSTAMP:20240109T000918
CREATED:20230530T232319Z
LAST-MODIFIED:20230613T175059Z
UID:10023999-1687689000-1687694400@saintmarks.org
SUMMARY:Pride Parade
DESCRIPTION:Everyone is welcome to join the Episcopal Church in marching along! Hand out candy and information\, hold the banner\, and help the church communicate a warm welcome. Sign up to participate here.
URL:https://saintmarks.org/calendar/pride-parade/
LOCATION:4th & Union\, 1411 4th Ave Seattle\, WA 98101
END:VEVENT
END:VCALENDAR