BEGIN:VCALENDAR
VERSION:2.0
PRODID:-//Saint Mark&#039;s Episcopal Cathedral - ECPv6.2.9//NONSGML v1.0//EN
CALSCALE:GREGORIAN
METHOD:PUBLISH
X-ORIGINAL-URL:https://saintmarks.org
X-WR-CALDESC:Events for Saint Mark&#039;s Episcopal Cathedral
REFRESH-INTERVAL;VALUE=DURATION:PT1H
X-Robots-Tag:noindex
X-PUBLISHED-TTL:PT1H
BEGIN:VTIMEZONE
TZID:America/Los_Angeles
BEGIN:DAYLIGHT
TZOFFSETFROM:-0800
TZOFFSETTO:-0700
TZNAME:PDT
DTSTART:20240310T100000
END:DAYLIGHT
BEGIN:STANDARD
TZOFFSETFROM:-0700
TZOFFSETTO:-0800
TZNAME:PST
DTSTART:20241103T090000
END:STANDARD
END:VTIMEZONE
BEGIN:VEVENT
DTSTART;VALUE=DATE:20240209
DTEND;VALUE=DATE:20240213
DTSTAMP:20240108T183927
CREATED:20230602T215115Z
LAST-MODIFIED:20230602T235156Z
UID:10024019-1707444000-1707703199@saintmarks.org
SUMMARY:Young Adult Contemplative Retreat
DESCRIPTION:Get away from it all and experience a weekend of peace\, prayer\, and self-care with young adults from across the Episcopal Diocese of Olympia. This casual retreat\, held at the waterfront Archbishop Brunett Retreat Center at the Palisades\, just south of Seattle\, is designed for adults in their 20s and 30s who are seeking to experience an array of contemplative practices from a Taizé service to lectio divina to centering prayer. \n\nMore information TBA
URL:https://saintmarks.org/calendar/young-adult-contemplative-retreat-2/
LOCATION:Archbishop Brunett Retreat Center\, 4700 SW Dash Point Road\, Federal Way\, WA\, 98023\, United States
END:VEVENT
END:VCALENDAR