BEGIN:VCALENDAR
VERSION:2.0
PRODID:-//Saint Mark&#039;s Episcopal Cathedral - ECPv6.2.9//NONSGML v1.0//EN
CALSCALE:GREGORIAN
METHOD:PUBLISH
X-ORIGINAL-URL:https://saintmarks.org
X-WR-CALDESC:Events for Saint Mark&#039;s Episcopal Cathedral
REFRESH-INTERVAL;VALUE=DURATION:PT1H
X-Robots-Tag:noindex
X-PUBLISHED-TTL:PT1H
BEGIN:VTIMEZONE
TZID:America/Los_Angeles
BEGIN:DAYLIGHT
TZOFFSETFROM:-0800
TZOFFSETTO:-0700
TZNAME:PDT
DTSTART:20230312T100000
END:DAYLIGHT
BEGIN:STANDARD
TZOFFSETFROM:-0700
TZOFFSETTO:-0800
TZNAME:PST
DTSTART:20231105T090000
END:STANDARD
BEGIN:DAYLIGHT
TZOFFSETFROM:-0800
TZOFFSETTO:-0700
TZNAME:PDT
DTSTART:20240310T100000
END:DAYLIGHT
BEGIN:STANDARD
TZOFFSETFROM:-0700
TZOFFSETTO:-0800
TZNAME:PST
DTSTART:20241103T090000
END:STANDARD
END:VTIMEZONE
BEGIN:VEVENT
DTSTART;TZID=America/Los_Angeles:20240103T180000
DTEND;TZID=America/Los_Angeles:20240103T183000
DTSTAMP:20240108T221622
CREATED:20230901T230000Z
LAST-MODIFIED:20231118T022205Z
UID:10027370-1704304800-1704306600@saintmarks.org
SUMMARY:Community Dinner
DESCRIPTION:On most Wednesday nights\, a delicious dinner is served in Bloedel Hall from 6 to 6:30. (Note: Food service ends at 6:30 p.m.\, sharp.) \n$6/child; $8/adult; $25/max. family \nCathedral Commons programs often follow at 6:45 p.m.
URL:https://saintmarks.org/calendar/community-dinner-2/2024-01-03/
LOCATION:Bloedel Hall
END:VEVENT
BEGIN:VEVENT
DTSTART;TZID=America/Los_Angeles:20240102T190000
DTEND;TZID=America/Los_Angeles:20240102T200000
DTSTAMP:20240108T221622
CREATED:20231231T030046Z
LAST-MODIFIED:20231231T030242Z
UID:10058401-1704222000-1704225600@saintmarks.org
SUMMARY:*Alcoholics Anonymous (Knuckleheads)
DESCRIPTION:Knuckleheads (CLOSED)\nMeeting information \nMen only. In-person and online. \nTuesday\, 7:00 pm to 8:00 pm \n\nIn-person\nOnline\nClosed\nMen\nOne Hour\n\nMore information here. \nClosed meetings are for A.A. members only\, or for those who have a drinking problem and “have a desire to stop drinking.” \nThis meeting is being held in person and on zoom.
URL:https://saintmarks.org/calendar/alcoholics-anonymous-knuckleheads/2024-01-02/
LOCATION:Bloedel Hall
END:VEVENT
BEGIN:VEVENT
DTSTART;TZID=America/Los_Angeles:20231226T190000
DTEND;TZID=America/Los_Angeles:20231226T200000
DTSTAMP:20240108T221622
CREATED:20220713T022836Z
LAST-MODIFIED:20221120T173151Z
UID:10023474-1703617200-1703620800@saintmarks.org
SUMMARY:*Alcoholics Anonymous (Knuckleheads)
DESCRIPTION:Knuckleheads (CLOSED) \nMeeting information\nMen only. In-person and online. \nTuesday\, 7:00 pm to 8:00 pm \n\nIn-person\nOnline\nClosed\nMen\nOne Hour\n\nMore information here. \nClosed meetings are for A.A. members only\, or for those who have a drinking problem and “have a desire to stop drinking.” \nThis meeting is being held in person and on zoom.
URL:https://saintmarks.org/calendar/alcoholics-anonymous-2/2023-12-26/
LOCATION:Bloedel Hall
END:VEVENT
BEGIN:VEVENT
DTSTART;TZID=America/Los_Angeles:20231225T193000
DTEND;TZID=America/Los_Angeles:20231225T203000
DTSTAMP:20240108T221622
CREATED:20210802T020925Z
LAST-MODIFIED:20221120T173116Z
UID:10022320-1703532600-1703536200@saintmarks.org
SUMMARY:*Alcoholics Anonymous (Broadway Group)
DESCRIPTION:Broadway Group Weekly Meeting (CLOSED) \nMeeting Information\nMonday\, 7:30 pm to 8:30 pm \n\nIn person\nClosed\nOne Hour\nWheelchair Access\n\nMore information here. \nClosed meetings are for A.A. members only\, or for those who have a drinking problem and “have a desire to stop drinking.” \nMasks required.\nIn Bloedel Hall
URL:https://saintmarks.org/calendar/alcoholics-anonymous/2023-12-25/
LOCATION:Bloedel Hall
END:VEVENT
BEGIN:VEVENT
DTSTART;TZID=America/Los_Angeles:20231222T130000
DTEND;TZID=America/Los_Angeles:20231222T160000
DTSTAMP:20240108T221622
CREATED:20231208T064045Z
LAST-MODIFIED:20231208T064045Z
UID:10027935-1703250000-1703260800@saintmarks.org
SUMMARY:Stuffing of Christmas Bulletins
DESCRIPTION:FRIDAY\, DECEMBER 22\, 1–4 P.M.\, Bloedel Hall \nEvery year a group of parishioners known as the Holy Folders gather in Bloedel Hall and stuff inserts into the Christmas service bulletins. Knowing that many hands make light work\, we invite you to join us on Friday December 22 at 1 p.m.\, until the work is done. We have been known to have snacks to keep us going. Check out this video from 2019 by David Wild for a taste of the fun! Please email Barbara Erickson at bje46@msn.com for more information or to sign up.
URL:https://saintmarks.org/calendar/stuffing-of-christmas-bulletins/
LOCATION:Bloedel Hall
END:VEVENT
BEGIN:VEVENT
DTSTART;TZID=America/Los_Angeles:20231219T190000
DTEND;TZID=America/Los_Angeles:20231219T200000
DTSTAMP:20240108T221622
CREATED:20220713T022836Z
LAST-MODIFIED:20221120T173151Z
UID:10023473-1703012400-1703016000@saintmarks.org
SUMMARY:*Alcoholics Anonymous (Knuckleheads)
DESCRIPTION:Knuckleheads (CLOSED) \nMeeting information\nMen only. In-person and online. \nTuesday\, 7:00 pm to 8:00 pm \n\nIn-person\nOnline\nClosed\nMen\nOne Hour\n\nMore information here. \nClosed meetings are for A.A. members only\, or for those who have a drinking problem and “have a desire to stop drinking.” \nThis meeting is being held in person and on zoom.
URL:https://saintmarks.org/calendar/alcoholics-anonymous-2/2023-12-19/
LOCATION:Bloedel Hall
END:VEVENT
BEGIN:VEVENT
DTSTART;TZID=America/Los_Angeles:20231218T193000
DTEND;TZID=America/Los_Angeles:20231218T203000
DTSTAMP:20240108T221622
CREATED:20210802T020925Z
LAST-MODIFIED:20221120T173116Z
UID:10022319-1702927800-1702931400@saintmarks.org
SUMMARY:*Alcoholics Anonymous (Broadway Group)
DESCRIPTION:Broadway Group Weekly Meeting (CLOSED) \nMeeting Information\nMonday\, 7:30 pm to 8:30 pm \n\nIn person\nClosed\nOne Hour\nWheelchair Access\n\nMore information here. \nClosed meetings are for A.A. members only\, or for those who have a drinking problem and “have a desire to stop drinking.” \nMasks required.\nIn Bloedel Hall
URL:https://saintmarks.org/calendar/alcoholics-anonymous/2023-12-18/
LOCATION:Bloedel Hall
END:VEVENT
BEGIN:VEVENT
DTSTART;TZID=America/Los_Angeles:20231217T130000
DTEND;TZID=America/Los_Angeles:20231217T160000
DTSTAMP:20240108T221622
CREATED:20230201T215828Z
LAST-MODIFIED:20230201T222837Z
UID:10019868-1702818000-1702828800@saintmarks.org
SUMMARY:Meal Sharing Ministry: St. Martin de Porres Shelter
DESCRIPTION:We provide a hot dinner to Saint Martin de Porres\, a shelter for men over 50\, on the third Sunday of every month. We will cook at Saint Mark’s and deliver the meal to the shelter. If you would like to cook\, help serve food\, and get to know some members of our community outside the Cathedral walls\, we would welcome your help. Our volunteers highly value this opportunity to serve our neighbors and guests. \nWe guarantee you will have fun while serving\, and the burden is definitely light! For more information\, please contact Deborah Person at deborah.person@gmail.com\, Maris Olsen at maris.olsen@gmail.com\, or Chris Rigos at crigos33@gmail.com \nFind more information at https://saintmarks.org/2023/01/meal-sharing-ministry-update/
URL:https://saintmarks.org/calendar/meal-sharing-st-martin-de-porres-shelter/2023-12-17/
LOCATION:Bloedel Hall
END:VEVENT
BEGIN:VEVENT
DTSTART;TZID=America/Los_Angeles:20231217T101000
DTEND;TZID=America/Los_Angeles:20231217T105000
DTSTAMP:20240108T221622
CREATED:20231021T004402Z
LAST-MODIFIED:20231208T023102Z
UID:10027549-1702807800-1702810200@saintmarks.org
SUMMARY:Sunday Forum: Poetry of the Season with Prof. Doug Thorpe
DESCRIPTION:SUNDAY\, DECEMBER 17\, 10:10–10:50 A.M.\, Bloedel Hall \n\n\n\n\n\n\nWinter solstice brings the first day of winter and a return of more sunlight. Drawing from a selection of poems connected to the season\, parishioner and English professor Doug Thorpe will join with members of the 20/30s group to guide us in a time of reading and reflection to discover creation themes. A slideshow of light-inspired photos from Saint Mark’s parishioners will also be shared.
URL:https://saintmarks.org/calendar/sunday-forum-poetry-of-the-season-with-prof-doug-thorpe/
LOCATION:Bloedel Hall
END:VEVENT
BEGIN:VEVENT
DTSTART;TZID=America/Los_Angeles:20231213T180000
DTEND;TZID=America/Los_Angeles:20231213T183000
DTSTAMP:20240108T221622
CREATED:20230901T230000Z
LAST-MODIFIED:20231118T022205Z
UID:10027367-1702490400-1702492200@saintmarks.org
SUMMARY:Community Dinner
DESCRIPTION:On most Wednesday nights\, a delicious dinner is served in Bloedel Hall from 6 to 6:30. (Note: Food service ends at 6:30 p.m.\, sharp.) \n$6/child; $8/adult; $25/max. family \nCathedral Commons programs often follow at 6:45 p.m.
URL:https://saintmarks.org/calendar/community-dinner-2/2023-12-13/
LOCATION:Bloedel Hall
END:VEVENT
BEGIN:VEVENT
DTSTART;TZID=America/Los_Angeles:20231212T190000
DTEND;TZID=America/Los_Angeles:20231212T200000
DTSTAMP:20240108T221622
CREATED:20220713T022836Z
LAST-MODIFIED:20221120T173151Z
UID:10023472-1702407600-1702411200@saintmarks.org
SUMMARY:*Alcoholics Anonymous (Knuckleheads)
DESCRIPTION:Knuckleheads (CLOSED) \nMeeting information\nMen only. In-person and online. \nTuesday\, 7:00 pm to 8:00 pm \n\nIn-person\nOnline\nClosed\nMen\nOne Hour\n\nMore information here. \nClosed meetings are for A.A. members only\, or for those who have a drinking problem and “have a desire to stop drinking.” \nThis meeting is being held in person and on zoom.
URL:https://saintmarks.org/calendar/alcoholics-anonymous-2/2023-12-12/
LOCATION:Bloedel Hall
END:VEVENT
BEGIN:VEVENT
DTSTART;TZID=America/Los_Angeles:20231211T193000
DTEND;TZID=America/Los_Angeles:20231211T203000
DTSTAMP:20240108T221622
CREATED:20210802T020925Z
LAST-MODIFIED:20221120T173116Z
UID:10022318-1702323000-1702326600@saintmarks.org
SUMMARY:*Alcoholics Anonymous (Broadway Group)
DESCRIPTION:Broadway Group Weekly Meeting (CLOSED) \nMeeting Information\nMonday\, 7:30 pm to 8:30 pm \n\nIn person\nClosed\nOne Hour\nWheelchair Access\n\nMore information here. \nClosed meetings are for A.A. members only\, or for those who have a drinking problem and “have a desire to stop drinking.” \nMasks required.\nIn Bloedel Hall
URL:https://saintmarks.org/calendar/alcoholics-anonymous/2023-12-11/
LOCATION:Bloedel Hall
END:VEVENT
BEGIN:VEVENT
DTSTART;TZID=America/Los_Angeles:20231210T101000
DTEND;TZID=America/Los_Angeles:20231210T105000
DTSTAMP:20240108T221622
CREATED:20231128T183126Z
LAST-MODIFIED:20231205T203603Z
UID:10027930-1702203000-1702205400@saintmarks.org
SUMMARY:Sunday Forum: Life in Palestine in This Time of War
DESCRIPTION:Dean Thomason and Palestinian Priest Fr. Fadi Diab in Conversation\nSUNDAY\, DECEMBER  10\, 10:10 A.M.–10:50 A.M.\, Bloedel Hall and on Zoom \nFr. Fadi Diab serves as rector of St. Andrew’s Anglican Church in Ramallah in the West Bank. He and Dean Thomason have forged a friendship since Fr. Fadi preached at Saint Mark’s last July\, and their email exchanges of prayerful support and mutual affection have deepened since October 7 and the start of the war in Gaza. Fallout from the war and ongoing hardship for Palestinians in the West Bank have only intensified\, and Fr. Fadi reports that violence and suffering in his church community and in the city he loves is heart-breaking. At this special Sunday forum Fr. Fadi will join Dean Steve from Ramallah over Zoom to discuss the current situation on the ground\, how the war is impacting our Christian siblings in the Holy Land\, and how the prospect of peace can still be held in the face of such challenges. Register to join online using this Zoom link.
URL:https://saintmarks.org/calendar/sunday-forum-a-conversation-with-fr-fadi-diab/
LOCATION:Bloedel Hall
END:VEVENT
BEGIN:VEVENT
DTSTART;TZID=America/Los_Angeles:20231206T180000
DTEND;TZID=America/Los_Angeles:20231206T183000
DTSTAMP:20240108T221622
CREATED:20230901T230000Z
LAST-MODIFIED:20231118T022205Z
UID:10027366-1701885600-1701887400@saintmarks.org
SUMMARY:Community Dinner
DESCRIPTION:On most Wednesday nights\, a delicious dinner is served in Bloedel Hall from 6 to 6:30. (Note: Food service ends at 6:30 p.m.\, sharp.) \n$6/child; $8/adult; $25/max. family \nCathedral Commons programs often follow at 6:45 p.m.
URL:https://saintmarks.org/calendar/community-dinner-2/2023-12-06/
LOCATION:Bloedel Hall
END:VEVENT
BEGIN:VEVENT
DTSTART;TZID=America/Los_Angeles:20231205T190000
DTEND;TZID=America/Los_Angeles:20231205T200000
DTSTAMP:20240108T221622
CREATED:20220713T022836Z
LAST-MODIFIED:20221120T173151Z
UID:10023471-1701802800-1701806400@saintmarks.org
SUMMARY:*Alcoholics Anonymous (Knuckleheads)
DESCRIPTION:Knuckleheads (CLOSED) \nMeeting information\nMen only. In-person and online. \nTuesday\, 7:00 pm to 8:00 pm \n\nIn-person\nOnline\nClosed\nMen\nOne Hour\n\nMore information here. \nClosed meetings are for A.A. members only\, or for those who have a drinking problem and “have a desire to stop drinking.” \nThis meeting is being held in person and on zoom.
URL:https://saintmarks.org/calendar/alcoholics-anonymous-2/2023-12-05/
LOCATION:Bloedel Hall
END:VEVENT
BEGIN:VEVENT
DTSTART;TZID=America/Los_Angeles:20231204T193000
DTEND;TZID=America/Los_Angeles:20231204T203000
DTSTAMP:20240108T221622
CREATED:20210802T020925Z
LAST-MODIFIED:20221120T173116Z
UID:10022317-1701718200-1701721800@saintmarks.org
SUMMARY:*Alcoholics Anonymous (Broadway Group)
DESCRIPTION:Broadway Group Weekly Meeting (CLOSED) \nMeeting Information\nMonday\, 7:30 pm to 8:30 pm \n\nIn person\nClosed\nOne Hour\nWheelchair Access\n\nMore information here. \nClosed meetings are for A.A. members only\, or for those who have a drinking problem and “have a desire to stop drinking.” \nMasks required.\nIn Bloedel Hall
URL:https://saintmarks.org/calendar/alcoholics-anonymous/2023-12-04/
LOCATION:Bloedel Hall
END:VEVENT
BEGIN:VEVENT
DTSTART;TZID=America/Los_Angeles:20231202T090000
DTEND;TZID=America/Los_Angeles:20231202T120000
DTSTAMP:20240108T221622
CREATED:20230602T204719Z
LAST-MODIFIED:20231118T040117Z
UID:10020059-1701507600-1701518400@saintmarks.org
SUMMARY:Wisdom School: Womanist Midrash & Biblical Interpretation with The Rev. Wil Gafney\, Ph.D.
DESCRIPTION:SATURDAY\, DECEMBER 2\, 9 A.M.–12 P.M.\, in person in Bloedel Hall and online via Zoom. Registration required for either option. \nWomanist Biblical scholar and renowned author of A Women’s Lectionary for the Whole Church\, The Rev. Wil Gafney\, Ph.D. will lead a seminar on Womanist Midrash\, exploring the complexity of scripture and importance of translation as she interprets the Hebrew Biblical tradition of women prophets and leaders. Fee: $65 (for both online and in-person participants). Partial scholarships available. Includes a light lunch and snacks for those participating in person. Register by submitting the form here. \nThis workshop is made possible through generous gifts in loving memory of Matthew Briggs. \nNote: Dr. Gafney will also offer a guest sermon on Sunday\, December 3\, at 9 a.m. and 11 a.m.
URL:https://saintmarks.org/calendar/wisdom-school-biblical-interpretation-workshop-with-the-rev-dr-wil-gafney/
LOCATION:Bloedel Hall
END:VEVENT
BEGIN:VEVENT
DTSTART;TZID=America/Los_Angeles:20231130T090000
DTEND;TZID=America/Los_Angeles:20231130T143000
DTSTAMP:20240108T221622
CREATED:20230906T194254Z
LAST-MODIFIED:20230906T194310Z
UID:10027394-1701334800-1701354600@saintmarks.org
SUMMARY:Preaching Conference
DESCRIPTION:THURSDAY\, NOVEMBER 30\, 2023\, 9 A.M.–2:30 P.M. FEE: $15\, in person or online via zoom\, pre-registration required \nPreaching the Prophets: Peculiar\, Queerly Single\, and Resisting the Patriarchy\nA Preaching Workshop for clergy facilitated by The Rev. Wil Gafney\, Ph.D.\, underwritten by the Saint Mark’s Cathedral Leffler Endowment Fund and a grant from the Office of the Bishop of the Diocese of Olympia. Learn more here.
URL:https://saintmarks.org/calendar/preaching-conference/
LOCATION:Bloedel Hall
END:VEVENT
BEGIN:VEVENT
DTSTART;TZID=America/Los_Angeles:20231129T180000
DTEND;TZID=America/Los_Angeles:20231129T183000
DTSTAMP:20240108T221622
CREATED:20230901T230000Z
LAST-MODIFIED:20231118T022205Z
UID:10027365-1701280800-1701282600@saintmarks.org
SUMMARY:Community Dinner
DESCRIPTION:On most Wednesday nights\, a delicious dinner is served in Bloedel Hall from 6 to 6:30. (Note: Food service ends at 6:30 p.m.\, sharp.) \n$6/child; $8/adult; $25/max. family \nCathedral Commons programs often follow at 6:45 p.m.
URL:https://saintmarks.org/calendar/community-dinner-2/2023-11-29/
LOCATION:Bloedel Hall
END:VEVENT
BEGIN:VEVENT
DTSTART;TZID=America/Los_Angeles:20231128T190000
DTEND;TZID=America/Los_Angeles:20231128T200000
DTSTAMP:20240108T221622
CREATED:20220713T022836Z
LAST-MODIFIED:20221120T173151Z
UID:10023470-1701198000-1701201600@saintmarks.org
SUMMARY:*Alcoholics Anonymous (Knuckleheads)
DESCRIPTION:Knuckleheads (CLOSED) \nMeeting information\nMen only. In-person and online. \nTuesday\, 7:00 pm to 8:00 pm \n\nIn-person\nOnline\nClosed\nMen\nOne Hour\n\nMore information here. \nClosed meetings are for A.A. members only\, or for those who have a drinking problem and “have a desire to stop drinking.” \nThis meeting is being held in person and on zoom.
URL:https://saintmarks.org/calendar/alcoholics-anonymous-2/2023-11-28/
LOCATION:Bloedel Hall
END:VEVENT
BEGIN:VEVENT
DTSTART;TZID=America/Los_Angeles:20231127T193000
DTEND;TZID=America/Los_Angeles:20231127T203000
DTSTAMP:20240108T221622
CREATED:20210802T020925Z
LAST-MODIFIED:20221120T173116Z
UID:10022316-1701113400-1701117000@saintmarks.org
SUMMARY:*Alcoholics Anonymous (Broadway Group)
DESCRIPTION:Broadway Group Weekly Meeting (CLOSED) \nMeeting Information\nMonday\, 7:30 pm to 8:30 pm \n\nIn person\nClosed\nOne Hour\nWheelchair Access\n\nMore information here. \nClosed meetings are for A.A. members only\, or for those who have a drinking problem and “have a desire to stop drinking.” \nMasks required.\nIn Bloedel Hall
URL:https://saintmarks.org/calendar/alcoholics-anonymous/2023-11-27/
LOCATION:Bloedel Hall
END:VEVENT
BEGIN:VEVENT
DTSTART;TZID=America/Los_Angeles:20231123T114500
DTEND;TZID=America/Los_Angeles:20231123T140000
DTSTAMP:20240108T221622
CREATED:20231103T073137Z
LAST-MODIFIED:20231116T010426Z
UID:10027760-1700739900-1700748000@saintmarks.org
SUMMARY:Thanksgiving Day Community Dinner
DESCRIPTION:THURSDAY\, NOVEMBER 23\, 11:45 A.M.\, Bloedel Hall. Registration requested. DEADLINE: 10 a.m. on Monday\, November 20.  \nSeveral members of the cathedral community have expressed interest in joining chosen family here at Saint Mark’s for a Thanksgiving Day feast in Bloedel Hall following the service of Holy Eucharist at 10 a.m. \nAll are welcome\, and feel free to brings others in your circles to join the fete. Turkeys (and a vegetarian alternative main dish) will be provided; bring a side dish\, bread or dessert if you can. No worries if not—just come and be a part as we give thanks together in this place. In order to plan for room setup and the size of the turkey\, please reserve your spot no later than 10 a.m. on Monday\, November 20. Register using this link
URL:https://saintmarks.org/calendar/thanksgiving-day-community-dinner/
LOCATION:Bloedel Hall
END:VEVENT
BEGIN:VEVENT
DTSTART;TZID=America/Los_Angeles:20231121T190000
DTEND;TZID=America/Los_Angeles:20231121T200000
DTSTAMP:20240108T221622
CREATED:20220713T022836Z
LAST-MODIFIED:20221120T173151Z
UID:10023469-1700593200-1700596800@saintmarks.org
SUMMARY:*Alcoholics Anonymous (Knuckleheads)
DESCRIPTION:Knuckleheads (CLOSED) \nMeeting information\nMen only. In-person and online. \nTuesday\, 7:00 pm to 8:00 pm \n\nIn-person\nOnline\nClosed\nMen\nOne Hour\n\nMore information here. \nClosed meetings are for A.A. members only\, or for those who have a drinking problem and “have a desire to stop drinking.” \nThis meeting is being held in person and on zoom.
URL:https://saintmarks.org/calendar/alcoholics-anonymous-2/2023-11-21/
LOCATION:Bloedel Hall
END:VEVENT
BEGIN:VEVENT
DTSTART;TZID=America/Los_Angeles:20231120T193000
DTEND;TZID=America/Los_Angeles:20231120T203000
DTSTAMP:20240108T221622
CREATED:20210802T020925Z
LAST-MODIFIED:20221120T173116Z
UID:10022315-1700508600-1700512200@saintmarks.org
SUMMARY:*Alcoholics Anonymous (Broadway Group)
DESCRIPTION:Broadway Group Weekly Meeting (CLOSED) \nMeeting Information\nMonday\, 7:30 pm to 8:30 pm \n\nIn person\nClosed\nOne Hour\nWheelchair Access\n\nMore information here. \nClosed meetings are for A.A. members only\, or for those who have a drinking problem and “have a desire to stop drinking.” \nMasks required.\nIn Bloedel Hall
URL:https://saintmarks.org/calendar/alcoholics-anonymous/2023-11-20/
LOCATION:Bloedel Hall
END:VEVENT
BEGIN:VEVENT
DTSTART;TZID=America/Los_Angeles:20231119T130000
DTEND;TZID=America/Los_Angeles:20231119T160000
DTSTAMP:20240108T221623
CREATED:20230201T215828Z
LAST-MODIFIED:20230201T222837Z
UID:10019867-1700398800-1700409600@saintmarks.org
SUMMARY:Meal Sharing Ministry: St. Martin de Porres Shelter
DESCRIPTION:We provide a hot dinner to Saint Martin de Porres\, a shelter for men over 50\, on the third Sunday of every month. We will cook at Saint Mark’s and deliver the meal to the shelter. If you would like to cook\, help serve food\, and get to know some members of our community outside the Cathedral walls\, we would welcome your help. Our volunteers highly value this opportunity to serve our neighbors and guests. \nWe guarantee you will have fun while serving\, and the burden is definitely light! For more information\, please contact Deborah Person at deborah.person@gmail.com\, Maris Olsen at maris.olsen@gmail.com\, or Chris Rigos at crigos33@gmail.com \nFind more information at https://saintmarks.org/2023/01/meal-sharing-ministry-update/
URL:https://saintmarks.org/calendar/meal-sharing-st-martin-de-porres-shelter/2023-11-19/
LOCATION:Bloedel Hall
END:VEVENT
BEGIN:VEVENT
DTSTART;TZID=America/Los_Angeles:20231119T101000
DTEND;TZID=America/Los_Angeles:20231119T105000
DTSTAMP:20240108T221623
CREATED:20231021T003523Z
LAST-MODIFIED:20231103T084349Z
UID:10027546-1700388600-1700391000@saintmarks.org
SUMMARY:Sunday Forum on the Pageant of the Nativity
DESCRIPTION:SUNDAY\, NOVEMBER 19\, 10:10–10:50 A.M.\, Bloedel Hall \nThe Pageant of the Nativity at Saint Mark’s: An Inside Look at Its History\, Inspiration\, and Imagery\nAnyone who has attended the cathedral’s Pageant of the Nativity since 2015 can confirm: this is not your average children’s Christmas pageant! Bejeweled crowns\, the creative use of cathedral finery\, four choirs with guest instrumentalists\, a focus on prayer and Holy Scripture\, and even a Royal Hound make this grand liturgy welcoming the Incarnation something unique to Saint Mark’s. At this Sunday morning forum\, the Pageant’s co-producers\, Rebekah Gilmore (director of the cathedral Choir School) and Dr. James Savage (former Director of Music at St. James Cathedral in Seattle)\, will give a behind-the-scenes look at the traditions and imagery which originally inspired the liturgy\, how it has changed over the past 8 years\, and the ideas that lie at the foundation of this special telling of the birth of Jesus through music\, action\, and art.
URL:https://saintmarks.org/calendar/sunday-forum-37/
LOCATION:Bloedel Hall
END:VEVENT
BEGIN:VEVENT
DTSTART;TZID=America/Los_Angeles:20231115T184500
DTEND;TZID=America/Los_Angeles:20231115T203000
DTSTAMP:20240108T221623
CREATED:20231013T061401Z
LAST-MODIFIED:20231013T061401Z
UID:10027533-1700073900-1700080200@saintmarks.org
SUMMARY:Cathedral Commons: Film Screening—The Philadelphia Eleven
DESCRIPTION:WEDNESDAY\, NOVEMBER 15\, 6:45–8:15 P.M.\, in person in Bloedel Hall only. Optional post-film discussion 8:15–8:30. Optional community dinner at 6 p.m. ($6/child; $8/adult; $25/max. family) \nIn 1974\, a group of 11 women and their supporters organized their ordination to become Episcopal priests in an act of civil disobedience. This story is told in a compelling new documentary The Philadelphia Eleven. The 90-minute documentary film will be screened a the Wednesday evening forum on November 15. \nThis film tells a story that echoes today as women continue this fight for the pulpit. It explores the lives of these remarkable women who succeeded in transforming an age-old institution when they took a stand despite the threats to their personal safety and the risk of rejection by the church they loved. These women are an inspiration for a generation of women in the ministry\, and a clarion call for the entire Christian Church.
URL:https://saintmarks.org/calendar/cathedral-commons-film-screening-the-philadelphia-eleven/
LOCATION:Bloedel Hall
END:VEVENT
BEGIN:VEVENT
DTSTART;TZID=America/Los_Angeles:20231115T180000
DTEND;TZID=America/Los_Angeles:20231115T183000
DTSTAMP:20240108T221623
CREATED:20230901T230000Z
LAST-MODIFIED:20231118T022205Z
UID:10027364-1700071200-1700073000@saintmarks.org
SUMMARY:Community Dinner
DESCRIPTION:On most Wednesday nights\, a delicious dinner is served in Bloedel Hall from 6 to 6:30. (Note: Food service ends at 6:30 p.m.\, sharp.) \n$6/child; $8/adult; $25/max. family \nCathedral Commons programs often follow at 6:45 p.m.
URL:https://saintmarks.org/calendar/community-dinner-2/2023-11-15/
LOCATION:Bloedel Hall
END:VEVENT
BEGIN:VEVENT
DTSTART;TZID=America/Los_Angeles:20231114T190000
DTEND;TZID=America/Los_Angeles:20231114T200000
DTSTAMP:20240108T221623
CREATED:20220713T022836Z
LAST-MODIFIED:20221120T173151Z
UID:10023468-1699988400-1699992000@saintmarks.org
SUMMARY:*Alcoholics Anonymous (Knuckleheads)
DESCRIPTION:Knuckleheads (CLOSED) \nMeeting information\nMen only. In-person and online. \nTuesday\, 7:00 pm to 8:00 pm \n\nIn-person\nOnline\nClosed\nMen\nOne Hour\n\nMore information here. \nClosed meetings are for A.A. members only\, or for those who have a drinking problem and “have a desire to stop drinking.” \nThis meeting is being held in person and on zoom.
URL:https://saintmarks.org/calendar/alcoholics-anonymous-2/2023-11-14/
LOCATION:Bloedel Hall
END:VEVENT
BEGIN:VEVENT
DTSTART;TZID=America/Los_Angeles:20231113T193000
DTEND;TZID=America/Los_Angeles:20231113T203000
DTSTAMP:20240108T221623
CREATED:20210802T020925Z
LAST-MODIFIED:20221120T173116Z
UID:10022314-1699903800-1699907400@saintmarks.org
SUMMARY:*Alcoholics Anonymous (Broadway Group)
DESCRIPTION:Broadway Group Weekly Meeting (CLOSED) \nMeeting Information\nMonday\, 7:30 pm to 8:30 pm \n\nIn person\nClosed\nOne Hour\nWheelchair Access\n\nMore information here. \nClosed meetings are for A.A. members only\, or for those who have a drinking problem and “have a desire to stop drinking.” \nMasks required.\nIn Bloedel Hall
URL:https://saintmarks.org/calendar/alcoholics-anonymous/2023-11-13/
LOCATION:Bloedel Hall
END:VEVENT
END:VCALENDAR