BEGIN:VCALENDAR
VERSION:2.0
PRODID:-//Saint Mark&#039;s Episcopal Cathedral - ECPv6.2.9//NONSGML v1.0//EN
CALSCALE:GREGORIAN
METHOD:PUBLISH
X-ORIGINAL-URL:https://saintmarks.org
X-WR-CALDESC:Events for Saint Mark&#039;s Episcopal Cathedral
REFRESH-INTERVAL;VALUE=DURATION:PT1H
X-Robots-Tag:noindex
X-PUBLISHED-TTL:PT1H
BEGIN:VTIMEZONE
TZID:America/Los_Angeles
BEGIN:DAYLIGHT
TZOFFSETFROM:-0800
TZOFFSETTO:-0700
TZNAME:PDT
DTSTART:20230312T100000
END:DAYLIGHT
BEGIN:STANDARD
TZOFFSETFROM:-0700
TZOFFSETTO:-0800
TZNAME:PST
DTSTART:20231105T090000
END:STANDARD
END:VTIMEZONE
BEGIN:VEVENT
DTSTART;TZID=America/Los_Angeles:20231119T140000
DTEND;TZID=America/Los_Angeles:20231119T160000
DTSTAMP:20240109T000941
CREATED:20231103T072634Z
LAST-MODIFIED:20231103T072712Z
UID:10027759-1700402400-1700409600@saintmarks.org
SUMMARY:A Visit to Brier Patch Farm
DESCRIPTION:SUNDAY\, NOVEMBER 19\, 2–4 P.M.\, at Brier Patch Farm\, 22526 Hickory Way\, Brier\, WA  \nTyler Morse and Rebekah Gilmore have extended an invitation to all to visit Brier Patch Farm for a fall gathering and short tour of the farm. Come see how a local\, organic farm prepares for winter. We’ll share hot beverages and good conversation\, with a focus on how soil and farming are connected to our care for creation. This gathering will be an excellent opportunity for Saint Mark’s folks of all ages to enjoy some time together and learn a little bit about farming in the Pacific Northwest. More details to follow. For questions\, contact Kathy Minsch or Marjorie Ringness at creationcare@saintmarks.org or Tyler Morse at tyler@brierpatch.farm
URL:https://saintmarks.org/calendar/a-visit-to-brier-patch-farm/
LOCATION:Brier Patch Farm\, 22526 Hickory Way\, Brier\, WA\, 98036\, United States
END:VEVENT
END:VCALENDAR