BEGIN:VCALENDAR
VERSION:2.0
PRODID:-//Saint Mark&#039;s Episcopal Cathedral - ECPv6.2.9//NONSGML v1.0//EN
CALSCALE:GREGORIAN
METHOD:PUBLISH
X-ORIGINAL-URL:https://saintmarks.org
X-WR-CALDESC:Events for Saint Mark&#039;s Episcopal Cathedral
REFRESH-INTERVAL;VALUE=DURATION:PT1H
X-Robots-Tag:noindex
X-PUBLISHED-TTL:PT1H
BEGIN:VTIMEZONE
TZID:America/Los_Angeles
BEGIN:DAYLIGHT
TZOFFSETFROM:-0800
TZOFFSETTO:-0700
TZNAME:PDT
DTSTART:20230312T100000
END:DAYLIGHT
BEGIN:STANDARD
TZOFFSETFROM:-0700
TZOFFSETTO:-0800
TZNAME:PST
DTSTART:20231105T090000
END:STANDARD
END:VTIMEZONE
BEGIN:VEVENT
DTSTART;TZID=America/Los_Angeles:20230603T090000
DTEND;TZID=America/Los_Angeles:20230603T130000
DTSTAMP:20240109T000820
CREATED:20230526T220007Z
LAST-MODIFIED:20230526T220007Z
UID:10023984-1685782800-1685797200@saintmarks.org
SUMMARY:Taking Pride in Capitol Hill
DESCRIPTION:We are looking for 8-10 people to join us for Taking Pride in Capitol Hill on Saturday\, June 3 from 9-noon. This is a community event where people gather to clean the streets\, sidewalks\, and parks of Capitol Hill in preparation for Pride Month. Interested in joining? Sign up here! \nQuestions? Contact Michael Seewer (mseewer@saintmarks.org).
URL:https://saintmarks.org/calendar/taking-pride-in-capitol-hill/
LOCATION:Capitol Hill
END:VEVENT
END:VCALENDAR