BEGIN:VCALENDAR
VERSION:2.0
PRODID:-//Saint Mark&#039;s Episcopal Cathedral - ECPv6.2.9//NONSGML v1.0//EN
CALSCALE:GREGORIAN
METHOD:PUBLISH
X-ORIGINAL-URL:https://saintmarks.org
X-WR-CALDESC:Events for Saint Mark&#039;s Episcopal Cathedral
REFRESH-INTERVAL;VALUE=DURATION:PT1H
X-Robots-Tag:noindex
X-PUBLISHED-TTL:PT1H
BEGIN:VTIMEZONE
TZID:America/Los_Angeles
BEGIN:DAYLIGHT
TZOFFSETFROM:-0800
TZOFFSETTO:-0700
TZNAME:PDT
DTSTART:20230312T100000
END:DAYLIGHT
BEGIN:STANDARD
TZOFFSETFROM:-0700
TZOFFSETTO:-0800
TZNAME:PST
DTSTART:20231105T090000
END:STANDARD
BEGIN:DAYLIGHT
TZOFFSETFROM:-0800
TZOFFSETTO:-0700
TZNAME:PDT
DTSTART:20240310T100000
END:DAYLIGHT
BEGIN:STANDARD
TZOFFSETFROM:-0700
TZOFFSETTO:-0800
TZNAME:PST
DTSTART:20241103T090000
END:STANDARD
END:VTIMEZONE
BEGIN:VEVENT
DTSTART;TZID=America/Los_Angeles:20240103T200000
DTEND;TZID=America/Los_Angeles:20240103T210000
DTSTAMP:20240108T220643
CREATED:20231231T041101Z
LAST-MODIFIED:20231231T041122Z
UID:10058454-1704312000-1704315600@saintmarks.org
SUMMARY:*Alcoholics Anonymous (Sober & Free)
DESCRIPTION:Alcoholics Anonymous meeting\nLGBTQ-focused \nLocation: Carriage House (on the NE corner of the cathedral property) \nMeeting Information \nWednesday\, 8:00 pm to 9:00 pm \n\nIn person\nOnline\nLGBTQ\nOne Hour\nOpen\n\nOpen meetings are available to anyone interested in Alcoholics Anonymous’ program of recovery from alcoholism. Nonalcoholics may attend open meetings as observers. \nMore information (including instructions to join online) here.
URL:https://saintmarks.org/calendar/alcoholics-anonymous-sober-free-2/2024-01-03/
LOCATION:Carriage House\, 1229 10th Ave E\, Seattle\, WA\, 98102\, United States
END:VEVENT
BEGIN:VEVENT
DTSTART;TZID=America/Los_Angeles:20231227T193000
DTEND;TZID=America/Los_Angeles:20231227T211500
DTSTAMP:20240108T220643
CREATED:20210818T053510Z
LAST-MODIFIED:20231228T005416Z
UID:10027052-1703705400-1703711700@saintmarks.org
SUMMARY:*Alcoholics Anonymous (Sober & Free)
DESCRIPTION:Alcoholics Anonymous meeting \nLGBTQ-focused \nLocation: Carriage House \nMeeting Information\nWednesday\, 8:00 pm to 9:00 pm \n\nIn person\nOnline\nLGBTQ\nOne Hour\nOpen\n\nOpen meetings are available to anyone interested in Alcoholics Anonymous’ program of recovery from alcoholism. Nonalcoholics may attend open meetings as observers. \nMore information (including instructions to join online) here.
URL:https://saintmarks.org/calendar/alcoholics-anonymous-sober-free/2023-12-27/
LOCATION:Carriage House\, 1229 10th Ave E\, Seattle\, WA\, 98102\, United States
END:VEVENT
BEGIN:VEVENT
DTSTART;TZID=America/Los_Angeles:20231227T193000
DTEND;TZID=America/Los_Angeles:20231227T211500
DTSTAMP:20240108T220643
CREATED:20210818T053510Z
LAST-MODIFIED:20231228T005416Z
UID:10027157-1703705400-1703711700@saintmarks.org
SUMMARY:*Alcoholics Anonymous (Sober & Free)
DESCRIPTION:Alcoholics Anonymous meeting \nLGBTQ-focused \nLocation: Carriage House \nMeeting Information\nWednesday\, 8:00 pm to 9:00 pm \n\nIn person\nOnline\nLGBTQ\nOne Hour\nOpen\n\nOpen meetings are available to anyone interested in Alcoholics Anonymous’ program of recovery from alcoholism. Nonalcoholics may attend open meetings as observers. \nMore information (including instructions to join online) here.
URL:https://saintmarks.org/calendar/alcoholics-anonymous-sober-free/2023-12-27/
LOCATION:Carriage House\, 1229 10th Ave E\, Seattle\, WA\, 98102\, United States
END:VEVENT
BEGIN:VEVENT
DTSTART;TZID=America/Los_Angeles:20231227T193000
DTEND;TZID=America/Los_Angeles:20231227T211500
DTSTAMP:20240108T220643
CREATED:20210818T053510Z
LAST-MODIFIED:20221120T173855Z
UID:10019428-1703705400-1703711700@saintmarks.org
SUMMARY:*Alcoholics Anonymous (Sober & Free)
DESCRIPTION:Alcoholics Anonymous meeting \nLGBTQ-focused \nLocation: Carriage House \nMeeting Information\nWednesday\, 8:00 pm to 9:00 pm \n\nIn person\nOnline\nLGBTQ\nOne Hour\nOpen\n\nOpen meetings are available to anyone interested in Alcoholics Anonymous’ program of recovery from alcoholism. Nonalcoholics may attend open meetings as observers. \nMore information (including instructions to join online) here.
URL:https://saintmarks.org/calendar/alcoholics-anonymous-sober-free/2023-12-27/
LOCATION:Carriage House\, 1229 10th Ave E\, Seattle\, WA\, 98102\, United States
END:VEVENT
BEGIN:VEVENT
DTSTART;TZID=America/Los_Angeles:20231227T193000
DTEND;TZID=America/Los_Angeles:20231227T211500
DTSTAMP:20240108T220643
CREATED:20210818T053510Z
LAST-MODIFIED:20231228T005416Z
UID:10027270-1703705400-1703711700@saintmarks.org
SUMMARY:*Alcoholics Anonymous (Sober & Free)
DESCRIPTION:Alcoholics Anonymous meeting \nLGBTQ-focused \nLocation: Carriage House \nMeeting Information\nWednesday\, 8:00 pm to 9:00 pm \n\nIn person\nOnline\nLGBTQ\nOne Hour\nOpen\n\nOpen meetings are available to anyone interested in Alcoholics Anonymous’ program of recovery from alcoholism. Nonalcoholics may attend open meetings as observers. \nMore information (including instructions to join online) here.
URL:https://saintmarks.org/calendar/alcoholics-anonymous-sober-free/2023-12-27/
LOCATION:Carriage House\, 1229 10th Ave E\, Seattle\, WA\, 98102\, United States
END:VEVENT
BEGIN:VEVENT
DTSTART;TZID=America/Los_Angeles:20231220T193000
DTEND;TZID=America/Los_Angeles:20231220T211500
DTSTAMP:20240108T220643
CREATED:20210818T053510Z
LAST-MODIFIED:20231228T005416Z
UID:10027269-1703100600-1703106900@saintmarks.org
SUMMARY:*Alcoholics Anonymous (Sober & Free)
DESCRIPTION:Alcoholics Anonymous meeting \nLGBTQ-focused \nLocation: Carriage House \nMeeting Information\nWednesday\, 8:00 pm to 9:00 pm \n\nIn person\nOnline\nLGBTQ\nOne Hour\nOpen\n\nOpen meetings are available to anyone interested in Alcoholics Anonymous’ program of recovery from alcoholism. Nonalcoholics may attend open meetings as observers. \nMore information (including instructions to join online) here.
URL:https://saintmarks.org/calendar/alcoholics-anonymous-sober-free/2023-12-20/
LOCATION:Carriage House\, 1229 10th Ave E\, Seattle\, WA\, 98102\, United States
END:VEVENT
BEGIN:VEVENT
DTSTART;TZID=America/Los_Angeles:20231220T193000
DTEND;TZID=America/Los_Angeles:20231220T211500
DTSTAMP:20240108T220643
CREATED:20210818T053510Z
LAST-MODIFIED:20231228T005416Z
UID:10027051-1703100600-1703106900@saintmarks.org
SUMMARY:*Alcoholics Anonymous (Sober & Free)
DESCRIPTION:Alcoholics Anonymous meeting \nLGBTQ-focused \nLocation: Carriage House \nMeeting Information\nWednesday\, 8:00 pm to 9:00 pm \n\nIn person\nOnline\nLGBTQ\nOne Hour\nOpen\n\nOpen meetings are available to anyone interested in Alcoholics Anonymous’ program of recovery from alcoholism. Nonalcoholics may attend open meetings as observers. \nMore information (including instructions to join online) here.
URL:https://saintmarks.org/calendar/alcoholics-anonymous-sober-free/2023-12-20/
LOCATION:Carriage House\, 1229 10th Ave E\, Seattle\, WA\, 98102\, United States
END:VEVENT
BEGIN:VEVENT
DTSTART;TZID=America/Los_Angeles:20231220T193000
DTEND;TZID=America/Los_Angeles:20231220T211500
DTSTAMP:20240108T220643
CREATED:20210818T053510Z
LAST-MODIFIED:20231228T005416Z
UID:10027156-1703100600-1703106900@saintmarks.org
SUMMARY:*Alcoholics Anonymous (Sober & Free)
DESCRIPTION:Alcoholics Anonymous meeting \nLGBTQ-focused \nLocation: Carriage House \nMeeting Information\nWednesday\, 8:00 pm to 9:00 pm \n\nIn person\nOnline\nLGBTQ\nOne Hour\nOpen\n\nOpen meetings are available to anyone interested in Alcoholics Anonymous’ program of recovery from alcoholism. Nonalcoholics may attend open meetings as observers. \nMore information (including instructions to join online) here.
URL:https://saintmarks.org/calendar/alcoholics-anonymous-sober-free/2023-12-20/
LOCATION:Carriage House\, 1229 10th Ave E\, Seattle\, WA\, 98102\, United States
END:VEVENT
BEGIN:VEVENT
DTSTART;TZID=America/Los_Angeles:20231220T193000
DTEND;TZID=America/Los_Angeles:20231220T211500
DTSTAMP:20240108T220643
CREATED:20210818T053510Z
LAST-MODIFIED:20221120T173855Z
UID:10019427-1703100600-1703106900@saintmarks.org
SUMMARY:*Alcoholics Anonymous (Sober & Free)
DESCRIPTION:Alcoholics Anonymous meeting \nLGBTQ-focused \nLocation: Carriage House \nMeeting Information\nWednesday\, 8:00 pm to 9:00 pm \n\nIn person\nOnline\nLGBTQ\nOne Hour\nOpen\n\nOpen meetings are available to anyone interested in Alcoholics Anonymous’ program of recovery from alcoholism. Nonalcoholics may attend open meetings as observers. \nMore information (including instructions to join online) here.
URL:https://saintmarks.org/calendar/alcoholics-anonymous-sober-free/2023-12-20/
LOCATION:Carriage House\, 1229 10th Ave E\, Seattle\, WA\, 98102\, United States
END:VEVENT
BEGIN:VEVENT
DTSTART;TZID=America/Los_Angeles:20231213T193000
DTEND;TZID=America/Los_Angeles:20231213T211500
DTSTAMP:20240108T220643
CREATED:20210818T053510Z
LAST-MODIFIED:20231228T005416Z
UID:10027050-1702495800-1702502100@saintmarks.org
SUMMARY:*Alcoholics Anonymous (Sober & Free)
DESCRIPTION:Alcoholics Anonymous meeting \nLGBTQ-focused \nLocation: Carriage House \nMeeting Information\nWednesday\, 8:00 pm to 9:00 pm \n\nIn person\nOnline\nLGBTQ\nOne Hour\nOpen\n\nOpen meetings are available to anyone interested in Alcoholics Anonymous’ program of recovery from alcoholism. Nonalcoholics may attend open meetings as observers. \nMore information (including instructions to join online) here.
URL:https://saintmarks.org/calendar/alcoholics-anonymous-sober-free/2023-12-13/
LOCATION:Carriage House\, 1229 10th Ave E\, Seattle\, WA\, 98102\, United States
END:VEVENT
BEGIN:VEVENT
DTSTART;TZID=America/Los_Angeles:20231213T193000
DTEND;TZID=America/Los_Angeles:20231213T211500
DTSTAMP:20240108T220643
CREATED:20210818T053510Z
LAST-MODIFIED:20231228T005416Z
UID:10027155-1702495800-1702502100@saintmarks.org
SUMMARY:*Alcoholics Anonymous (Sober & Free)
DESCRIPTION:Alcoholics Anonymous meeting \nLGBTQ-focused \nLocation: Carriage House \nMeeting Information\nWednesday\, 8:00 pm to 9:00 pm \n\nIn person\nOnline\nLGBTQ\nOne Hour\nOpen\n\nOpen meetings are available to anyone interested in Alcoholics Anonymous’ program of recovery from alcoholism. Nonalcoholics may attend open meetings as observers. \nMore information (including instructions to join online) here.
URL:https://saintmarks.org/calendar/alcoholics-anonymous-sober-free/2023-12-13/
LOCATION:Carriage House\, 1229 10th Ave E\, Seattle\, WA\, 98102\, United States
END:VEVENT
BEGIN:VEVENT
DTSTART;TZID=America/Los_Angeles:20231213T193000
DTEND;TZID=America/Los_Angeles:20231213T211500
DTSTAMP:20240108T220643
CREATED:20210818T053510Z
LAST-MODIFIED:20221120T173855Z
UID:10019426-1702495800-1702502100@saintmarks.org
SUMMARY:*Alcoholics Anonymous (Sober & Free)
DESCRIPTION:Alcoholics Anonymous meeting \nLGBTQ-focused \nLocation: Carriage House \nMeeting Information\nWednesday\, 8:00 pm to 9:00 pm \n\nIn person\nOnline\nLGBTQ\nOne Hour\nOpen\n\nOpen meetings are available to anyone interested in Alcoholics Anonymous’ program of recovery from alcoholism. Nonalcoholics may attend open meetings as observers. \nMore information (including instructions to join online) here.
URL:https://saintmarks.org/calendar/alcoholics-anonymous-sober-free/2023-12-13/
LOCATION:Carriage House\, 1229 10th Ave E\, Seattle\, WA\, 98102\, United States
END:VEVENT
BEGIN:VEVENT
DTSTART;TZID=America/Los_Angeles:20231213T193000
DTEND;TZID=America/Los_Angeles:20231213T211500
DTSTAMP:20240108T220643
CREATED:20210818T053510Z
LAST-MODIFIED:20231228T005416Z
UID:10027268-1702495800-1702502100@saintmarks.org
SUMMARY:*Alcoholics Anonymous (Sober & Free)
DESCRIPTION:Alcoholics Anonymous meeting \nLGBTQ-focused \nLocation: Carriage House \nMeeting Information\nWednesday\, 8:00 pm to 9:00 pm \n\nIn person\nOnline\nLGBTQ\nOne Hour\nOpen\n\nOpen meetings are available to anyone interested in Alcoholics Anonymous’ program of recovery from alcoholism. Nonalcoholics may attend open meetings as observers. \nMore information (including instructions to join online) here.
URL:https://saintmarks.org/calendar/alcoholics-anonymous-sober-free/2023-12-13/
LOCATION:Carriage House\, 1229 10th Ave E\, Seattle\, WA\, 98102\, United States
END:VEVENT
BEGIN:VEVENT
DTSTART;TZID=America/Los_Angeles:20231206T193000
DTEND;TZID=America/Los_Angeles:20231206T211500
DTSTAMP:20240108T220643
CREATED:20210818T053510Z
LAST-MODIFIED:20231228T005416Z
UID:10027267-1701891000-1701897300@saintmarks.org
SUMMARY:*Alcoholics Anonymous (Sober & Free)
DESCRIPTION:Alcoholics Anonymous meeting \nLGBTQ-focused \nLocation: Carriage House \nMeeting Information\nWednesday\, 8:00 pm to 9:00 pm \n\nIn person\nOnline\nLGBTQ\nOne Hour\nOpen\n\nOpen meetings are available to anyone interested in Alcoholics Anonymous’ program of recovery from alcoholism. Nonalcoholics may attend open meetings as observers. \nMore information (including instructions to join online) here.
URL:https://saintmarks.org/calendar/alcoholics-anonymous-sober-free/2023-12-06/
LOCATION:Carriage House\, 1229 10th Ave E\, Seattle\, WA\, 98102\, United States
END:VEVENT
BEGIN:VEVENT
DTSTART;TZID=America/Los_Angeles:20231206T193000
DTEND;TZID=America/Los_Angeles:20231206T211500
DTSTAMP:20240108T220643
CREATED:20210818T053510Z
LAST-MODIFIED:20231228T005416Z
UID:10027049-1701891000-1701897300@saintmarks.org
SUMMARY:*Alcoholics Anonymous (Sober & Free)
DESCRIPTION:Alcoholics Anonymous meeting \nLGBTQ-focused \nLocation: Carriage House \nMeeting Information\nWednesday\, 8:00 pm to 9:00 pm \n\nIn person\nOnline\nLGBTQ\nOne Hour\nOpen\n\nOpen meetings are available to anyone interested in Alcoholics Anonymous’ program of recovery from alcoholism. Nonalcoholics may attend open meetings as observers. \nMore information (including instructions to join online) here.
URL:https://saintmarks.org/calendar/alcoholics-anonymous-sober-free/2023-12-06/
LOCATION:Carriage House\, 1229 10th Ave E\, Seattle\, WA\, 98102\, United States
END:VEVENT
BEGIN:VEVENT
DTSTART;TZID=America/Los_Angeles:20231206T193000
DTEND;TZID=America/Los_Angeles:20231206T211500
DTSTAMP:20240108T220644
CREATED:20210818T053510Z
LAST-MODIFIED:20231228T005416Z
UID:10027154-1701891000-1701897300@saintmarks.org
SUMMARY:*Alcoholics Anonymous (Sober & Free)
DESCRIPTION:Alcoholics Anonymous meeting \nLGBTQ-focused \nLocation: Carriage House \nMeeting Information\nWednesday\, 8:00 pm to 9:00 pm \n\nIn person\nOnline\nLGBTQ\nOne Hour\nOpen\n\nOpen meetings are available to anyone interested in Alcoholics Anonymous’ program of recovery from alcoholism. Nonalcoholics may attend open meetings as observers. \nMore information (including instructions to join online) here.
URL:https://saintmarks.org/calendar/alcoholics-anonymous-sober-free/2023-12-06/
LOCATION:Carriage House\, 1229 10th Ave E\, Seattle\, WA\, 98102\, United States
END:VEVENT
BEGIN:VEVENT
DTSTART;TZID=America/Los_Angeles:20231206T193000
DTEND;TZID=America/Los_Angeles:20231206T211500
DTSTAMP:20240108T220644
CREATED:20210818T053510Z
LAST-MODIFIED:20221120T173855Z
UID:10019425-1701891000-1701897300@saintmarks.org
SUMMARY:*Alcoholics Anonymous (Sober & Free)
DESCRIPTION:Alcoholics Anonymous meeting \nLGBTQ-focused \nLocation: Carriage House \nMeeting Information\nWednesday\, 8:00 pm to 9:00 pm \n\nIn person\nOnline\nLGBTQ\nOne Hour\nOpen\n\nOpen meetings are available to anyone interested in Alcoholics Anonymous’ program of recovery from alcoholism. Nonalcoholics may attend open meetings as observers. \nMore information (including instructions to join online) here.
URL:https://saintmarks.org/calendar/alcoholics-anonymous-sober-free/2023-12-06/
LOCATION:Carriage House\, 1229 10th Ave E\, Seattle\, WA\, 98102\, United States
END:VEVENT
BEGIN:VEVENT
DTSTART;TZID=America/Los_Angeles:20231129T193000
DTEND;TZID=America/Los_Angeles:20231129T211500
DTSTAMP:20240108T220644
CREATED:20210818T053510Z
LAST-MODIFIED:20231228T005416Z
UID:10027266-1701286200-1701292500@saintmarks.org
SUMMARY:*Alcoholics Anonymous (Sober & Free)
DESCRIPTION:Alcoholics Anonymous meeting \nLGBTQ-focused \nLocation: Carriage House \nMeeting Information\nWednesday\, 8:00 pm to 9:00 pm \n\nIn person\nOnline\nLGBTQ\nOne Hour\nOpen\n\nOpen meetings are available to anyone interested in Alcoholics Anonymous’ program of recovery from alcoholism. Nonalcoholics may attend open meetings as observers. \nMore information (including instructions to join online) here.
URL:https://saintmarks.org/calendar/alcoholics-anonymous-sober-free/2023-11-29/
LOCATION:Carriage House\, 1229 10th Ave E\, Seattle\, WA\, 98102\, United States
END:VEVENT
BEGIN:VEVENT
DTSTART;TZID=America/Los_Angeles:20231129T193000
DTEND;TZID=America/Los_Angeles:20231129T211500
DTSTAMP:20240108T220644
CREATED:20210818T053510Z
LAST-MODIFIED:20231228T005416Z
UID:10027048-1701286200-1701292500@saintmarks.org
SUMMARY:*Alcoholics Anonymous (Sober & Free)
DESCRIPTION:Alcoholics Anonymous meeting \nLGBTQ-focused \nLocation: Carriage House \nMeeting Information\nWednesday\, 8:00 pm to 9:00 pm \n\nIn person\nOnline\nLGBTQ\nOne Hour\nOpen\n\nOpen meetings are available to anyone interested in Alcoholics Anonymous’ program of recovery from alcoholism. Nonalcoholics may attend open meetings as observers. \nMore information (including instructions to join online) here.
URL:https://saintmarks.org/calendar/alcoholics-anonymous-sober-free/2023-11-29/
LOCATION:Carriage House\, 1229 10th Ave E\, Seattle\, WA\, 98102\, United States
END:VEVENT
BEGIN:VEVENT
DTSTART;TZID=America/Los_Angeles:20231129T193000
DTEND;TZID=America/Los_Angeles:20231129T211500
DTSTAMP:20240108T220644
CREATED:20210818T053510Z
LAST-MODIFIED:20231228T005416Z
UID:10027153-1701286200-1701292500@saintmarks.org
SUMMARY:*Alcoholics Anonymous (Sober & Free)
DESCRIPTION:Alcoholics Anonymous meeting \nLGBTQ-focused \nLocation: Carriage House \nMeeting Information\nWednesday\, 8:00 pm to 9:00 pm \n\nIn person\nOnline\nLGBTQ\nOne Hour\nOpen\n\nOpen meetings are available to anyone interested in Alcoholics Anonymous’ program of recovery from alcoholism. Nonalcoholics may attend open meetings as observers. \nMore information (including instructions to join online) here.
URL:https://saintmarks.org/calendar/alcoholics-anonymous-sober-free/2023-11-29/
LOCATION:Carriage House\, 1229 10th Ave E\, Seattle\, WA\, 98102\, United States
END:VEVENT
BEGIN:VEVENT
DTSTART;TZID=America/Los_Angeles:20231129T193000
DTEND;TZID=America/Los_Angeles:20231129T211500
DTSTAMP:20240108T220644
CREATED:20210818T053510Z
LAST-MODIFIED:20221120T173855Z
UID:10019424-1701286200-1701292500@saintmarks.org
SUMMARY:*Alcoholics Anonymous (Sober & Free)
DESCRIPTION:Alcoholics Anonymous meeting \nLGBTQ-focused \nLocation: Carriage House \nMeeting Information\nWednesday\, 8:00 pm to 9:00 pm \n\nIn person\nOnline\nLGBTQ\nOne Hour\nOpen\n\nOpen meetings are available to anyone interested in Alcoholics Anonymous’ program of recovery from alcoholism. Nonalcoholics may attend open meetings as observers. \nMore information (including instructions to join online) here.
URL:https://saintmarks.org/calendar/alcoholics-anonymous-sober-free/2023-11-29/
LOCATION:Carriage House\, 1229 10th Ave E\, Seattle\, WA\, 98102\, United States
END:VEVENT
BEGIN:VEVENT
DTSTART;TZID=America/Los_Angeles:20231122T193000
DTEND;TZID=America/Los_Angeles:20231122T211500
DTSTAMP:20240108T220644
CREATED:20210818T053510Z
LAST-MODIFIED:20231228T005416Z
UID:10027152-1700681400-1700687700@saintmarks.org
SUMMARY:*Alcoholics Anonymous (Sober & Free)
DESCRIPTION:Alcoholics Anonymous meeting \nLGBTQ-focused \nLocation: Carriage House \nMeeting Information\nWednesday\, 8:00 pm to 9:00 pm \n\nIn person\nOnline\nLGBTQ\nOne Hour\nOpen\n\nOpen meetings are available to anyone interested in Alcoholics Anonymous’ program of recovery from alcoholism. Nonalcoholics may attend open meetings as observers. \nMore information (including instructions to join online) here.
URL:https://saintmarks.org/calendar/alcoholics-anonymous-sober-free/2023-11-22/
LOCATION:Carriage House\, 1229 10th Ave E\, Seattle\, WA\, 98102\, United States
END:VEVENT
BEGIN:VEVENT
DTSTART;TZID=America/Los_Angeles:20231122T193000
DTEND;TZID=America/Los_Angeles:20231122T211500
DTSTAMP:20240108T220644
CREATED:20210818T053510Z
LAST-MODIFIED:20221120T173855Z
UID:10019423-1700681400-1700687700@saintmarks.org
SUMMARY:*Alcoholics Anonymous (Sober & Free)
DESCRIPTION:Alcoholics Anonymous meeting \nLGBTQ-focused \nLocation: Carriage House \nMeeting Information\nWednesday\, 8:00 pm to 9:00 pm \n\nIn person\nOnline\nLGBTQ\nOne Hour\nOpen\n\nOpen meetings are available to anyone interested in Alcoholics Anonymous’ program of recovery from alcoholism. Nonalcoholics may attend open meetings as observers. \nMore information (including instructions to join online) here.
URL:https://saintmarks.org/calendar/alcoholics-anonymous-sober-free/2023-11-22/
LOCATION:Carriage House\, 1229 10th Ave E\, Seattle\, WA\, 98102\, United States
END:VEVENT
BEGIN:VEVENT
DTSTART;TZID=America/Los_Angeles:20231122T193000
DTEND;TZID=America/Los_Angeles:20231122T211500
DTSTAMP:20240108T220644
CREATED:20210818T053510Z
LAST-MODIFIED:20231228T005416Z
UID:10027265-1700681400-1700687700@saintmarks.org
SUMMARY:*Alcoholics Anonymous (Sober & Free)
DESCRIPTION:Alcoholics Anonymous meeting \nLGBTQ-focused \nLocation: Carriage House \nMeeting Information\nWednesday\, 8:00 pm to 9:00 pm \n\nIn person\nOnline\nLGBTQ\nOne Hour\nOpen\n\nOpen meetings are available to anyone interested in Alcoholics Anonymous’ program of recovery from alcoholism. Nonalcoholics may attend open meetings as observers. \nMore information (including instructions to join online) here.
URL:https://saintmarks.org/calendar/alcoholics-anonymous-sober-free/2023-11-22/
LOCATION:Carriage House\, 1229 10th Ave E\, Seattle\, WA\, 98102\, United States
END:VEVENT
BEGIN:VEVENT
DTSTART;TZID=America/Los_Angeles:20231122T193000
DTEND;TZID=America/Los_Angeles:20231122T211500
DTSTAMP:20240108T220644
CREATED:20210818T053510Z
LAST-MODIFIED:20231228T005416Z
UID:10027047-1700681400-1700687700@saintmarks.org
SUMMARY:*Alcoholics Anonymous (Sober & Free)
DESCRIPTION:Alcoholics Anonymous meeting \nLGBTQ-focused \nLocation: Carriage House \nMeeting Information\nWednesday\, 8:00 pm to 9:00 pm \n\nIn person\nOnline\nLGBTQ\nOne Hour\nOpen\n\nOpen meetings are available to anyone interested in Alcoholics Anonymous’ program of recovery from alcoholism. Nonalcoholics may attend open meetings as observers. \nMore information (including instructions to join online) here.
URL:https://saintmarks.org/calendar/alcoholics-anonymous-sober-free/2023-11-22/
LOCATION:Carriage House\, 1229 10th Ave E\, Seattle\, WA\, 98102\, United States
END:VEVENT
BEGIN:VEVENT
DTSTART;TZID=America/Los_Angeles:20231115T193000
DTEND;TZID=America/Los_Angeles:20231115T211500
DTSTAMP:20240108T220644
CREATED:20210818T053510Z
LAST-MODIFIED:20231228T005416Z
UID:10027264-1700076600-1700082900@saintmarks.org
SUMMARY:*Alcoholics Anonymous (Sober & Free)
DESCRIPTION:Alcoholics Anonymous meeting \nLGBTQ-focused \nLocation: Carriage House \nMeeting Information\nWednesday\, 8:00 pm to 9:00 pm \n\nIn person\nOnline\nLGBTQ\nOne Hour\nOpen\n\nOpen meetings are available to anyone interested in Alcoholics Anonymous’ program of recovery from alcoholism. Nonalcoholics may attend open meetings as observers. \nMore information (including instructions to join online) here.
URL:https://saintmarks.org/calendar/alcoholics-anonymous-sober-free/2023-11-15/
LOCATION:Carriage House\, 1229 10th Ave E\, Seattle\, WA\, 98102\, United States
END:VEVENT
BEGIN:VEVENT
DTSTART;TZID=America/Los_Angeles:20231115T193000
DTEND;TZID=America/Los_Angeles:20231115T211500
DTSTAMP:20240108T220644
CREATED:20210818T053510Z
LAST-MODIFIED:20231228T005416Z
UID:10027046-1700076600-1700082900@saintmarks.org
SUMMARY:*Alcoholics Anonymous (Sober & Free)
DESCRIPTION:Alcoholics Anonymous meeting \nLGBTQ-focused \nLocation: Carriage House \nMeeting Information\nWednesday\, 8:00 pm to 9:00 pm \n\nIn person\nOnline\nLGBTQ\nOne Hour\nOpen\n\nOpen meetings are available to anyone interested in Alcoholics Anonymous’ program of recovery from alcoholism. Nonalcoholics may attend open meetings as observers. \nMore information (including instructions to join online) here.
URL:https://saintmarks.org/calendar/alcoholics-anonymous-sober-free/2023-11-15/
LOCATION:Carriage House\, 1229 10th Ave E\, Seattle\, WA\, 98102\, United States
END:VEVENT
BEGIN:VEVENT
DTSTART;TZID=America/Los_Angeles:20231115T193000
DTEND;TZID=America/Los_Angeles:20231115T211500
DTSTAMP:20240108T220644
CREATED:20210818T053510Z
LAST-MODIFIED:20231228T005416Z
UID:10027151-1700076600-1700082900@saintmarks.org
SUMMARY:*Alcoholics Anonymous (Sober & Free)
DESCRIPTION:Alcoholics Anonymous meeting \nLGBTQ-focused \nLocation: Carriage House \nMeeting Information\nWednesday\, 8:00 pm to 9:00 pm \n\nIn person\nOnline\nLGBTQ\nOne Hour\nOpen\n\nOpen meetings are available to anyone interested in Alcoholics Anonymous’ program of recovery from alcoholism. Nonalcoholics may attend open meetings as observers. \nMore information (including instructions to join online) here.
URL:https://saintmarks.org/calendar/alcoholics-anonymous-sober-free/2023-11-15/
LOCATION:Carriage House\, 1229 10th Ave E\, Seattle\, WA\, 98102\, United States
END:VEVENT
BEGIN:VEVENT
DTSTART;TZID=America/Los_Angeles:20231115T193000
DTEND;TZID=America/Los_Angeles:20231115T211500
DTSTAMP:20240108T220644
CREATED:20210818T053510Z
LAST-MODIFIED:20221120T173855Z
UID:10019422-1700076600-1700082900@saintmarks.org
SUMMARY:*Alcoholics Anonymous (Sober & Free)
DESCRIPTION:Alcoholics Anonymous meeting \nLGBTQ-focused \nLocation: Carriage House \nMeeting Information\nWednesday\, 8:00 pm to 9:00 pm \n\nIn person\nOnline\nLGBTQ\nOne Hour\nOpen\n\nOpen meetings are available to anyone interested in Alcoholics Anonymous’ program of recovery from alcoholism. Nonalcoholics may attend open meetings as observers. \nMore information (including instructions to join online) here.
URL:https://saintmarks.org/calendar/alcoholics-anonymous-sober-free/2023-11-15/
LOCATION:Carriage House\, 1229 10th Ave E\, Seattle\, WA\, 98102\, United States
END:VEVENT
BEGIN:VEVENT
DTSTART;TZID=America/Los_Angeles:20231108T193000
DTEND;TZID=America/Los_Angeles:20231108T211500
DTSTAMP:20240108T220644
CREATED:20210818T053510Z
LAST-MODIFIED:20231228T005416Z
UID:10027045-1699471800-1699478100@saintmarks.org
SUMMARY:*Alcoholics Anonymous (Sober & Free)
DESCRIPTION:Alcoholics Anonymous meeting \nLGBTQ-focused \nLocation: Carriage House \nMeeting Information\nWednesday\, 8:00 pm to 9:00 pm \n\nIn person\nOnline\nLGBTQ\nOne Hour\nOpen\n\nOpen meetings are available to anyone interested in Alcoholics Anonymous’ program of recovery from alcoholism. Nonalcoholics may attend open meetings as observers. \nMore information (including instructions to join online) here.
URL:https://saintmarks.org/calendar/alcoholics-anonymous-sober-free/2023-11-08/
LOCATION:Carriage House\, 1229 10th Ave E\, Seattle\, WA\, 98102\, United States
END:VEVENT
END:VCALENDAR