BEGIN:VCALENDAR
VERSION:2.0
PRODID:-//Saint Mark&#039;s Episcopal Cathedral - ECPv6.2.9//NONSGML v1.0//EN
CALSCALE:GREGORIAN
METHOD:PUBLISH
X-WR-CALNAME:Saint Mark&#039;s Episcopal Cathedral
X-ORIGINAL-URL:https://saintmarks.org
X-WR-CALDESC:Events for Saint Mark&#039;s Episcopal Cathedral
REFRESH-INTERVAL;VALUE=DURATION:PT1H
X-Robots-Tag:noindex
X-PUBLISHED-TTL:PT1H
BEGIN:VTIMEZONE
TZID:America/Los_Angeles
BEGIN:DAYLIGHT
TZOFFSETFROM:-0800
TZOFFSETTO:-0700
TZNAME:PDT
DTSTART:20240310T100000
END:DAYLIGHT
BEGIN:STANDARD
TZOFFSETFROM:-0700
TZOFFSETTO:-0800
TZNAME:PST
DTSTART:20241103T090000
END:STANDARD
END:VTIMEZONE
BEGIN:VEVENT
DTSTART;TZID=America/Los_Angeles:20240410T200000
DTEND;TZID=America/Los_Angeles:20240410T210000
DTSTAMP:20240108T220703
CREATED:20231231T041101Z
LAST-MODIFIED:20231231T041122Z
UID:10058468-1712779200-1712782800@saintmarks.org
SUMMARY:*Alcoholics Anonymous (Sober & Free)
DESCRIPTION:Alcoholics Anonymous meeting\nLGBTQ-focused \nLocation: Carriage House (on the NE corner of the cathedral property) \nMeeting Information \nWednesday\, 8:00 pm to 9:00 pm \n\nIn person\nOnline\nLGBTQ\nOne Hour\nOpen\n\nOpen meetings are available to anyone interested in Alcoholics Anonymous’ program of recovery from alcoholism. Nonalcoholics may attend open meetings as observers. \nMore information (including instructions to join online) here.
URL:https://saintmarks.org/calendar/alcoholics-anonymous-sober-free-2/2024-04-10/
LOCATION:Carriage House\, 1229 10th Ave E\, Seattle\, WA\, 98102\, United States
END:VEVENT
BEGIN:VEVENT
DTSTART;TZID=America/Los_Angeles:20240417T200000
DTEND;TZID=America/Los_Angeles:20240417T210000
DTSTAMP:20240108T220703
CREATED:20231231T041101Z
LAST-MODIFIED:20231231T041122Z
UID:10058469-1713384000-1713387600@saintmarks.org
SUMMARY:*Alcoholics Anonymous (Sober & Free)
DESCRIPTION:Alcoholics Anonymous meeting\nLGBTQ-focused \nLocation: Carriage House (on the NE corner of the cathedral property) \nMeeting Information \nWednesday\, 8:00 pm to 9:00 pm \n\nIn person\nOnline\nLGBTQ\nOne Hour\nOpen\n\nOpen meetings are available to anyone interested in Alcoholics Anonymous’ program of recovery from alcoholism. Nonalcoholics may attend open meetings as observers. \nMore information (including instructions to join online) here.
URL:https://saintmarks.org/calendar/alcoholics-anonymous-sober-free-2/2024-04-17/
LOCATION:Carriage House\, 1229 10th Ave E\, Seattle\, WA\, 98102\, United States
END:VEVENT
BEGIN:VEVENT
DTSTART;TZID=America/Los_Angeles:20240424T200000
DTEND;TZID=America/Los_Angeles:20240424T210000
DTSTAMP:20240108T220703
CREATED:20231231T041101Z
LAST-MODIFIED:20231231T041122Z
UID:10058470-1713988800-1713992400@saintmarks.org
SUMMARY:*Alcoholics Anonymous (Sober & Free)
DESCRIPTION:Alcoholics Anonymous meeting\nLGBTQ-focused \nLocation: Carriage House (on the NE corner of the cathedral property) \nMeeting Information \nWednesday\, 8:00 pm to 9:00 pm \n\nIn person\nOnline\nLGBTQ\nOne Hour\nOpen\n\nOpen meetings are available to anyone interested in Alcoholics Anonymous’ program of recovery from alcoholism. Nonalcoholics may attend open meetings as observers. \nMore information (including instructions to join online) here.
URL:https://saintmarks.org/calendar/alcoholics-anonymous-sober-free-2/2024-04-24/
LOCATION:Carriage House\, 1229 10th Ave E\, Seattle\, WA\, 98102\, United States
END:VEVENT
BEGIN:VEVENT
DTSTART;TZID=America/Los_Angeles:20240501T200000
DTEND;TZID=America/Los_Angeles:20240501T210000
DTSTAMP:20240108T220703
CREATED:20231231T041101Z
LAST-MODIFIED:20231231T041122Z
UID:10058471-1714593600-1714597200@saintmarks.org
SUMMARY:*Alcoholics Anonymous (Sober & Free)
DESCRIPTION:Alcoholics Anonymous meeting\nLGBTQ-focused \nLocation: Carriage House (on the NE corner of the cathedral property) \nMeeting Information \nWednesday\, 8:00 pm to 9:00 pm \n\nIn person\nOnline\nLGBTQ\nOne Hour\nOpen\n\nOpen meetings are available to anyone interested in Alcoholics Anonymous’ program of recovery from alcoholism. Nonalcoholics may attend open meetings as observers. \nMore information (including instructions to join online) here.
URL:https://saintmarks.org/calendar/alcoholics-anonymous-sober-free-2/2024-05-01/
LOCATION:Carriage House\, 1229 10th Ave E\, Seattle\, WA\, 98102\, United States
END:VEVENT
BEGIN:VEVENT
DTSTART;TZID=America/Los_Angeles:20240508T200000
DTEND;TZID=America/Los_Angeles:20240508T210000
DTSTAMP:20240108T220703
CREATED:20231231T041101Z
LAST-MODIFIED:20231231T041122Z
UID:10058472-1715198400-1715202000@saintmarks.org
SUMMARY:*Alcoholics Anonymous (Sober & Free)
DESCRIPTION:Alcoholics Anonymous meeting\nLGBTQ-focused \nLocation: Carriage House (on the NE corner of the cathedral property) \nMeeting Information \nWednesday\, 8:00 pm to 9:00 pm \n\nIn person\nOnline\nLGBTQ\nOne Hour\nOpen\n\nOpen meetings are available to anyone interested in Alcoholics Anonymous’ program of recovery from alcoholism. Nonalcoholics may attend open meetings as observers. \nMore information (including instructions to join online) here.
URL:https://saintmarks.org/calendar/alcoholics-anonymous-sober-free-2/2024-05-08/
LOCATION:Carriage House\, 1229 10th Ave E\, Seattle\, WA\, 98102\, United States
END:VEVENT
BEGIN:VEVENT
DTSTART;TZID=America/Los_Angeles:20240515T200000
DTEND;TZID=America/Los_Angeles:20240515T210000
DTSTAMP:20240108T220703
CREATED:20231231T041101Z
LAST-MODIFIED:20231231T041122Z
UID:10058473-1715803200-1715806800@saintmarks.org
SUMMARY:*Alcoholics Anonymous (Sober & Free)
DESCRIPTION:Alcoholics Anonymous meeting\nLGBTQ-focused \nLocation: Carriage House (on the NE corner of the cathedral property) \nMeeting Information \nWednesday\, 8:00 pm to 9:00 pm \n\nIn person\nOnline\nLGBTQ\nOne Hour\nOpen\n\nOpen meetings are available to anyone interested in Alcoholics Anonymous’ program of recovery from alcoholism. Nonalcoholics may attend open meetings as observers. \nMore information (including instructions to join online) here.
URL:https://saintmarks.org/calendar/alcoholics-anonymous-sober-free-2/2024-05-15/
LOCATION:Carriage House\, 1229 10th Ave E\, Seattle\, WA\, 98102\, United States
END:VEVENT
BEGIN:VEVENT
DTSTART;TZID=America/Los_Angeles:20240522T200000
DTEND;TZID=America/Los_Angeles:20240522T210000
DTSTAMP:20240108T220703
CREATED:20231231T041101Z
LAST-MODIFIED:20231231T041122Z
UID:10058474-1716408000-1716411600@saintmarks.org
SUMMARY:*Alcoholics Anonymous (Sober & Free)
DESCRIPTION:Alcoholics Anonymous meeting\nLGBTQ-focused \nLocation: Carriage House (on the NE corner of the cathedral property) \nMeeting Information \nWednesday\, 8:00 pm to 9:00 pm \n\nIn person\nOnline\nLGBTQ\nOne Hour\nOpen\n\nOpen meetings are available to anyone interested in Alcoholics Anonymous’ program of recovery from alcoholism. Nonalcoholics may attend open meetings as observers. \nMore information (including instructions to join online) here.
URL:https://saintmarks.org/calendar/alcoholics-anonymous-sober-free-2/2024-05-22/
LOCATION:Carriage House\, 1229 10th Ave E\, Seattle\, WA\, 98102\, United States
END:VEVENT
BEGIN:VEVENT
DTSTART;TZID=America/Los_Angeles:20240529T200000
DTEND;TZID=America/Los_Angeles:20240529T210000
DTSTAMP:20240108T220703
CREATED:20231231T041101Z
LAST-MODIFIED:20231231T041122Z
UID:10058475-1717012800-1717016400@saintmarks.org
SUMMARY:*Alcoholics Anonymous (Sober & Free)
DESCRIPTION:Alcoholics Anonymous meeting\nLGBTQ-focused \nLocation: Carriage House (on the NE corner of the cathedral property) \nMeeting Information \nWednesday\, 8:00 pm to 9:00 pm \n\nIn person\nOnline\nLGBTQ\nOne Hour\nOpen\n\nOpen meetings are available to anyone interested in Alcoholics Anonymous’ program of recovery from alcoholism. Nonalcoholics may attend open meetings as observers. \nMore information (including instructions to join online) here.
URL:https://saintmarks.org/calendar/alcoholics-anonymous-sober-free-2/2024-05-29/
LOCATION:Carriage House\, 1229 10th Ave E\, Seattle\, WA\, 98102\, United States
END:VEVENT
BEGIN:VEVENT
DTSTART;TZID=America/Los_Angeles:20240605T200000
DTEND;TZID=America/Los_Angeles:20240605T210000
DTSTAMP:20240108T220703
CREATED:20231231T041101Z
LAST-MODIFIED:20231231T041122Z
UID:10058476-1717617600-1717621200@saintmarks.org
SUMMARY:*Alcoholics Anonymous (Sober & Free)
DESCRIPTION:Alcoholics Anonymous meeting\nLGBTQ-focused \nLocation: Carriage House (on the NE corner of the cathedral property) \nMeeting Information \nWednesday\, 8:00 pm to 9:00 pm \n\nIn person\nOnline\nLGBTQ\nOne Hour\nOpen\n\nOpen meetings are available to anyone interested in Alcoholics Anonymous’ program of recovery from alcoholism. Nonalcoholics may attend open meetings as observers. \nMore information (including instructions to join online) here.
URL:https://saintmarks.org/calendar/alcoholics-anonymous-sober-free-2/2024-06-05/
LOCATION:Carriage House\, 1229 10th Ave E\, Seattle\, WA\, 98102\, United States
END:VEVENT
BEGIN:VEVENT
DTSTART;TZID=America/Los_Angeles:20240612T200000
DTEND;TZID=America/Los_Angeles:20240612T210000
DTSTAMP:20240108T220703
CREATED:20231231T041101Z
LAST-MODIFIED:20231231T041122Z
UID:10058477-1718222400-1718226000@saintmarks.org
SUMMARY:*Alcoholics Anonymous (Sober & Free)
DESCRIPTION:Alcoholics Anonymous meeting\nLGBTQ-focused \nLocation: Carriage House (on the NE corner of the cathedral property) \nMeeting Information \nWednesday\, 8:00 pm to 9:00 pm \n\nIn person\nOnline\nLGBTQ\nOne Hour\nOpen\n\nOpen meetings are available to anyone interested in Alcoholics Anonymous’ program of recovery from alcoholism. Nonalcoholics may attend open meetings as observers. \nMore information (including instructions to join online) here.
URL:https://saintmarks.org/calendar/alcoholics-anonymous-sober-free-2/2024-06-12/
LOCATION:Carriage House\, 1229 10th Ave E\, Seattle\, WA\, 98102\, United States
END:VEVENT
BEGIN:VEVENT
DTSTART;TZID=America/Los_Angeles:20240619T200000
DTEND;TZID=America/Los_Angeles:20240619T210000
DTSTAMP:20240108T220704
CREATED:20231231T041101Z
LAST-MODIFIED:20231231T041122Z
UID:10058478-1718827200-1718830800@saintmarks.org
SUMMARY:*Alcoholics Anonymous (Sober & Free)
DESCRIPTION:Alcoholics Anonymous meeting\nLGBTQ-focused \nLocation: Carriage House (on the NE corner of the cathedral property) \nMeeting Information \nWednesday\, 8:00 pm to 9:00 pm \n\nIn person\nOnline\nLGBTQ\nOne Hour\nOpen\n\nOpen meetings are available to anyone interested in Alcoholics Anonymous’ program of recovery from alcoholism. Nonalcoholics may attend open meetings as observers. \nMore information (including instructions to join online) here.
URL:https://saintmarks.org/calendar/alcoholics-anonymous-sober-free-2/2024-06-19/
LOCATION:Carriage House\, 1229 10th Ave E\, Seattle\, WA\, 98102\, United States
END:VEVENT
BEGIN:VEVENT
DTSTART;TZID=America/Los_Angeles:20240626T200000
DTEND;TZID=America/Los_Angeles:20240626T210000
DTSTAMP:20240108T220704
CREATED:20231231T041101Z
LAST-MODIFIED:20231231T041122Z
UID:10058479-1719432000-1719435600@saintmarks.org
SUMMARY:*Alcoholics Anonymous (Sober & Free)
DESCRIPTION:Alcoholics Anonymous meeting\nLGBTQ-focused \nLocation: Carriage House (on the NE corner of the cathedral property) \nMeeting Information \nWednesday\, 8:00 pm to 9:00 pm \n\nIn person\nOnline\nLGBTQ\nOne Hour\nOpen\n\nOpen meetings are available to anyone interested in Alcoholics Anonymous’ program of recovery from alcoholism. Nonalcoholics may attend open meetings as observers. \nMore information (including instructions to join online) here.
URL:https://saintmarks.org/calendar/alcoholics-anonymous-sober-free-2/2024-06-26/
LOCATION:Carriage House\, 1229 10th Ave E\, Seattle\, WA\, 98102\, United States
END:VEVENT
BEGIN:VEVENT
DTSTART;TZID=America/Los_Angeles:20240703T200000
DTEND;TZID=America/Los_Angeles:20240703T210000
DTSTAMP:20240108T220704
CREATED:20231231T041101Z
LAST-MODIFIED:20231231T041122Z
UID:10058480-1720036800-1720040400@saintmarks.org
SUMMARY:*Alcoholics Anonymous (Sober & Free)
DESCRIPTION:Alcoholics Anonymous meeting\nLGBTQ-focused \nLocation: Carriage House (on the NE corner of the cathedral property) \nMeeting Information \nWednesday\, 8:00 pm to 9:00 pm \n\nIn person\nOnline\nLGBTQ\nOne Hour\nOpen\n\nOpen meetings are available to anyone interested in Alcoholics Anonymous’ program of recovery from alcoholism. Nonalcoholics may attend open meetings as observers. \nMore information (including instructions to join online) here.
URL:https://saintmarks.org/calendar/alcoholics-anonymous-sober-free-2/2024-07-03/
LOCATION:Carriage House\, 1229 10th Ave E\, Seattle\, WA\, 98102\, United States
END:VEVENT
BEGIN:VEVENT
DTSTART;TZID=America/Los_Angeles:20240710T200000
DTEND;TZID=America/Los_Angeles:20240710T210000
DTSTAMP:20240108T220704
CREATED:20231231T041101Z
LAST-MODIFIED:20231231T041122Z
UID:10058481-1720641600-1720645200@saintmarks.org
SUMMARY:*Alcoholics Anonymous (Sober & Free)
DESCRIPTION:Alcoholics Anonymous meeting\nLGBTQ-focused \nLocation: Carriage House (on the NE corner of the cathedral property) \nMeeting Information \nWednesday\, 8:00 pm to 9:00 pm \n\nIn person\nOnline\nLGBTQ\nOne Hour\nOpen\n\nOpen meetings are available to anyone interested in Alcoholics Anonymous’ program of recovery from alcoholism. Nonalcoholics may attend open meetings as observers. \nMore information (including instructions to join online) here.
URL:https://saintmarks.org/calendar/alcoholics-anonymous-sober-free-2/2024-07-10/
LOCATION:Carriage House\, 1229 10th Ave E\, Seattle\, WA\, 98102\, United States
END:VEVENT
BEGIN:VEVENT
DTSTART;TZID=America/Los_Angeles:20240717T200000
DTEND;TZID=America/Los_Angeles:20240717T210000
DTSTAMP:20240108T220704
CREATED:20231231T041101Z
LAST-MODIFIED:20231231T041122Z
UID:10058482-1721246400-1721250000@saintmarks.org
SUMMARY:*Alcoholics Anonymous (Sober & Free)
DESCRIPTION:Alcoholics Anonymous meeting\nLGBTQ-focused \nLocation: Carriage House (on the NE corner of the cathedral property) \nMeeting Information \nWednesday\, 8:00 pm to 9:00 pm \n\nIn person\nOnline\nLGBTQ\nOne Hour\nOpen\n\nOpen meetings are available to anyone interested in Alcoholics Anonymous’ program of recovery from alcoholism. Nonalcoholics may attend open meetings as observers. \nMore information (including instructions to join online) here.
URL:https://saintmarks.org/calendar/alcoholics-anonymous-sober-free-2/2024-07-17/
LOCATION:Carriage House\, 1229 10th Ave E\, Seattle\, WA\, 98102\, United States
END:VEVENT
BEGIN:VEVENT
DTSTART;TZID=America/Los_Angeles:20240724T200000
DTEND;TZID=America/Los_Angeles:20240724T210000
DTSTAMP:20240108T220704
CREATED:20231231T041101Z
LAST-MODIFIED:20231231T041122Z
UID:10058483-1721851200-1721854800@saintmarks.org
SUMMARY:*Alcoholics Anonymous (Sober & Free)
DESCRIPTION:Alcoholics Anonymous meeting\nLGBTQ-focused \nLocation: Carriage House (on the NE corner of the cathedral property) \nMeeting Information \nWednesday\, 8:00 pm to 9:00 pm \n\nIn person\nOnline\nLGBTQ\nOne Hour\nOpen\n\nOpen meetings are available to anyone interested in Alcoholics Anonymous’ program of recovery from alcoholism. Nonalcoholics may attend open meetings as observers. \nMore information (including instructions to join online) here.
URL:https://saintmarks.org/calendar/alcoholics-anonymous-sober-free-2/2024-07-24/
LOCATION:Carriage House\, 1229 10th Ave E\, Seattle\, WA\, 98102\, United States
END:VEVENT
BEGIN:VEVENT
DTSTART;TZID=America/Los_Angeles:20240731T200000
DTEND;TZID=America/Los_Angeles:20240731T210000
DTSTAMP:20240108T220704
CREATED:20231231T041101Z
LAST-MODIFIED:20231231T041122Z
UID:10058484-1722456000-1722459600@saintmarks.org
SUMMARY:*Alcoholics Anonymous (Sober & Free)
DESCRIPTION:Alcoholics Anonymous meeting\nLGBTQ-focused \nLocation: Carriage House (on the NE corner of the cathedral property) \nMeeting Information \nWednesday\, 8:00 pm to 9:00 pm \n\nIn person\nOnline\nLGBTQ\nOne Hour\nOpen\n\nOpen meetings are available to anyone interested in Alcoholics Anonymous’ program of recovery from alcoholism. Nonalcoholics may attend open meetings as observers. \nMore information (including instructions to join online) here.
URL:https://saintmarks.org/calendar/alcoholics-anonymous-sober-free-2/2024-07-31/
LOCATION:Carriage House\, 1229 10th Ave E\, Seattle\, WA\, 98102\, United States
END:VEVENT
BEGIN:VEVENT
DTSTART;TZID=America/Los_Angeles:20240807T200000
DTEND;TZID=America/Los_Angeles:20240807T210000
DTSTAMP:20240108T220704
CREATED:20231231T041101Z
LAST-MODIFIED:20231231T041122Z
UID:10058485-1723060800-1723064400@saintmarks.org
SUMMARY:*Alcoholics Anonymous (Sober & Free)
DESCRIPTION:Alcoholics Anonymous meeting\nLGBTQ-focused \nLocation: Carriage House (on the NE corner of the cathedral property) \nMeeting Information \nWednesday\, 8:00 pm to 9:00 pm \n\nIn person\nOnline\nLGBTQ\nOne Hour\nOpen\n\nOpen meetings are available to anyone interested in Alcoholics Anonymous’ program of recovery from alcoholism. Nonalcoholics may attend open meetings as observers. \nMore information (including instructions to join online) here.
URL:https://saintmarks.org/calendar/alcoholics-anonymous-sober-free-2/2024-08-07/
LOCATION:Carriage House\, 1229 10th Ave E\, Seattle\, WA\, 98102\, United States
END:VEVENT
BEGIN:VEVENT
DTSTART;TZID=America/Los_Angeles:20240814T200000
DTEND;TZID=America/Los_Angeles:20240814T210000
DTSTAMP:20240108T220704
CREATED:20231231T041101Z
LAST-MODIFIED:20231231T041122Z
UID:10058486-1723665600-1723669200@saintmarks.org
SUMMARY:*Alcoholics Anonymous (Sober & Free)
DESCRIPTION:Alcoholics Anonymous meeting\nLGBTQ-focused \nLocation: Carriage House (on the NE corner of the cathedral property) \nMeeting Information \nWednesday\, 8:00 pm to 9:00 pm \n\nIn person\nOnline\nLGBTQ\nOne Hour\nOpen\n\nOpen meetings are available to anyone interested in Alcoholics Anonymous’ program of recovery from alcoholism. Nonalcoholics may attend open meetings as observers. \nMore information (including instructions to join online) here.
URL:https://saintmarks.org/calendar/alcoholics-anonymous-sober-free-2/2024-08-14/
LOCATION:Carriage House\, 1229 10th Ave E\, Seattle\, WA\, 98102\, United States
END:VEVENT
BEGIN:VEVENT
DTSTART;TZID=America/Los_Angeles:20240821T200000
DTEND;TZID=America/Los_Angeles:20240821T210000
DTSTAMP:20240108T220704
CREATED:20231231T041101Z
LAST-MODIFIED:20231231T041122Z
UID:10058487-1724270400-1724274000@saintmarks.org
SUMMARY:*Alcoholics Anonymous (Sober & Free)
DESCRIPTION:Alcoholics Anonymous meeting\nLGBTQ-focused \nLocation: Carriage House (on the NE corner of the cathedral property) \nMeeting Information \nWednesday\, 8:00 pm to 9:00 pm \n\nIn person\nOnline\nLGBTQ\nOne Hour\nOpen\n\nOpen meetings are available to anyone interested in Alcoholics Anonymous’ program of recovery from alcoholism. Nonalcoholics may attend open meetings as observers. \nMore information (including instructions to join online) here.
URL:https://saintmarks.org/calendar/alcoholics-anonymous-sober-free-2/2024-08-21/
LOCATION:Carriage House\, 1229 10th Ave E\, Seattle\, WA\, 98102\, United States
END:VEVENT
BEGIN:VEVENT
DTSTART;TZID=America/Los_Angeles:20240828T200000
DTEND;TZID=America/Los_Angeles:20240828T210000
DTSTAMP:20240108T220704
CREATED:20231231T041101Z
LAST-MODIFIED:20231231T041122Z
UID:10058488-1724875200-1724878800@saintmarks.org
SUMMARY:*Alcoholics Anonymous (Sober & Free)
DESCRIPTION:Alcoholics Anonymous meeting\nLGBTQ-focused \nLocation: Carriage House (on the NE corner of the cathedral property) \nMeeting Information \nWednesday\, 8:00 pm to 9:00 pm \n\nIn person\nOnline\nLGBTQ\nOne Hour\nOpen\n\nOpen meetings are available to anyone interested in Alcoholics Anonymous’ program of recovery from alcoholism. Nonalcoholics may attend open meetings as observers. \nMore information (including instructions to join online) here.
URL:https://saintmarks.org/calendar/alcoholics-anonymous-sober-free-2/2024-08-28/
LOCATION:Carriage House\, 1229 10th Ave E\, Seattle\, WA\, 98102\, United States
END:VEVENT
BEGIN:VEVENT
DTSTART;TZID=America/Los_Angeles:20240904T200000
DTEND;TZID=America/Los_Angeles:20240904T210000
DTSTAMP:20240108T220704
CREATED:20231231T041101Z
LAST-MODIFIED:20231231T041122Z
UID:10058489-1725480000-1725483600@saintmarks.org
SUMMARY:*Alcoholics Anonymous (Sober & Free)
DESCRIPTION:Alcoholics Anonymous meeting\nLGBTQ-focused \nLocation: Carriage House (on the NE corner of the cathedral property) \nMeeting Information \nWednesday\, 8:00 pm to 9:00 pm \n\nIn person\nOnline\nLGBTQ\nOne Hour\nOpen\n\nOpen meetings are available to anyone interested in Alcoholics Anonymous’ program of recovery from alcoholism. Nonalcoholics may attend open meetings as observers. \nMore information (including instructions to join online) here.
URL:https://saintmarks.org/calendar/alcoholics-anonymous-sober-free-2/2024-09-04/
LOCATION:Carriage House\, 1229 10th Ave E\, Seattle\, WA\, 98102\, United States
END:VEVENT
BEGIN:VEVENT
DTSTART;TZID=America/Los_Angeles:20240911T200000
DTEND;TZID=America/Los_Angeles:20240911T210000
DTSTAMP:20240108T220704
CREATED:20231231T041101Z
LAST-MODIFIED:20231231T041122Z
UID:10058490-1726084800-1726088400@saintmarks.org
SUMMARY:*Alcoholics Anonymous (Sober & Free)
DESCRIPTION:Alcoholics Anonymous meeting\nLGBTQ-focused \nLocation: Carriage House (on the NE corner of the cathedral property) \nMeeting Information \nWednesday\, 8:00 pm to 9:00 pm \n\nIn person\nOnline\nLGBTQ\nOne Hour\nOpen\n\nOpen meetings are available to anyone interested in Alcoholics Anonymous’ program of recovery from alcoholism. Nonalcoholics may attend open meetings as observers. \nMore information (including instructions to join online) here.
URL:https://saintmarks.org/calendar/alcoholics-anonymous-sober-free-2/2024-09-11/
LOCATION:Carriage House\, 1229 10th Ave E\, Seattle\, WA\, 98102\, United States
END:VEVENT
BEGIN:VEVENT
DTSTART;TZID=America/Los_Angeles:20240918T200000
DTEND;TZID=America/Los_Angeles:20240918T210000
DTSTAMP:20240108T220704
CREATED:20231231T041101Z
LAST-MODIFIED:20231231T041122Z
UID:10058491-1726689600-1726693200@saintmarks.org
SUMMARY:*Alcoholics Anonymous (Sober & Free)
DESCRIPTION:Alcoholics Anonymous meeting\nLGBTQ-focused \nLocation: Carriage House (on the NE corner of the cathedral property) \nMeeting Information \nWednesday\, 8:00 pm to 9:00 pm \n\nIn person\nOnline\nLGBTQ\nOne Hour\nOpen\n\nOpen meetings are available to anyone interested in Alcoholics Anonymous’ program of recovery from alcoholism. Nonalcoholics may attend open meetings as observers. \nMore information (including instructions to join online) here.
URL:https://saintmarks.org/calendar/alcoholics-anonymous-sober-free-2/2024-09-18/
LOCATION:Carriage House\, 1229 10th Ave E\, Seattle\, WA\, 98102\, United States
END:VEVENT
BEGIN:VEVENT
DTSTART;TZID=America/Los_Angeles:20240925T200000
DTEND;TZID=America/Los_Angeles:20240925T210000
DTSTAMP:20240108T220704
CREATED:20231231T041101Z
LAST-MODIFIED:20231231T041122Z
UID:10058492-1727294400-1727298000@saintmarks.org
SUMMARY:*Alcoholics Anonymous (Sober & Free)
DESCRIPTION:Alcoholics Anonymous meeting\nLGBTQ-focused \nLocation: Carriage House (on the NE corner of the cathedral property) \nMeeting Information \nWednesday\, 8:00 pm to 9:00 pm \n\nIn person\nOnline\nLGBTQ\nOne Hour\nOpen\n\nOpen meetings are available to anyone interested in Alcoholics Anonymous’ program of recovery from alcoholism. Nonalcoholics may attend open meetings as observers. \nMore information (including instructions to join online) here.
URL:https://saintmarks.org/calendar/alcoholics-anonymous-sober-free-2/2024-09-25/
LOCATION:Carriage House\, 1229 10th Ave E\, Seattle\, WA\, 98102\, United States
END:VEVENT
BEGIN:VEVENT
DTSTART;TZID=America/Los_Angeles:20241002T200000
DTEND;TZID=America/Los_Angeles:20241002T210000
DTSTAMP:20240108T220704
CREATED:20231231T041101Z
LAST-MODIFIED:20231231T041122Z
UID:10058493-1727899200-1727902800@saintmarks.org
SUMMARY:*Alcoholics Anonymous (Sober & Free)
DESCRIPTION:Alcoholics Anonymous meeting\nLGBTQ-focused \nLocation: Carriage House (on the NE corner of the cathedral property) \nMeeting Information \nWednesday\, 8:00 pm to 9:00 pm \n\nIn person\nOnline\nLGBTQ\nOne Hour\nOpen\n\nOpen meetings are available to anyone interested in Alcoholics Anonymous’ program of recovery from alcoholism. Nonalcoholics may attend open meetings as observers. \nMore information (including instructions to join online) here.
URL:https://saintmarks.org/calendar/alcoholics-anonymous-sober-free-2/2024-10-02/
LOCATION:Carriage House\, 1229 10th Ave E\, Seattle\, WA\, 98102\, United States
END:VEVENT
BEGIN:VEVENT
DTSTART;TZID=America/Los_Angeles:20241009T200000
DTEND;TZID=America/Los_Angeles:20241009T210000
DTSTAMP:20240108T220704
CREATED:20231231T041101Z
LAST-MODIFIED:20231231T041122Z
UID:10058494-1728504000-1728507600@saintmarks.org
SUMMARY:*Alcoholics Anonymous (Sober & Free)
DESCRIPTION:Alcoholics Anonymous meeting\nLGBTQ-focused \nLocation: Carriage House (on the NE corner of the cathedral property) \nMeeting Information \nWednesday\, 8:00 pm to 9:00 pm \n\nIn person\nOnline\nLGBTQ\nOne Hour\nOpen\n\nOpen meetings are available to anyone interested in Alcoholics Anonymous’ program of recovery from alcoholism. Nonalcoholics may attend open meetings as observers. \nMore information (including instructions to join online) here.
URL:https://saintmarks.org/calendar/alcoholics-anonymous-sober-free-2/2024-10-09/
LOCATION:Carriage House\, 1229 10th Ave E\, Seattle\, WA\, 98102\, United States
END:VEVENT
BEGIN:VEVENT
DTSTART;TZID=America/Los_Angeles:20241016T200000
DTEND;TZID=America/Los_Angeles:20241016T210000
DTSTAMP:20240108T220704
CREATED:20231231T041101Z
LAST-MODIFIED:20231231T041122Z
UID:10058495-1729108800-1729112400@saintmarks.org
SUMMARY:*Alcoholics Anonymous (Sober & Free)
DESCRIPTION:Alcoholics Anonymous meeting\nLGBTQ-focused \nLocation: Carriage House (on the NE corner of the cathedral property) \nMeeting Information \nWednesday\, 8:00 pm to 9:00 pm \n\nIn person\nOnline\nLGBTQ\nOne Hour\nOpen\n\nOpen meetings are available to anyone interested in Alcoholics Anonymous’ program of recovery from alcoholism. Nonalcoholics may attend open meetings as observers. \nMore information (including instructions to join online) here.
URL:https://saintmarks.org/calendar/alcoholics-anonymous-sober-free-2/2024-10-16/
LOCATION:Carriage House\, 1229 10th Ave E\, Seattle\, WA\, 98102\, United States
END:VEVENT
BEGIN:VEVENT
DTSTART;TZID=America/Los_Angeles:20241023T200000
DTEND;TZID=America/Los_Angeles:20241023T210000
DTSTAMP:20240108T220704
CREATED:20231231T041101Z
LAST-MODIFIED:20231231T041122Z
UID:10058496-1729713600-1729717200@saintmarks.org
SUMMARY:*Alcoholics Anonymous (Sober & Free)
DESCRIPTION:Alcoholics Anonymous meeting\nLGBTQ-focused \nLocation: Carriage House (on the NE corner of the cathedral property) \nMeeting Information \nWednesday\, 8:00 pm to 9:00 pm \n\nIn person\nOnline\nLGBTQ\nOne Hour\nOpen\n\nOpen meetings are available to anyone interested in Alcoholics Anonymous’ program of recovery from alcoholism. Nonalcoholics may attend open meetings as observers. \nMore information (including instructions to join online) here.
URL:https://saintmarks.org/calendar/alcoholics-anonymous-sober-free-2/2024-10-23/
LOCATION:Carriage House\, 1229 10th Ave E\, Seattle\, WA\, 98102\, United States
END:VEVENT
BEGIN:VEVENT
DTSTART;TZID=America/Los_Angeles:20241030T200000
DTEND;TZID=America/Los_Angeles:20241030T210000
DTSTAMP:20240108T220704
CREATED:20231231T041101Z
LAST-MODIFIED:20231231T041122Z
UID:10058497-1730318400-1730322000@saintmarks.org
SUMMARY:*Alcoholics Anonymous (Sober & Free)
DESCRIPTION:Alcoholics Anonymous meeting\nLGBTQ-focused \nLocation: Carriage House (on the NE corner of the cathedral property) \nMeeting Information \nWednesday\, 8:00 pm to 9:00 pm \n\nIn person\nOnline\nLGBTQ\nOne Hour\nOpen\n\nOpen meetings are available to anyone interested in Alcoholics Anonymous’ program of recovery from alcoholism. Nonalcoholics may attend open meetings as observers. \nMore information (including instructions to join online) here.
URL:https://saintmarks.org/calendar/alcoholics-anonymous-sober-free-2/2024-10-30/
LOCATION:Carriage House\, 1229 10th Ave E\, Seattle\, WA\, 98102\, United States
END:VEVENT
END:VCALENDAR