BEGIN:VCALENDAR
VERSION:2.0
PRODID:-//Saint Mark&#039;s Episcopal Cathedral - ECPv6.2.9//NONSGML v1.0//EN
CALSCALE:GREGORIAN
METHOD:PUBLISH
X-ORIGINAL-URL:https://saintmarks.org
X-WR-CALDESC:Events for Saint Mark&#039;s Episcopal Cathedral
REFRESH-INTERVAL;VALUE=DURATION:PT1H
X-Robots-Tag:noindex
X-PUBLISHED-TTL:PT1H
BEGIN:VTIMEZONE
TZID:America/Los_Angeles
BEGIN:DAYLIGHT
TZOFFSETFROM:-0800
TZOFFSETTO:-0700
TZNAME:PDT
DTSTART:20220313T100000
END:DAYLIGHT
BEGIN:STANDARD
TZOFFSETFROM:-0700
TZOFFSETTO:-0800
TZNAME:PST
DTSTART:20221106T090000
END:STANDARD
BEGIN:DAYLIGHT
TZOFFSETFROM:-0800
TZOFFSETTO:-0700
TZNAME:PDT
DTSTART:20230312T100000
END:DAYLIGHT
BEGIN:STANDARD
TZOFFSETFROM:-0700
TZOFFSETTO:-0800
TZNAME:PST
DTSTART:20231105T090000
END:STANDARD
END:VTIMEZONE
BEGIN:VEVENT
DTSTART;TZID=America/Los_Angeles:20231212T180000
DTEND;TZID=America/Los_Angeles:20231212T203000
DTSTAMP:20240109T000946
CREATED:20230702T051041Z
LAST-MODIFIED:20231212T222746Z
UID:10027936-1702404000-1702413000@saintmarks.org
SUMMARY:Vestry Meeting
DESCRIPTION:The Vestry meets once a month to oversee the finances\, facilities\, and governance of the cathedral. Meetings are usually on the fourth Tuesday of the month. \nThe December 2023 meeting will be on December 12. \nVestry meetings are now held in Diocesan House. \nVestry meetings are open to the public. Links to more information including meeting minutes can be found on Vestry webpage. Please write to Erik Donner with questions\, or for the Zoom link to join the meeting: edonner@saintmarks.org
URL:https://saintmarks.org/calendar/vestry-meeting-14-2/2023-12-12/
LOCATION:Diocesan House\, 1551 10th Ave E\, Seattle\, 98102\, United States
END:VEVENT
BEGIN:VEVENT
DTSTART;TZID=America/Los_Angeles:20231209T090000
DTEND;TZID=America/Los_Angeles:20231209T150000
DTSTAMP:20240109T000946
CREATED:20231118T020555Z
LAST-MODIFIED:20231118T020555Z
UID:10027914-1702112400-1702134000@saintmarks.org
SUMMARY:The World is About to Turn: Exploring Advent with Young Adults
DESCRIPTION:SATURDAY\, DECEMBER 9\, 9 A.M.–3 P.M.\, at Diocesan House\, 1551 10th Ave E\, Seattle \n20s/30s from across the Diocese of Olympia are invited to join in for an exploration of Advent to consider the meaning and relevance of this season in today’s context. Advent is a time of focused preparation and waiting that readies us for a deeper experience of both the birth of Christ and the “Second Advent” or return of Christ. During this holy and often busy season\, you are invited to take part in this day of reflection as we connect to faith\, other young adults in their 20s and 30s\, and God’s goodness. \nSpeakers include: Sonja Lund (Chaplain Resident\, Virginia Mason Franciscan Hospital)\, The Rev. Nic Mather (St. Stephen’s\, Longview)\, The Rev. Malcolm McLaurin (Holy Cross\, Redmond)\, The Rev. Canon Britt Olson (St. Luke’s Ballard)\, and The Rev. Canon Carla Robinson (Diocese of Olympia Canon for Multicultural Ministries and Community Transformation). \nActivities will include: continental breakfast\, theological discussion and reflection\, music\, lunch\, wreath and icon making\, closing liturgy and labyrinth walk. Childcare is available (make your request in the registration form). Learn more and register here. Questions? Email Emily: emeeks@saintmarks.org \n 
URL:https://saintmarks.org/calendar/the-world-is-about-to-turn-exploring-advent-with-young-adults/
LOCATION:Diocesan House\, 1551 10th Ave E\, Seattle\, 98102\, United States
END:VEVENT
BEGIN:VEVENT
DTSTART;TZID=America/Los_Angeles:20231128T180000
DTEND;TZID=America/Los_Angeles:20231128T200000
DTSTAMP:20240109T000946
CREATED:20230702T051041Z
LAST-MODIFIED:20231212T222746Z
UID:10019758-1701194400-1701201600@saintmarks.org
SUMMARY:Vestry Meeting
DESCRIPTION:The Vestry meets once a month to oversee the finances\, facilities\, and governance of the cathedral. Meetings are usually on the fourth Tuesday of the month. \nThe December 2023 meeting will be on December 12. \nVestry meetings are now held in Diocesan House. \nVestry meetings are open to the public. Links to more information including meeting minutes can be found on Vestry webpage. Please write to Erik Donner with questions\, or for the Zoom link to join the meeting: edonner@saintmarks.org
URL:https://saintmarks.org/calendar/vestry-meeting-14-2/2023-11-28/
LOCATION:Diocesan House\, 1551 10th Ave E\, Seattle\, 98102\, United States
END:VEVENT
BEGIN:VEVENT
DTSTART;TZID=America/Los_Angeles:20231024T180000
DTEND;TZID=America/Los_Angeles:20231024T200000
DTSTAMP:20240109T000946
CREATED:20230702T051041Z
LAST-MODIFIED:20231212T222746Z
UID:10019757-1698170400-1698177600@saintmarks.org
SUMMARY:Vestry Meeting
DESCRIPTION:The Vestry meets once a month to oversee the finances\, facilities\, and governance of the cathedral. Meetings are usually on the fourth Tuesday of the month. \nThe December 2023 meeting will be on December 12. \nVestry meetings are now held in Diocesan House. \nVestry meetings are open to the public. Links to more information including meeting minutes can be found on Vestry webpage. Please write to Erik Donner with questions\, or for the Zoom link to join the meeting: edonner@saintmarks.org
URL:https://saintmarks.org/calendar/vestry-meeting-14-2/2023-10-24/
LOCATION:Diocesan House\, 1551 10th Ave E\, Seattle\, 98102\, United States
END:VEVENT
BEGIN:VEVENT
DTSTART;TZID=America/Los_Angeles:20230926T180000
DTEND;TZID=America/Los_Angeles:20230926T200000
DTSTAMP:20240109T000946
CREATED:20230702T051041Z
LAST-MODIFIED:20231212T222746Z
UID:10019756-1695751200-1695758400@saintmarks.org
SUMMARY:Vestry Meeting
DESCRIPTION:The Vestry meets once a month to oversee the finances\, facilities\, and governance of the cathedral. Meetings are usually on the fourth Tuesday of the month. \nThe December 2023 meeting will be on December 12. \nVestry meetings are now held in Diocesan House. \nVestry meetings are open to the public. Links to more information including meeting minutes can be found on Vestry webpage. Please write to Erik Donner with questions\, or for the Zoom link to join the meeting: edonner@saintmarks.org
URL:https://saintmarks.org/calendar/vestry-meeting-14-2/2023-09-26/
LOCATION:Diocesan House\, 1551 10th Ave E\, Seattle\, 98102\, United States
END:VEVENT
BEGIN:VEVENT
DTSTART;TZID=America/Los_Angeles:20230909T150000
DTEND;TZID=America/Los_Angeles:20230909T163000
DTSTAMP:20240109T000946
CREATED:20230901T002906Z
LAST-MODIFIED:20230901T003031Z
UID:10027281-1694271600-1694277000@saintmarks.org
SUMMARY:Seattle Reception for Bill Plitt of Friends of Tent of Nations
DESCRIPTION:SATURDAY\, SEPTEMBER 9\, 3 P.M.\, at Diocesan House \nBill Plitt\, co-founder and longtime leader of Friends of Tent of Nations—North America\, will be in the Pacific Northwest in early September. Saint Mark’s Cathedral’s Mideast Focus Ministry and the Bishop’s Committee for Justice and Peace in the Holy Land will host a reception for Bill on Saturday\, September 9\, 2023\, 3 p.m.\, at Diocesan House\, 1551 10th Ave E. (three buildings north of Saint Mark’s Cathedral). Bill Plitt will share his experiences in Israel and the Occupied Palestinian Territories\, and with the Nassar Tent of Nations family—including visits to universities and college campuses\, faith-based organizations\, and peace & justice groups during more than 15 years of travel through 25 states\, with the simple message of “refusing to be enemies.” Questions? Contact Randy Urmston [rurmston2@gmail.com]\, Doug Thorpe [dthorpe@spu.edu]\, or Steve Moen [steve@pax-jus.us]
URL:https://saintmarks.org/calendar/seattle-reception-for-bill-plitt-of-friends-of-tent-of-nations/
LOCATION:Diocesan House\, 1551 10th Ave E\, Seattle\, 98102\, United States
END:VEVENT
BEGIN:VEVENT
DTSTART;TZID=America/Los_Angeles:20230822T180000
DTEND;TZID=America/Los_Angeles:20230822T200000
DTSTAMP:20240109T000946
CREATED:20230702T051041Z
LAST-MODIFIED:20231212T222746Z
UID:10019755-1692727200-1692734400@saintmarks.org
SUMMARY:Vestry Meeting
DESCRIPTION:The Vestry meets once a month to oversee the finances\, facilities\, and governance of the cathedral. Meetings are usually on the fourth Tuesday of the month. \nThe December 2023 meeting will be on December 12. \nVestry meetings are now held in Diocesan House. \nVestry meetings are open to the public. Links to more information including meeting minutes can be found on Vestry webpage. Please write to Erik Donner with questions\, or for the Zoom link to join the meeting: edonner@saintmarks.org
URL:https://saintmarks.org/calendar/vestry-meeting-14-2/2023-08-22/
LOCATION:Diocesan House\, 1551 10th Ave E\, Seattle\, 98102\, United States
END:VEVENT
BEGIN:VEVENT
DTSTART;TZID=America/Los_Angeles:20230725T180000
DTEND;TZID=America/Los_Angeles:20230725T200000
DTSTAMP:20240109T000947
CREATED:20230702T051154Z
LAST-MODIFIED:20230702T051316Z
UID:10019754-1690308000-1690315200@saintmarks.org
SUMMARY:Vestry Meeting
DESCRIPTION:Please note: there will be no vestry meeting in July 2023. \n\nThe Vestry meets once a month to oversee the finances\, facilities\, and governance of the cathedral. Meetings are usually on the fourth Tuesday of the month \nVestry meetings are now held in Diocesan House. \nVestry meetings are open to the public. Links to more information including meeting minutes can be found on Vestry webpage. Please write to Erik Donner with questions\, or for the Zoom link to join the meeting: edonner@saintmarks.org
URL:https://saintmarks.org/calendar/vestry-meeting-15/
LOCATION:Diocesan House\, 1551 10th Ave E\, Seattle\, 98102\, United States
END:VEVENT
BEGIN:VEVENT
DTSTART;TZID=America/Los_Angeles:20230627T180000
DTEND;TZID=America/Los_Angeles:20230627T200000
DTSTAMP:20240109T000947
CREATED:20220831T220358Z
LAST-MODIFIED:20230627T202956Z
UID:10019753-1687888800-1687896000@saintmarks.org
SUMMARY:Vestry Meeting
DESCRIPTION:The Vestry meets once a month to oversee the finances\, facilities\, and governance of the cathedral. Meetings are usually on the fourth Tuesday of the month \nVestry meetings are now held in Diocesan House. \nVestry meetings are open to the public. Links to more information including meeting minutes can be found on Vestry webpage. Please write to Erik Donner with questions\, or for the Zoom link to join the meeting: edonner@saintmarks.or
URL:https://saintmarks.org/calendar/vestry-meeting-14/2023-06-27/
LOCATION:Diocesan House\, 1551 10th Ave E\, Seattle\, 98102\, United States
END:VEVENT
BEGIN:VEVENT
DTSTART;TZID=America/Los_Angeles:20230622T180000
DTEND;TZID=America/Los_Angeles:20230622T200000
DTSTAMP:20240109T000947
CREATED:20230524T012812Z
LAST-MODIFIED:20230524T194343Z
UID:10019950-1687456800-1687464000@saintmarks.org
SUMMARY:20s/30s Dinner with the Bishop
DESCRIPTION:THURSDAY\, JUNE 22\, 6 P.M. at Diocesan House  \nJoin the Most Reverend Melissa Skelton for dinner\, poetry\, live music\, and tours of the historic Leary mansion with other young adults in the diocese. Our Dig Deeper partner\, Nurturing Roots Farm\, will provide the meal – tacos with all the fixings. Free! Register here.
URL:https://saintmarks.org/calendar/20s-30s-dinner-with-the-bishop/
LOCATION:Diocesan House\, 1551 10th Ave E\, Seattle\, 98102\, United States
END:VEVENT
BEGIN:VEVENT
DTSTART;TZID=America/Los_Angeles:20230523T180000
DTEND;TZID=America/Los_Angeles:20230523T200000
DTSTAMP:20240109T000947
CREATED:20220831T220358Z
LAST-MODIFIED:20230516T172521Z
UID:10019760-1684864800-1684872000@saintmarks.org
SUMMARY:Vestry Meeting (D House)
DESCRIPTION:The Vestry meets once a month to oversee the finances\, facilities\, and governance of the cathedral. Meetings are usually on the fourth Tuesday of the month \nAs of March 2023\, most meetings will be in person in Leffler House. \nThe meeting 23 May will be held at Diocesan House. \nVestry meetings are open to the public. Links to more information including meeting minutes can be found on Vestry webpage. Please write to Erik Donner with questions\, or for the Zoom link to join the meeting: edonner@saintmarks.or
URL:https://saintmarks.org/calendar/vestry-meeting-14-2023-05-23/
LOCATION:Diocesan House\, 1551 10th Ave E\, Seattle\, 98102\, United States
END:VEVENT
BEGIN:VEVENT
DTSTART;TZID=America/Los_Angeles:20230425T180000
DTEND;TZID=America/Los_Angeles:20230425T200000
DTSTAMP:20240109T000947
CREATED:20220831T220358Z
LAST-MODIFIED:20230627T202956Z
UID:10019752-1682445600-1682452800@saintmarks.org
SUMMARY:Vestry Meeting
DESCRIPTION:The Vestry meets once a month to oversee the finances\, facilities\, and governance of the cathedral. Meetings are usually on the fourth Tuesday of the month \nVestry meetings are now held in Diocesan House. \nVestry meetings are open to the public. Links to more information including meeting minutes can be found on Vestry webpage. Please write to Erik Donner with questions\, or for the Zoom link to join the meeting: edonner@saintmarks.or
URL:https://saintmarks.org/calendar/vestry-meeting-14/2023-04-25/
LOCATION:Diocesan House\, 1551 10th Ave E\, Seattle\, 98102\, United States
END:VEVENT
BEGIN:VEVENT
DTSTART;TZID=America/Los_Angeles:20230328T180000
DTEND;TZID=America/Los_Angeles:20230328T200000
DTSTAMP:20240109T000947
CREATED:20220831T220358Z
LAST-MODIFIED:20230627T202956Z
UID:10019751-1680026400-1680033600@saintmarks.org
SUMMARY:Vestry Meeting
DESCRIPTION:The Vestry meets once a month to oversee the finances\, facilities\, and governance of the cathedral. Meetings are usually on the fourth Tuesday of the month \nVestry meetings are now held in Diocesan House. \nVestry meetings are open to the public. Links to more information including meeting minutes can be found on Vestry webpage. Please write to Erik Donner with questions\, or for the Zoom link to join the meeting: edonner@saintmarks.or
URL:https://saintmarks.org/calendar/vestry-meeting-14/2023-03-28/
LOCATION:Diocesan House\, 1551 10th Ave E\, Seattle\, 98102\, United States
END:VEVENT
BEGIN:VEVENT
DTSTART;TZID=America/Los_Angeles:20230124T180000
DTEND;TZID=America/Los_Angeles:20230124T200000
DTSTAMP:20240109T000947
CREATED:20220831T220358Z
LAST-MODIFIED:20230627T202956Z
UID:10019750-1674583200-1674590400@saintmarks.org
SUMMARY:Vestry Meeting
DESCRIPTION:The Vestry meets once a month to oversee the finances\, facilities\, and governance of the cathedral. Meetings are usually on the fourth Tuesday of the month \nVestry meetings are now held in Diocesan House. \nVestry meetings are open to the public. Links to more information including meeting minutes can be found on Vestry webpage. Please write to Erik Donner with questions\, or for the Zoom link to join the meeting: edonner@saintmarks.or
URL:https://saintmarks.org/calendar/vestry-meeting-14/2023-01-24/
LOCATION:Diocesan House\, 1551 10th Ave E\, Seattle\, 98102\, United States
END:VEVENT
BEGIN:VEVENT
DTSTART;TZID=America/Los_Angeles:20221213T080000
DTEND;TZID=America/Los_Angeles:20221213T170000
DTSTAMP:20240109T000947
CREATED:20220831T220358Z
LAST-MODIFIED:20230627T202956Z
UID:10025474-1670918400-1670950800@saintmarks.org
SUMMARY:Vestry Meeting
DESCRIPTION:The Vestry meets once a month to oversee the finances\, facilities\, and governance of the cathedral. Meetings are usually on the fourth Tuesday of the month \nVestry meetings are now held in Diocesan House. \nVestry meetings are open to the public. Links to more information including meeting minutes can be found on Vestry webpage. Please write to Erik Donner with questions\, or for the Zoom link to join the meeting: edonner@saintmarks.or
URL:https://saintmarks.org/calendar/vestry-meeting-14/2022-12-13/
LOCATION:Diocesan House\, 1551 10th Ave E\, Seattle\, 98102\, United States
END:VEVENT
BEGIN:VEVENT
DTSTART;TZID=America/Los_Angeles:20221122T180000
DTEND;TZID=America/Los_Angeles:20221122T200000
DTSTAMP:20240109T000947
CREATED:20220831T220358Z
LAST-MODIFIED:20230627T202956Z
UID:10019748-1669140000-1669147200@saintmarks.org
SUMMARY:Vestry Meeting
DESCRIPTION:The Vestry meets once a month to oversee the finances\, facilities\, and governance of the cathedral. Meetings are usually on the fourth Tuesday of the month \nVestry meetings are now held in Diocesan House. \nVestry meetings are open to the public. Links to more information including meeting minutes can be found on Vestry webpage. Please write to Erik Donner with questions\, or for the Zoom link to join the meeting: edonner@saintmarks.or
URL:https://saintmarks.org/calendar/vestry-meeting-14/2022-11-22/
LOCATION:Diocesan House\, 1551 10th Ave E\, Seattle\, 98102\, United States
END:VEVENT
BEGIN:VEVENT
DTSTART;TZID=America/Los_Angeles:20221025T180000
DTEND;TZID=America/Los_Angeles:20221025T200000
DTSTAMP:20240109T000947
CREATED:20220831T220358Z
LAST-MODIFIED:20230627T202956Z
UID:10019747-1666720800-1666728000@saintmarks.org
SUMMARY:Vestry Meeting
DESCRIPTION:The Vestry meets once a month to oversee the finances\, facilities\, and governance of the cathedral. Meetings are usually on the fourth Tuesday of the month \nVestry meetings are now held in Diocesan House. \nVestry meetings are open to the public. Links to more information including meeting minutes can be found on Vestry webpage. Please write to Erik Donner with questions\, or for the Zoom link to join the meeting: edonner@saintmarks.or
URL:https://saintmarks.org/calendar/vestry-meeting-14/2022-10-25/
LOCATION:Diocesan House\, 1551 10th Ave E\, Seattle\, 98102\, United States
END:VEVENT
BEGIN:VEVENT
DTSTART;TZID=America/Los_Angeles:20220927T180000
DTEND;TZID=America/Los_Angeles:20220927T200000
DTSTAMP:20240109T000947
CREATED:20220831T220358Z
LAST-MODIFIED:20230627T202956Z
UID:10019746-1664301600-1664308800@saintmarks.org
SUMMARY:Vestry Meeting
DESCRIPTION:The Vestry meets once a month to oversee the finances\, facilities\, and governance of the cathedral. Meetings are usually on the fourth Tuesday of the month \nVestry meetings are now held in Diocesan House. \nVestry meetings are open to the public. Links to more information including meeting minutes can be found on Vestry webpage. Please write to Erik Donner with questions\, or for the Zoom link to join the meeting: edonner@saintmarks.or
URL:https://saintmarks.org/calendar/vestry-meeting-14/2022-09-27/
LOCATION:Diocesan House\, 1551 10th Ave E\, Seattle\, 98102\, United States
END:VEVENT
BEGIN:VEVENT
DTSTART;TZID=America/Los_Angeles:20220823T180000
DTEND;TZID=America/Los_Angeles:20220823T200000
DTSTAMP:20240109T000947
CREATED:20220831T220358Z
LAST-MODIFIED:20230627T202956Z
UID:10019745-1661277600-1661284800@saintmarks.org
SUMMARY:Vestry Meeting
DESCRIPTION:The Vestry meets once a month to oversee the finances\, facilities\, and governance of the cathedral. Meetings are usually on the fourth Tuesday of the month \nVestry meetings are now held in Diocesan House. \nVestry meetings are open to the public. Links to more information including meeting minutes can be found on Vestry webpage. Please write to Erik Donner with questions\, or for the Zoom link to join the meeting: edonner@saintmarks.or
URL:https://saintmarks.org/calendar/vestry-meeting-14/2022-08-23/
LOCATION:Diocesan House\, 1551 10th Ave E\, Seattle\, 98102\, United States
END:VEVENT
BEGIN:VEVENT
DTSTART;TZID=America/Los_Angeles:20220726T180000
DTEND;TZID=America/Los_Angeles:20220726T200000
DTSTAMP:20240109T000947
CREATED:20220831T220358Z
LAST-MODIFIED:20230627T202956Z
UID:10019744-1658858400-1658865600@saintmarks.org
SUMMARY:Vestry Meeting
DESCRIPTION:The Vestry meets once a month to oversee the finances\, facilities\, and governance of the cathedral. Meetings are usually on the fourth Tuesday of the month \nVestry meetings are now held in Diocesan House. \nVestry meetings are open to the public. Links to more information including meeting minutes can be found on Vestry webpage. Please write to Erik Donner with questions\, or for the Zoom link to join the meeting: edonner@saintmarks.or
URL:https://saintmarks.org/calendar/vestry-meeting-14/2022-07-26/
LOCATION:Diocesan House\, 1551 10th Ave E\, Seattle\, 98102\, United States
END:VEVENT
BEGIN:VEVENT
DTSTART;TZID=America/Los_Angeles:20220628T180000
DTEND;TZID=America/Los_Angeles:20220628T200000
DTSTAMP:20240109T000947
CREATED:20220831T220358Z
LAST-MODIFIED:20230627T202956Z
UID:10019743-1656439200-1656446400@saintmarks.org
SUMMARY:Vestry Meeting
DESCRIPTION:The Vestry meets once a month to oversee the finances\, facilities\, and governance of the cathedral. Meetings are usually on the fourth Tuesday of the month \nVestry meetings are now held in Diocesan House. \nVestry meetings are open to the public. Links to more information including meeting minutes can be found on Vestry webpage. Please write to Erik Donner with questions\, or for the Zoom link to join the meeting: edonner@saintmarks.or
URL:https://saintmarks.org/calendar/vestry-meeting-14/2022-06-28/
LOCATION:Diocesan House\, 1551 10th Ave E\, Seattle\, 98102\, United States
END:VEVENT
BEGIN:VEVENT
DTSTART;TZID=America/Los_Angeles:20220524T180000
DTEND;TZID=America/Los_Angeles:20220524T200000
DTSTAMP:20240109T000947
CREATED:20220831T220358Z
LAST-MODIFIED:20230627T202956Z
UID:10019742-1653415200-1653422400@saintmarks.org
SUMMARY:Vestry Meeting
DESCRIPTION:The Vestry meets once a month to oversee the finances\, facilities\, and governance of the cathedral. Meetings are usually on the fourth Tuesday of the month \nVestry meetings are now held in Diocesan House. \nVestry meetings are open to the public. Links to more information including meeting minutes can be found on Vestry webpage. Please write to Erik Donner with questions\, or for the Zoom link to join the meeting: edonner@saintmarks.or
URL:https://saintmarks.org/calendar/vestry-meeting-14/2022-05-24/
LOCATION:Diocesan House\, 1551 10th Ave E\, Seattle\, 98102\, United States
END:VEVENT
BEGIN:VEVENT
DTSTART;TZID=America/Los_Angeles:20220426T180000
DTEND;TZID=America/Los_Angeles:20220426T200000
DTSTAMP:20240109T000947
CREATED:20220831T220358Z
LAST-MODIFIED:20230627T202956Z
UID:10019741-1650996000-1651003200@saintmarks.org
SUMMARY:Vestry Meeting
DESCRIPTION:The Vestry meets once a month to oversee the finances\, facilities\, and governance of the cathedral. Meetings are usually on the fourth Tuesday of the month \nVestry meetings are now held in Diocesan House. \nVestry meetings are open to the public. Links to more information including meeting minutes can be found on Vestry webpage. Please write to Erik Donner with questions\, or for the Zoom link to join the meeting: edonner@saintmarks.or
URL:https://saintmarks.org/calendar/vestry-meeting-14/2022-04-26/
LOCATION:Diocesan House\, 1551 10th Ave E\, Seattle\, 98102\, United States
END:VEVENT
BEGIN:VEVENT
DTSTART;TZID=America/Los_Angeles:20220322T180000
DTEND;TZID=America/Los_Angeles:20220322T200000
DTSTAMP:20240109T000947
CREATED:20220831T220358Z
LAST-MODIFIED:20230627T202956Z
UID:10019740-1647972000-1647979200@saintmarks.org
SUMMARY:Vestry Meeting
DESCRIPTION:The Vestry meets once a month to oversee the finances\, facilities\, and governance of the cathedral. Meetings are usually on the fourth Tuesday of the month \nVestry meetings are now held in Diocesan House. \nVestry meetings are open to the public. Links to more information including meeting minutes can be found on Vestry webpage. Please write to Erik Donner with questions\, or for the Zoom link to join the meeting: edonner@saintmarks.or
URL:https://saintmarks.org/calendar/vestry-meeting-14/2022-03-22/
LOCATION:Diocesan House\, 1551 10th Ave E\, Seattle\, 98102\, United States
END:VEVENT
END:VCALENDAR