BEGIN:VCALENDAR
VERSION:2.0
PRODID:-//Saint Mark&#039;s Episcopal Cathedral - ECPv6.2.9//NONSGML v1.0//EN
CALSCALE:GREGORIAN
METHOD:PUBLISH
X-WR-CALNAME:Saint Mark&#039;s Episcopal Cathedral
X-ORIGINAL-URL:https://saintmarks.org
X-WR-CALDESC:Events for Saint Mark&#039;s Episcopal Cathedral
REFRESH-INTERVAL;VALUE=DURATION:PT1H
X-Robots-Tag:noindex
X-PUBLISHED-TTL:PT1H
BEGIN:VTIMEZONE
TZID:America/Los_Angeles
BEGIN:DAYLIGHT
TZOFFSETFROM:-0800
TZOFFSETTO:-0700
TZNAME:PDT
DTSTART:20230312T100000
END:DAYLIGHT
BEGIN:STANDARD
TZOFFSETFROM:-0700
TZOFFSETTO:-0800
TZNAME:PST
DTSTART:20231105T090000
END:STANDARD
END:VTIMEZONE
BEGIN:VEVENT
DTSTART;TZID=America/Los_Angeles:20230930T090000
DTEND;TZID=America/Los_Angeles:20230930T170000
DTSTAMP:20240109T000856
CREATED:20230523T201830Z
LAST-MODIFIED:20230523T201830Z
UID:10023969-1696064400-1696093200@saintmarks.org
SUMMARY:CONVENE 2023
DESCRIPTION:Reconnect with Episcopalians from across the Diocese\, and join us for this exciting new event open to everyone! Gain new resources and support\, and spend time learning from and networking with churches from every corner of Western Washington! Convene 2023 will feature multiple workshop sessions throughout this day-long opportunity for learning and connection\, preparing us all for the future of our communities\, helping us discover (and rediscover!) new ideas\, and giving us the time and space to share information about programs and ministry opportunities. \nConvene 2023 is designed for leaders\, potential leaders in congregations and interested others – clergy\, staff\, vestries and bishop’s committees\, administrators\, members of convention\, and anyone who wants to reconnect with others in the Diocese over ways to strengthen our congregations. So put together a team from your congregation and get ready to join us on September 30 as we Convene at Everett Community College. \n\n\nLearn more here.
URL:https://saintmarks.org/calendar/convene-2023/
LOCATION:Everett Community College\, 2000 Tower St\, Everett\, WA\, 98201\, United States
END:VEVENT
END:VCALENDAR