BEGIN:VCALENDAR
VERSION:2.0
PRODID:-//Saint Mark&#039;s Episcopal Cathedral - ECPv6.2.9//NONSGML v1.0//EN
CALSCALE:GREGORIAN
METHOD:PUBLISH
X-ORIGINAL-URL:https://saintmarks.org
X-WR-CALDESC:Events for Saint Mark&#039;s Episcopal Cathedral
REFRESH-INTERVAL;VALUE=DURATION:PT1H
X-Robots-Tag:noindex
X-PUBLISHED-TTL:PT1H
BEGIN:VTIMEZONE
TZID:America/Los_Angeles
BEGIN:DAYLIGHT
TZOFFSETFROM:-0800
TZOFFSETTO:-0700
TZNAME:PDT
DTSTART:20240310T100000
END:DAYLIGHT
BEGIN:STANDARD
TZOFFSETFROM:-0700
TZOFFSETTO:-0800
TZNAME:PST
DTSTART:20241103T090000
END:STANDARD
END:VTIMEZONE
BEGIN:VEVENT
DTSTART;TZID=America/Los_Angeles:20240210T090000
DTEND;TZID=America/Los_Angeles:20240210T120000
DTSTAMP:20240108T183640
CREATED:20231110T084701Z
LAST-MODIFIED:20231231T050220Z
UID:10027820-1707555600-1707566400@saintmarks.org
SUMMARY:Cathedral Garden Ministry Work Party
DESCRIPTION:SECOND SUNDAY OF THE MONTH*\, 9 A.M.–12 P.M.\, meet on the front lawn \nThe garden volunteers meet to work on the second Saturday of the month 9 a.m.–noon\, from February through November\, planting\, weeding\, composting and making our campus beautiful. Prior gardening experience is not required\, only enthusiasm! Bring a water bottle and gloves if you have them.Questions contact Norva Osborn: norva@ix.netcom.com \n*does not meet in December or January
URL:https://saintmarks.org/calendar/cathedral-garden-ministry-work-party/2024-02-10/
LOCATION:Front Lawn/Labyrinth
END:VEVENT
BEGIN:VEVENT
DTSTART;TZID=America/Los_Angeles:20240309T090000
DTEND;TZID=America/Los_Angeles:20240309T120000
DTSTAMP:20240108T183640
CREATED:20231110T084701Z
LAST-MODIFIED:20231231T050220Z
UID:10027821-1709974800-1709985600@saintmarks.org
SUMMARY:Cathedral Garden Ministry Work Party
DESCRIPTION:SECOND SUNDAY OF THE MONTH*\, 9 A.M.–12 P.M.\, meet on the front lawn \nThe garden volunteers meet to work on the second Saturday of the month 9 a.m.–noon\, from February through November\, planting\, weeding\, composting and making our campus beautiful. Prior gardening experience is not required\, only enthusiasm! Bring a water bottle and gloves if you have them.Questions contact Norva Osborn: norva@ix.netcom.com \n*does not meet in December or January
URL:https://saintmarks.org/calendar/cathedral-garden-ministry-work-party/2024-03-09/
LOCATION:Front Lawn/Labyrinth
END:VEVENT
BEGIN:VEVENT
DTSTART;TZID=America/Los_Angeles:20240413T090000
DTEND;TZID=America/Los_Angeles:20240413T120000
DTSTAMP:20240108T183640
CREATED:20231110T084701Z
LAST-MODIFIED:20231231T050220Z
UID:10027822-1712998800-1713009600@saintmarks.org
SUMMARY:Cathedral Garden Ministry Work Party
DESCRIPTION:SECOND SUNDAY OF THE MONTH*\, 9 A.M.–12 P.M.\, meet on the front lawn \nThe garden volunteers meet to work on the second Saturday of the month 9 a.m.–noon\, from February through November\, planting\, weeding\, composting and making our campus beautiful. Prior gardening experience is not required\, only enthusiasm! Bring a water bottle and gloves if you have them.Questions contact Norva Osborn: norva@ix.netcom.com \n*does not meet in December or January
URL:https://saintmarks.org/calendar/cathedral-garden-ministry-work-party/2024-04-13/
LOCATION:Front Lawn/Labyrinth
END:VEVENT
BEGIN:VEVENT
DTSTART;TZID=America/Los_Angeles:20240511T090000
DTEND;TZID=America/Los_Angeles:20240511T120000
DTSTAMP:20240108T183640
CREATED:20231110T084701Z
LAST-MODIFIED:20231231T050220Z
UID:10027823-1715418000-1715428800@saintmarks.org
SUMMARY:Cathedral Garden Ministry Work Party
DESCRIPTION:SECOND SUNDAY OF THE MONTH*\, 9 A.M.–12 P.M.\, meet on the front lawn \nThe garden volunteers meet to work on the second Saturday of the month 9 a.m.–noon\, from February through November\, planting\, weeding\, composting and making our campus beautiful. Prior gardening experience is not required\, only enthusiasm! Bring a water bottle and gloves if you have them.Questions contact Norva Osborn: norva@ix.netcom.com \n*does not meet in December or January
URL:https://saintmarks.org/calendar/cathedral-garden-ministry-work-party/2024-05-11/
LOCATION:Front Lawn/Labyrinth
END:VEVENT
BEGIN:VEVENT
DTSTART;TZID=America/Los_Angeles:20240608T090000
DTEND;TZID=America/Los_Angeles:20240608T120000
DTSTAMP:20240108T183640
CREATED:20231110T084701Z
LAST-MODIFIED:20231231T050220Z
UID:10027824-1717837200-1717848000@saintmarks.org
SUMMARY:Cathedral Garden Ministry Work Party
DESCRIPTION:SECOND SUNDAY OF THE MONTH*\, 9 A.M.–12 P.M.\, meet on the front lawn \nThe garden volunteers meet to work on the second Saturday of the month 9 a.m.–noon\, from February through November\, planting\, weeding\, composting and making our campus beautiful. Prior gardening experience is not required\, only enthusiasm! Bring a water bottle and gloves if you have them.Questions contact Norva Osborn: norva@ix.netcom.com \n*does not meet in December or January
URL:https://saintmarks.org/calendar/cathedral-garden-ministry-work-party/2024-06-08/
LOCATION:Front Lawn/Labyrinth
END:VEVENT
BEGIN:VEVENT
DTSTART;TZID=America/Los_Angeles:20240713T090000
DTEND;TZID=America/Los_Angeles:20240713T120000
DTSTAMP:20240108T183640
CREATED:20231110T084701Z
LAST-MODIFIED:20231231T050220Z
UID:10027825-1720861200-1720872000@saintmarks.org
SUMMARY:Cathedral Garden Ministry Work Party
DESCRIPTION:SECOND SUNDAY OF THE MONTH*\, 9 A.M.–12 P.M.\, meet on the front lawn \nThe garden volunteers meet to work on the second Saturday of the month 9 a.m.–noon\, from February through November\, planting\, weeding\, composting and making our campus beautiful. Prior gardening experience is not required\, only enthusiasm! Bring a water bottle and gloves if you have them.Questions contact Norva Osborn: norva@ix.netcom.com \n*does not meet in December or January
URL:https://saintmarks.org/calendar/cathedral-garden-ministry-work-party/2024-07-13/
LOCATION:Front Lawn/Labyrinth
END:VEVENT
BEGIN:VEVENT
DTSTART;TZID=America/Los_Angeles:20240810T090000
DTEND;TZID=America/Los_Angeles:20240810T120000
DTSTAMP:20240108T183640
CREATED:20231110T084701Z
LAST-MODIFIED:20231231T050220Z
UID:10027826-1723280400-1723291200@saintmarks.org
SUMMARY:Cathedral Garden Ministry Work Party
DESCRIPTION:SECOND SUNDAY OF THE MONTH*\, 9 A.M.–12 P.M.\, meet on the front lawn \nThe garden volunteers meet to work on the second Saturday of the month 9 a.m.–noon\, from February through November\, planting\, weeding\, composting and making our campus beautiful. Prior gardening experience is not required\, only enthusiasm! Bring a water bottle and gloves if you have them.Questions contact Norva Osborn: norva@ix.netcom.com \n*does not meet in December or January
URL:https://saintmarks.org/calendar/cathedral-garden-ministry-work-party/2024-08-10/
LOCATION:Front Lawn/Labyrinth
END:VEVENT
BEGIN:VEVENT
DTSTART;TZID=America/Los_Angeles:20240914T090000
DTEND;TZID=America/Los_Angeles:20240914T120000
DTSTAMP:20240108T183640
CREATED:20231110T084701Z
LAST-MODIFIED:20231231T050220Z
UID:10027827-1726304400-1726315200@saintmarks.org
SUMMARY:Cathedral Garden Ministry Work Party
DESCRIPTION:SECOND SUNDAY OF THE MONTH*\, 9 A.M.–12 P.M.\, meet on the front lawn \nThe garden volunteers meet to work on the second Saturday of the month 9 a.m.–noon\, from February through November\, planting\, weeding\, composting and making our campus beautiful. Prior gardening experience is not required\, only enthusiasm! Bring a water bottle and gloves if you have them.Questions contact Norva Osborn: norva@ix.netcom.com \n*does not meet in December or January
URL:https://saintmarks.org/calendar/cathedral-garden-ministry-work-party/2024-09-14/
LOCATION:Front Lawn/Labyrinth
END:VEVENT
BEGIN:VEVENT
DTSTART;TZID=America/Los_Angeles:20241012T090000
DTEND;TZID=America/Los_Angeles:20241012T120000
DTSTAMP:20240108T183640
CREATED:20231110T084701Z
LAST-MODIFIED:20231231T050220Z
UID:10027828-1728723600-1728734400@saintmarks.org
SUMMARY:Cathedral Garden Ministry Work Party
DESCRIPTION:SECOND SUNDAY OF THE MONTH*\, 9 A.M.–12 P.M.\, meet on the front lawn \nThe garden volunteers meet to work on the second Saturday of the month 9 a.m.–noon\, from February through November\, planting\, weeding\, composting and making our campus beautiful. Prior gardening experience is not required\, only enthusiasm! Bring a water bottle and gloves if you have them.Questions contact Norva Osborn: norva@ix.netcom.com \n*does not meet in December or January
URL:https://saintmarks.org/calendar/cathedral-garden-ministry-work-party/2024-10-12/
LOCATION:Front Lawn/Labyrinth
END:VEVENT
BEGIN:VEVENT
DTSTART;TZID=America/Los_Angeles:20241109T090000
DTEND;TZID=America/Los_Angeles:20241109T120000
DTSTAMP:20240108T183640
CREATED:20231110T084701Z
LAST-MODIFIED:20231231T050220Z
UID:10027829-1731142800-1731153600@saintmarks.org
SUMMARY:Cathedral Garden Ministry Work Party
DESCRIPTION:SECOND SUNDAY OF THE MONTH*\, 9 A.M.–12 P.M.\, meet on the front lawn \nThe garden volunteers meet to work on the second Saturday of the month 9 a.m.–noon\, from February through November\, planting\, weeding\, composting and making our campus beautiful. Prior gardening experience is not required\, only enthusiasm! Bring a water bottle and gloves if you have them.Questions contact Norva Osborn: norva@ix.netcom.com \n*does not meet in December or January
URL:https://saintmarks.org/calendar/cathedral-garden-ministry-work-party/2024-11-09/
LOCATION:Front Lawn/Labyrinth
END:VEVENT
END:VCALENDAR