BEGIN:VCALENDAR
VERSION:2.0
PRODID:-//Saint Mark&#039;s Episcopal Cathedral - ECPv6.15.20//NONSGML v1.0//EN
CALSCALE:GREGORIAN
METHOD:PUBLISH
X-ORIGINAL-URL:https://saintmarks.org
X-WR-CALDESC:Events for Saint Mark&#039;s Episcopal Cathedral
REFRESH-INTERVAL;VALUE=DURATION:PT1H
X-Robots-Tag:noindex
X-PUBLISHED-TTL:PT1H
BEGIN:VTIMEZONE
TZID:America/Los_Angeles
BEGIN:DAYLIGHT
TZOFFSETFROM:-0800
TZOFFSETTO:-0700
TZNAME:PDT
DTSTART:20250309T100000
END:DAYLIGHT
BEGIN:STANDARD
TZOFFSETFROM:-0700
TZOFFSETTO:-0800
TZNAME:PST
DTSTART:20251102T090000
END:STANDARD
BEGIN:DAYLIGHT
TZOFFSETFROM:-0800
TZOFFSETTO:-0700
TZNAME:PDT
DTSTART:20260308T100000
END:DAYLIGHT
BEGIN:STANDARD
TZOFFSETFROM:-0700
TZOFFSETTO:-0800
TZNAME:PST
DTSTART:20261101T090000
END:STANDARD
BEGIN:DAYLIGHT
TZOFFSETFROM:-0800
TZOFFSETTO:-0700
TZNAME:PDT
DTSTART:20270314T100000
END:DAYLIGHT
BEGIN:STANDARD
TZOFFSETFROM:-0700
TZOFFSETTO:-0800
TZNAME:PST
DTSTART:20271107T090000
END:STANDARD
END:VTIMEZONE
BEGIN:VEVENT
DTSTART;TZID=America/Los_Angeles:20260119T093000
DTEND;TZID=America/Los_Angeles:20260119T140000
DTSTAMP:20260425T180354
CREATED:20260115T212451Z
LAST-MODIFIED:20260115T212451Z
UID:10065102-1768815000-1768831200@saintmarks.org
SUMMARY:MLK Day Rally & March
DESCRIPTION:MONDAY\, JANUARY 19 at Garfield High School\n9:30 A.M. Workshops; 11 A.M. Rally; 12:30 P.M. March begins \nAll are invited to march with other members of the Saint Mark’s community in the Martin Luther King Jr. Day March\, starting at Garfield High School\, 400 23rd Ave\, Seattle 98122. There will be Opportunity Workshops from 9:30-11:00 a.m. in Garfield classrooms\, a rally in the Garfield gym at 11:00 a.m.\, and then the march will commence from the Garfield main parking lot at 12:30 p.m. Saint Mark’s marchers are asked to gather at 12:15 p.m. on the sidewalk next to the bus loading zone that is parallel to 23rd Ave. Wear comfortable shoes and bring water + snacks! Questions? Contact Wayne Duncan at duncan.sw@gmail.com.
URL:https://saintmarks.org/calendar/mlk-day-rally-march/
LOCATION:Garfield High School\, 400 23rd Ave\, Seattle\, WA\, 98122\, United States
END:VEVENT
END:VCALENDAR