BEGIN:VCALENDAR
VERSION:2.0
PRODID:-//Saint Mark&#039;s Episcopal Cathedral - ECPv6.2.9//NONSGML v1.0//EN
CALSCALE:GREGORIAN
METHOD:PUBLISH
X-WR-CALNAME:Saint Mark&#039;s Episcopal Cathedral
X-ORIGINAL-URL:https://saintmarks.org
X-WR-CALDESC:Events for Saint Mark&#039;s Episcopal Cathedral
REFRESH-INTERVAL;VALUE=DURATION:PT1H
X-Robots-Tag:noindex
X-PUBLISHED-TTL:PT1H
BEGIN:VTIMEZONE
TZID:America/Los_Angeles
BEGIN:DAYLIGHT
TZOFFSETFROM:-0800
TZOFFSETTO:-0700
TZNAME:PDT
DTSTART:20220313T100000
END:DAYLIGHT
BEGIN:STANDARD
TZOFFSETFROM:-0700
TZOFFSETTO:-0800
TZNAME:PST
DTSTART:20221106T090000
END:STANDARD
BEGIN:DAYLIGHT
TZOFFSETFROM:-0800
TZOFFSETTO:-0700
TZNAME:PDT
DTSTART:20230312T100000
END:DAYLIGHT
BEGIN:STANDARD
TZOFFSETFROM:-0700
TZOFFSETTO:-0800
TZNAME:PST
DTSTART:20231105T090000
END:STANDARD
END:VTIMEZONE
BEGIN:VEVENT
DTSTART;TZID=America/Los_Angeles:20231212T123000
DTEND;TZID=America/Los_Angeles:20231212T143000
DTSTAMP:20240109T000933
CREATED:20231208T024858Z
LAST-MODIFIED:20231208T024858Z
UID:10027934-1702384200-1702391400@saintmarks.org
SUMMARY:Leffler Garden Work Party
DESCRIPTION:TUESDAY\, DECEMBER 12\, 12:30-2:30 P.M.\, Leffler Garden \nCome be a part of helping revitalize the Leffler Garden with a winter clean up. All are welcome and no gardening experience required. Warm beverages and light snacks will be provided. Bring gloves and clothes that can get dirty. Questions? Email Emily Meeks: emeeks@saintmarks.org
URL:https://saintmarks.org/calendar/leffler-garden-work-party-2/
LOCATION:Leffler Garden
END:VEVENT
BEGIN:VEVENT
DTSTART;TZID=America/Los_Angeles:20231007T150000
DTEND;TZID=America/Los_Angeles:20231007T160000
DTSTAMP:20240109T000933
CREATED:20230908T074117Z
LAST-MODIFIED:20230908T083046Z
UID:10027411-1696690800-1696694400@saintmarks.org
SUMMARY:Composting Workshop with the City of Seattle and Nurturing Roots
DESCRIPTION:SATURDAY\, OCTOBER 7\, 3–4 P.M.\, Leffler Garden \nHosted by the 20s/30s group and the Creation Care Ministry \nLearn about composting basics at home and how to use compost in your home garden. Representatives from the City of Seattle’s Master Composter Sustainability Program and Nurturing Roots Farm will guide the interactive discussion and activities. Enjoy snacks and refreshments on the Cathedral front porch before the St. Francis Celebration and Blessing of the Animals at 4:30 that day. Questions? Email Emily: emeeks@saintmarks.org
URL:https://saintmarks.org/calendar/composting-workshop-with-the-city-of-seattle-and-nurturing-roots/
LOCATION:Leffler Garden
END:VEVENT
BEGIN:VEVENT
DTSTART;TZID=America/Los_Angeles:20230815T183000
DTEND;TZID=America/Los_Angeles:20230815T200000
DTSTAMP:20240109T000933
CREATED:20230809T215411Z
LAST-MODIFIED:20230809T215925Z
UID:10026838-1692124200-1692129600@saintmarks.org
SUMMARY:Creation Care Ministry Potluck
DESCRIPTION:In lieu of the regular third-Tuesday monthly ministry meeting\, the Creation Care ministry will gather for an in-person potluck social on August 15\, 6:30 p.m. in Leffler Garden. Contact ministry leaders Kathy Minsch & Marjorie Ringness: creationcare@saintmarks.org
URL:https://saintmarks.org/calendar/creation-care-ministry-potluck/
LOCATION:Leffler Garden
END:VEVENT
BEGIN:VEVENT
DTSTART;TZID=America/Los_Angeles:20220821T121500
DTEND;TZID=America/Los_Angeles:20220821T133000
DTSTAMP:20240109T000933
CREATED:20220819T043002Z
LAST-MODIFIED:20220819T044424Z
UID:10019718-1661084100-1661088600@saintmarks.org
SUMMARY:Ingergenerational Garden Gathering
DESCRIPTION:SUNDAY\, AUGUST 21\, 12:15 P.M.\, in the Leffler House Garden (entrance near the south exit driveway) \nThe Leffler House Garden will be open for a casual intergenerational gathering following the 11 am service on Sunday\, August 21. Please drop by to experience the garden at the height of its summer beauty\, and to enjoy some refreshments\, conversation\, nature\, and play!
URL:https://saintmarks.org/calendar/ingergenerational-garden-gathering/
LOCATION:Leffler Garden
END:VEVENT
BEGIN:VEVENT
DTSTART;TZID=America/Los_Angeles:20220522T101000
DTEND;TZID=America/Los_Angeles:20220522T225000
DTSTAMP:20240109T000933
CREATED:20220519T051415Z
LAST-MODIFIED:20220519T051415Z
UID:10019601-1653214200-1653259800@saintmarks.org
SUMMARY:Children's Activities in Leffler Garden
DESCRIPTION:At the same time as the “Friends Talking” Forum with Dean Thomason and Rabbi Weiner in Bloedel Hall\, there will be learning and fun about the Jewish faith for children in the Leffler House garden.
URL:https://saintmarks.org/calendar/childrens-activities-in-leffler-garden/
LOCATION:Leffler Garden
END:VEVENT
END:VCALENDAR