BEGIN:VCALENDAR
VERSION:2.0
PRODID:-//Saint Mark&#039;s Episcopal Cathedral - ECPv6.2.9//NONSGML v1.0//EN
CALSCALE:GREGORIAN
METHOD:PUBLISH
X-ORIGINAL-URL:https://saintmarks.org
X-WR-CALDESC:Events for Saint Mark&#039;s Episcopal Cathedral
REFRESH-INTERVAL;VALUE=DURATION:PT1H
X-Robots-Tag:noindex
X-PUBLISHED-TTL:PT1H
BEGIN:VTIMEZONE
TZID:America/Los_Angeles
BEGIN:DAYLIGHT
TZOFFSETFROM:-0800
TZOFFSETTO:-0700
TZNAME:PDT
DTSTART:20220313T100000
END:DAYLIGHT
BEGIN:STANDARD
TZOFFSETFROM:-0700
TZOFFSETTO:-0800
TZNAME:PST
DTSTART:20221106T090000
END:STANDARD
END:VTIMEZONE
BEGIN:VEVENT
DTSTART;TZID=America/Los_Angeles:20220319T110000
DTEND;TZID=America/Los_Angeles:20220319T140000
DTSTAMP:20240109T000917
CREATED:20220311T005429Z
LAST-MODIFIED:20220311T005429Z
UID:10019565-1647687600-1647698400@saintmarks.org
SUMMARY:*Lowell Elementary Garden Volunteer Day
DESCRIPTION:SATURDAY\, MARCH 19\, drop in any time from 11 a.m. to 2 p.m. in the playground area at Lowell Elementary on Capitol Hill\n\nVolunteers are needed to lay down mulch and cardboard in the garden at Lowell Elementary as they prepare for a new growing season. Volunteers must be vaccinated and wear masks. If you have extra cardboard\, please bring to donate\, removing stickers and tape. If interested\, please email Cherie Bradshaw at bradshawcherie@msn.com to get sign-up information.
URL:https://saintmarks.org/calendar/lowell-elementary-garden-volunteer-day/
LOCATION:Lowell Elementary School\, 1058 E Mercer St.\, Seattle\, WA\, 98012\, United States
END:VEVENT
END:VCALENDAR