BEGIN:VCALENDAR
VERSION:2.0
PRODID:-//Saint Mark&#039;s Episcopal Cathedral - ECPv6.2.9//NONSGML v1.0//EN
CALSCALE:GREGORIAN
METHOD:PUBLISH
X-WR-CALNAME:Saint Mark&#039;s Episcopal Cathedral
X-ORIGINAL-URL:https://saintmarks.org
X-WR-CALDESC:Events for Saint Mark&#039;s Episcopal Cathedral
REFRESH-INTERVAL;VALUE=DURATION:PT1H
X-Robots-Tag:noindex
X-PUBLISHED-TTL:PT1H
BEGIN:VTIMEZONE
TZID:America/Los_Angeles
BEGIN:DAYLIGHT
TZOFFSETFROM:-0800
TZOFFSETTO:-0700
TZNAME:PDT
DTSTART:20230312T100000
END:DAYLIGHT
BEGIN:STANDARD
TZOFFSETFROM:-0700
TZOFFSETTO:-0800
TZNAME:PST
DTSTART:20231105T090000
END:STANDARD
END:VTIMEZONE
BEGIN:VEVENT
DTSTART;TZID=America/Los_Angeles:20231118T100000
DTEND;TZID=America/Los_Angeles:20231118T140000
DTSTAMP:20240109T000851
CREATED:20230923T003258Z
LAST-MODIFIED:20230923T015127Z
UID:10027443-1700301600-1700316000@saintmarks.org
SUMMARY:Greenbelt Work Party
DESCRIPTION:FOUR SATURDAYS: SEPTEMBER 30\, OCTOBER 14\, OCTOBER 28\, AND NOVEMBER 18\, 10 A.M.–2 P.M. \nParishioner Robert Hayden\, longtime forest steward for the Saint Mark’s Greenbelt\, led a wonderful tour through the Greenbelt last Sunday. Now it’s time to get our hands dirty! Work parties are scheduled every 2 weeks beginning Saturday\, September 30\, then October 14\, October 28\, and November 18. Each work party is limited to 18 people\, and you MUST SIGN UP BEFOREHAND for each date. More details and sign-up can be found here. Sign up links for each event can be found at: \n\nSeptember 30\nOctober 14\nOctober 28\nNovember 18\n\nYou do not need to commit to working all of these dates. (Please note the closure of the north parking lot on September 30.) Tools and training will be provided. Bring a snack and a water bottle\, and enjoy working alongside fellow parishioners and members of the community in this beloved space. For questions and more details contact Guy Oram or Kathy Minsch at: creationcare@saintmarks.org
URL:https://saintmarks.org/calendar/greenbelt-work-party/2023-11-18/
LOCATION:Lower Parking Lot\, 1245 10th Ave E\, Seattle\, WA\, 98102\, United States
END:VEVENT
BEGIN:VEVENT
DTSTART;TZID=America/Los_Angeles:20231028T100000
DTEND;TZID=America/Los_Angeles:20231028T140000
DTSTAMP:20240109T000851
CREATED:20230923T003258Z
LAST-MODIFIED:20230923T015127Z
UID:10027442-1698487200-1698501600@saintmarks.org
SUMMARY:Greenbelt Work Party
DESCRIPTION:FOUR SATURDAYS: SEPTEMBER 30\, OCTOBER 14\, OCTOBER 28\, AND NOVEMBER 18\, 10 A.M.–2 P.M. \nParishioner Robert Hayden\, longtime forest steward for the Saint Mark’s Greenbelt\, led a wonderful tour through the Greenbelt last Sunday. Now it’s time to get our hands dirty! Work parties are scheduled every 2 weeks beginning Saturday\, September 30\, then October 14\, October 28\, and November 18. Each work party is limited to 18 people\, and you MUST SIGN UP BEFOREHAND for each date. More details and sign-up can be found here. Sign up links for each event can be found at: \n\nSeptember 30\nOctober 14\nOctober 28\nNovember 18\n\nYou do not need to commit to working all of these dates. (Please note the closure of the north parking lot on September 30.) Tools and training will be provided. Bring a snack and a water bottle\, and enjoy working alongside fellow parishioners and members of the community in this beloved space. For questions and more details contact Guy Oram or Kathy Minsch at: creationcare@saintmarks.org
URL:https://saintmarks.org/calendar/greenbelt-work-party/2023-10-28/
LOCATION:Lower Parking Lot\, 1245 10th Ave E\, Seattle\, WA\, 98102\, United States
END:VEVENT
BEGIN:VEVENT
DTSTART;TZID=America/Los_Angeles:20231014T100000
DTEND;TZID=America/Los_Angeles:20231014T140000
DTSTAMP:20240109T000851
CREATED:20230923T003258Z
LAST-MODIFIED:20230923T015127Z
UID:10027441-1697277600-1697292000@saintmarks.org
SUMMARY:Greenbelt Work Party
DESCRIPTION:FOUR SATURDAYS: SEPTEMBER 30\, OCTOBER 14\, OCTOBER 28\, AND NOVEMBER 18\, 10 A.M.–2 P.M. \nParishioner Robert Hayden\, longtime forest steward for the Saint Mark’s Greenbelt\, led a wonderful tour through the Greenbelt last Sunday. Now it’s time to get our hands dirty! Work parties are scheduled every 2 weeks beginning Saturday\, September 30\, then October 14\, October 28\, and November 18. Each work party is limited to 18 people\, and you MUST SIGN UP BEFOREHAND for each date. More details and sign-up can be found here. Sign up links for each event can be found at: \n\nSeptember 30\nOctober 14\nOctober 28\nNovember 18\n\nYou do not need to commit to working all of these dates. (Please note the closure of the north parking lot on September 30.) Tools and training will be provided. Bring a snack and a water bottle\, and enjoy working alongside fellow parishioners and members of the community in this beloved space. For questions and more details contact Guy Oram or Kathy Minsch at: creationcare@saintmarks.org
URL:https://saintmarks.org/calendar/greenbelt-work-party/2023-10-14/
LOCATION:Lower Parking Lot\, 1245 10th Ave E\, Seattle\, WA\, 98102\, United States
END:VEVENT
BEGIN:VEVENT
DTSTART;TZID=America/Los_Angeles:20230930T100000
DTEND;TZID=America/Los_Angeles:20230930T140000
DTSTAMP:20240109T000851
CREATED:20230923T003258Z
LAST-MODIFIED:20230923T015127Z
UID:10027440-1696068000-1696082400@saintmarks.org
SUMMARY:Greenbelt Work Party
DESCRIPTION:FOUR SATURDAYS: SEPTEMBER 30\, OCTOBER 14\, OCTOBER 28\, AND NOVEMBER 18\, 10 A.M.–2 P.M. \nParishioner Robert Hayden\, longtime forest steward for the Saint Mark’s Greenbelt\, led a wonderful tour through the Greenbelt last Sunday. Now it’s time to get our hands dirty! Work parties are scheduled every 2 weeks beginning Saturday\, September 30\, then October 14\, October 28\, and November 18. Each work party is limited to 18 people\, and you MUST SIGN UP BEFOREHAND for each date. More details and sign-up can be found here. Sign up links for each event can be found at: \n\nSeptember 30\nOctober 14\nOctober 28\nNovember 18\n\nYou do not need to commit to working all of these dates. (Please note the closure of the north parking lot on September 30.) Tools and training will be provided. Bring a snack and a water bottle\, and enjoy working alongside fellow parishioners and members of the community in this beloved space. For questions and more details contact Guy Oram or Kathy Minsch at: creationcare@saintmarks.org
URL:https://saintmarks.org/calendar/greenbelt-work-party/2023-09-30/
LOCATION:Lower Parking Lot\, 1245 10th Ave E\, Seattle\, WA\, 98102\, United States
END:VEVENT
END:VCALENDAR