BEGIN:VCALENDAR
VERSION:2.0
PRODID:-//Saint Mark&#039;s Episcopal Cathedral - ECPv6.2.9//NONSGML v1.0//EN
CALSCALE:GREGORIAN
METHOD:PUBLISH
X-ORIGINAL-URL:https://saintmarks.org
X-WR-CALDESC:Events for Saint Mark&#039;s Episcopal Cathedral
REFRESH-INTERVAL;VALUE=DURATION:PT1H
X-Robots-Tag:noindex
X-PUBLISHED-TTL:PT1H
BEGIN:VTIMEZONE
TZID:America/Los_Angeles
BEGIN:DAYLIGHT
TZOFFSETFROM:-0800
TZOFFSETTO:-0700
TZNAME:PDT
DTSTART:20230312T100000
END:DAYLIGHT
BEGIN:STANDARD
TZOFFSETFROM:-0700
TZOFFSETTO:-0800
TZNAME:PST
DTSTART:20231105T090000
END:STANDARD
END:VTIMEZONE
BEGIN:VEVENT
DTSTART;TZID=America/Los_Angeles:20230513T140000
DTEND;TZID=America/Los_Angeles:20230513T150000
DTSTAMP:20240109T000849
CREATED:20230414T040925Z
LAST-MODIFIED:20230414T040925Z
UID:10023913-1683986400-1683990000@saintmarks.org
SUMMARY:"Behind the Seams" at MOHAI
DESCRIPTION:SATURDAY\, MAY 13\, 2–3 P.M.\, MOHAI and White Swan Public House. Sign up required. \nHosted by 20s/30s—All are welcome  \nBeauty is in the eye of the beholder! The aesthetics of fashion are constantly changing and with it our perception of what looks good. We’ll join MOHAI Curator of Collections and 20s/30s member\, Clara Berg\, for an in-person\, one-hour session to view the historic fashions in MOHAI’s collection which were once stylish but don’t translate well to our modern eyes. What do you think—is it fabulous or frightful? \nSome may choose to join early (12:30 p.m.) to visit the museum’s exhibit and/or join after (3:30 p.m.) for snacks and refreshments at White Swan Public House. \nTickets are required for Behind the Seams admission. A limited number of discounted tickets from Saint Mark’s are available ($20). Sign up here. Questions? Email Betsy Heimburger: betsy.heimburger@gmail.com
URL:https://saintmarks.org/calendar/behind-the-seams-at-mohai/
LOCATION:MOHAI\, 860 Terry Ave N\, Seattle\, WA\, 98109\, United States
END:VEVENT
END:VCALENDAR