BEGIN:VCALENDAR
VERSION:2.0
PRODID:-//Saint Mark&#039;s Episcopal Cathedral - ECPv6.2.9//NONSGML v1.0//EN
CALSCALE:GREGORIAN
METHOD:PUBLISH
X-ORIGINAL-URL:https://saintmarks.org
X-WR-CALDESC:Events for Saint Mark&#039;s Episcopal Cathedral
REFRESH-INTERVAL;VALUE=DURATION:PT1H
X-Robots-Tag:noindex
X-PUBLISHED-TTL:PT1H
BEGIN:VTIMEZONE
TZID:America/Los_Angeles
BEGIN:DAYLIGHT
TZOFFSETFROM:-0800
TZOFFSETTO:-0700
TZNAME:PDT
DTSTART:20230312T100000
END:DAYLIGHT
BEGIN:STANDARD
TZOFFSETFROM:-0700
TZOFFSETTO:-0800
TZNAME:PST
DTSTART:20231105T090000
END:STANDARD
END:VTIMEZONE
BEGIN:VEVENT
DTSTART;VALUE=DATE:20230818
DTEND;VALUE=DATE:20230822
DTSTAMP:20240109T000914
CREATED:20230530T234202Z
LAST-MODIFIED:20230606T210518Z
UID:10023968-1692324000-1692583199@saintmarks.org
SUMMARY:A Holy Waste of Time Young Adult Retreat
DESCRIPTION:Adults in their 20s & 30s from around the Diocese of Olympia are invited to our annual weekend of fun\, friendship\, faith\, and blessed time-wasting at St. Andrew’s House\, a gorgeous rustic lodge situated on the Hood Canal with the Olympic Mountains just beyond. \nMore information TBA
URL:https://saintmarks.org/calendar/a-holy-waste-of-time-young-adult-retreat/
LOCATION:St. Andrew’s House\, 7550 WA-106\, Union\, WA 98592
END:VEVENT
END:VCALENDAR